BEGIN:VCALENDAR
VERSION:2.0
PRODID:-//VegMichigan - ECPv5.16.1.1//NONSGML v1.0//EN
CALSCALE:GREGORIAN
METHOD:PUBLISH
X-WR-CALNAME:VegMichigan
X-ORIGINAL-URL:https://vegmichigan.org
X-WR-CALDESC:Events for VegMichigan
REFRESH-INTERVAL;VALUE=DURATION:PT1H
X-Robots-Tag:noindex
X-PUBLISHED-TTL:PT1H
BEGIN:VTIMEZONE
TZID:America/New_York
BEGIN:DAYLIGHT
TZOFFSETFROM:-0500
TZOFFSETTO:-0400
TZNAME:EDT
DTSTART:20240310T070000
END:DAYLIGHT
BEGIN:STANDARD
TZOFFSETFROM:-0400
TZOFFSETTO:-0500
TZNAME:EST
DTSTART:20241103T060000
END:STANDARD
END:VTIMEZONE
BEGIN:VEVENT
DTSTART;TZID=America/New_York:20240720T120000
DTEND;TZID=America/New_York:20240720T180000
DTSTAMP:20260424T081557
CREATED:20240625T182357Z
LAST-MODIFIED:20240625T182357Z
UID:14113-1721476800-1721498400@vegmichigan.org
SUMMARY:DETROIT ABLOOM'S 5TH ANNUAL VEGAN FESTIVAL
DESCRIPTION:DETROIT ABLOOM’S 5TH ANNUAL VEGAN FESTIVAL\n\nVegMichigan will be providing information about the benefits of eating plant-based and taking action to prevent the expansion of factory farms in Michigan.\n\nFree Event and open to the public.\n\nFor more information visit\, https://www.detroitabloom.com/vegan-fest
URL:https://vegmichigan.org/event/detroit-ablooms-5th-annual-vegan-festival/
ATTACH;FMTTYPE=image/jpeg:https://vegmichigan.org/wp-content/uploads/2024/06/20230722_151625-scaled.jpg
END:VEVENT
END:VCALENDAR