BEGIN:VCALENDAR
VERSION:2.0
PRODID:-//VegMichigan - ECPv5.16.1.1//NONSGML v1.0//EN
CALSCALE:GREGORIAN
METHOD:PUBLISH
X-WR-CALNAME:VegMichigan
X-ORIGINAL-URL:https://vegmichigan.org
X-WR-CALDESC:Events for VegMichigan
REFRESH-INTERVAL;VALUE=DURATION:PT1H
X-Robots-Tag:noindex
X-PUBLISHED-TTL:PT1H
BEGIN:VTIMEZONE
TZID:America/New_York
BEGIN:DAYLIGHT
TZOFFSETFROM:-0500
TZOFFSETTO:-0400
TZNAME:EDT
DTSTART:20240310T070000
END:DAYLIGHT
BEGIN:STANDARD
TZOFFSETFROM:-0400
TZOFFSETTO:-0500
TZNAME:EST
DTSTART:20241103T060000
END:STANDARD
END:VTIMEZONE
BEGIN:VEVENT
DTSTART;VALUE=DATE:20240904
DTEND;VALUE=DATE:20240905
DTSTAMP:20260424T113633
CREATED:20240815T144430Z
LAST-MODIFIED:20240815T144430Z
UID:14345-1725408000-1725494399@vegmichigan.org
SUMMARY:WCC WELCOME DAY
DESCRIPTION:WCC WELCOME DAY\n\nVegMichigan will table at Washtenaw Community College’s Welcome Day event\, sharing information about the connection between food and climate\, and signing up participants for our 30-Day Pledge.
URL:https://vegmichigan.org/event/wcc-welcome-day/
CATEGORIES:A2Zero webpage
ATTACH;FMTTYPE=image/jpeg:https://vegmichigan.org/wp-content/uploads/2024/08/WCC-scaled.jpg
END:VEVENT
BEGIN:VEVENT
DTSTART;TZID=America/New_York:20240904T193000
DTEND;TZID=America/New_York:20240904T210000
DTSTAMP:20260424T113633
CREATED:20240625T183246Z
LAST-MODIFIED:20240831T132518Z
UID:14116-1725478200-1725483600@vegmichigan.org
SUMMARY:THE SMELL OF MONEY FILM SCREENING (FREE APPETIZERS)
DESCRIPTION:THE SMELL OF MONEY FILM SCREENING\n\nCome to the Ann Arbor debut screening of this powerful environmental justice film featuring rural residents who take on large-scale animal agriculture to preserve the health and wellbeing of themselves\, their community\, and the environment. Plant-Based Appetizers will be served during the pre-reception from Earthen Jar.\n\nReception and Free Appetizers: 6:30 – 7:30\nFilm: 7:30 – 9:00\nPost-Film: 9:00 – 9:30pm\n\nMichigan Theatre\, 603 E Liberty St\, Ann Arbor\, MI 48104\n\nPurchase Tickets on the Michigan Theater Website
URL:https://vegmichigan.org/event/the-smell-of-money-film-screening/
LOCATION:Michigan Theatre\, 603 E Liberty St\, Ann Arbor\, MI 48104
CATEGORIES:A2Zero webpage
ATTACH;FMTTYPE=image/png:https://vegmichigan.org/wp-content/uploads/2024/06/Smell-of-Money.png
END:VEVENT
END:VCALENDAR