BEGIN:VCALENDAR
VERSION:2.0
PRODID:-//VegMichigan - ECPv5.16.1.1//NONSGML v1.0//EN
CALSCALE:GREGORIAN
METHOD:PUBLISH
X-WR-CALNAME:VegMichigan
X-ORIGINAL-URL:https://vegmichigan.org
X-WR-CALDESC:Events for VegMichigan
REFRESH-INTERVAL;VALUE=DURATION:PT1H
X-Robots-Tag:noindex
X-PUBLISHED-TTL:PT1H
BEGIN:VTIMEZONE
TZID:America/New_York
BEGIN:DAYLIGHT
TZOFFSETFROM:-0500
TZOFFSETTO:-0400
TZNAME:EDT
DTSTART:20240310T070000
END:DAYLIGHT
BEGIN:STANDARD
TZOFFSETFROM:-0400
TZOFFSETTO:-0500
TZNAME:EST
DTSTART:20241103T060000
END:STANDARD
END:VTIMEZONE
BEGIN:VEVENT
DTSTART;TZID=America/New_York:20240905T180000
DTEND;TZID=America/New_York:20240905T193000
DTSTAMP:20260424T113633
CREATED:20240722T153752Z
LAST-MODIFIED:20240722T153752Z
UID:14275-1725559200-1725564600@vegmichigan.org
SUMMARY:BOOK CLUB: "THE BOOK OF HOPE: A SURVIVAL GUIDE FOR TRYING TIMES" BY JANE GOODALL AND DOUGLASS ABRAMS
DESCRIPTION:BOOK CLUB: “THE BOOK OF HOPE: A SURVIVAL GUIDE FOR TRYING TIMES” BY JANE GOODALL AND DOUGLAS ABRAMS \nWhether you are new to Book Club or have participated before\, welcome! Many of us think we are going through “trying times” and our choice of this book is to provide a new perspective from a trusted person\, Jane Goodall. \nWe ask that you read all or part of the book prior to the discussion and come prepared with at least one question the reading brought up\, and one thing you learned or that resonated with you. \nYou can obtain the book from one of these sources:\nYour local library (If they don’t have the book\, you can request it through an inter-library loan\, or request that the library purchase it.) \nSeveral online booksellers have it available at reasonable prices if you do an online search for “The Book of Hope”. \nRegister in advance for this meeting:\nhttps://us06web.zoom.us/meeting/register/tZcqceitqTorE9bf7xW0dNnLxx1TvdztEf9s\n\nAfter registering\, you will receive a confirmation email containing information about joining the meeting.
URL:https://vegmichigan.org/event/14275/
ATTACH;FMTTYPE=image/jpeg:https://vegmichigan.org/wp-content/uploads/2024/07/unnamed-18.jpg
END:VEVENT
END:VCALENDAR