BEGIN:VCALENDAR
VERSION:2.0
PRODID:-//VegMichigan - ECPv5.16.1.1//NONSGML v1.0//EN
CALSCALE:GREGORIAN
METHOD:PUBLISH
X-WR-CALNAME:VegMichigan
X-ORIGINAL-URL:https://vegmichigan.org
X-WR-CALDESC:Events for VegMichigan
REFRESH-INTERVAL;VALUE=DURATION:PT1H
X-Robots-Tag:noindex
X-PUBLISHED-TTL:PT1H
BEGIN:VTIMEZONE
TZID:America/New_York
BEGIN:DAYLIGHT
TZOFFSETFROM:-0500
TZOFFSETTO:-0400
TZNAME:EDT
DTSTART:20240310T070000
END:DAYLIGHT
BEGIN:STANDARD
TZOFFSETFROM:-0400
TZOFFSETTO:-0500
TZNAME:EST
DTSTART:20241103T060000
END:STANDARD
END:VTIMEZONE
BEGIN:VEVENT
DTSTART;TZID=America/New_York:20240908T110000
DTEND;TZID=America/New_York:20240908T170000
DTSTAMP:20260424T113634
CREATED:20230614T190041Z
LAST-MODIFIED:20240328T183129Z
UID:11484-1725793200-1725814800@vegmichigan.org
SUMMARY:VEGMICHIGAN'S 8TH ANNUAL FALL VEGFEST
DESCRIPTION:VEGMICHIGAN’S 8TH ANNUAL FALL VEGFEST \nJoin us on Sunday\, September 10th from 11 am to 5 pm at Riley Park in downtown Farmington for our 8th Annual Fall VegFest! \nThe festival will have delicious plant-based food\, sustainable shopping\, live music\, fun for the kids\, and FREE admission! \nLearn more HERE.  See you there! \nInterested in volunteering? Please email katie@vegmichigan.org
URL:https://vegmichigan.org/event/vegmichigans-8th-annual-fall-vegfest/
ATTACH;FMTTYPE=image/jpeg:https://vegmichigan.org/wp-content/uploads/2023/09/VegMI_FallFest2023_-109.jpg
END:VEVENT
END:VCALENDAR