BEGIN:VCALENDAR
VERSION:2.0
PRODID:-//VegMichigan - ECPv5.16.1.1//NONSGML v1.0//EN
CALSCALE:GREGORIAN
METHOD:PUBLISH
X-WR-CALNAME:VegMichigan
X-ORIGINAL-URL:https://vegmichigan.org
X-WR-CALDESC:Events for VegMichigan
REFRESH-INTERVAL;VALUE=DURATION:PT1H
X-Robots-Tag:noindex
X-PUBLISHED-TTL:PT1H
BEGIN:VTIMEZONE
TZID:America/New_York
BEGIN:DAYLIGHT
TZOFFSETFROM:-0500
TZOFFSETTO:-0400
TZNAME:EDT
DTSTART:20240310T070000
END:DAYLIGHT
BEGIN:STANDARD
TZOFFSETFROM:-0400
TZOFFSETTO:-0500
TZNAME:EST
DTSTART:20241103T060000
END:STANDARD
END:VTIMEZONE
BEGIN:VEVENT
DTSTART;TZID=America/New_York:20240909T180000
DTEND;TZID=America/New_York:20240909T190000
DTSTAMP:20260424T113632
CREATED:20240321T212813Z
LAST-MODIFIED:20240321T212813Z
UID:13219-1725904800-1725908400@vegmichigan.org
SUMMARY:MICHIGANDERS FOR A JUST FARMING SYSTEM COALITION MONTHLY MEETING
DESCRIPTION:MICHIGANDERS FOR A JUST FARMING SYSTEM COALITION MONTHLY MEETING \nJoin us for the Michiganders for a Just Farming System coalition’s monthly meeting. Everyone is welcome! \nLearn more about Michiganders for a Just Farming System – https://justfarmingsystem.com/ \nRegister in advance for this meeting:\nhttps://us06web.zoom.us/meeting/register/tZ0sd-2qrjsuGdAJWupPPUwIdEm_-TbpuP5c\nAfter registering\, you will receive a confirmation email containing information about joining the meeting.
URL:https://vegmichigan.org/event/michiganders-for-a-just-farming-system-coalition-monthly-meeting-4/
ATTACH;FMTTYPE=image/png:https://vegmichigan.org/wp-content/uploads/2024/03/Screenshot-2024-03-21-at-5.09.45-PM.png
END:VEVENT
END:VCALENDAR