BEGIN:VCALENDAR
VERSION:2.0
PRODID:-//VegMichigan - ECPv5.16.1.1//NONSGML v1.0//EN
CALSCALE:GREGORIAN
METHOD:PUBLISH
X-WR-CALNAME:VegMichigan
X-ORIGINAL-URL:https://vegmichigan.org
X-WR-CALDESC:Events for VegMichigan
REFRESH-INTERVAL;VALUE=DURATION:PT1H
X-Robots-Tag:noindex
X-PUBLISHED-TTL:PT1H
BEGIN:VTIMEZONE
TZID:America/New_York
BEGIN:DAYLIGHT
TZOFFSETFROM:-0500
TZOFFSETTO:-0400
TZNAME:EDT
DTSTART:20240310T070000
END:DAYLIGHT
BEGIN:STANDARD
TZOFFSETFROM:-0400
TZOFFSETTO:-0500
TZNAME:EST
DTSTART:20241103T060000
END:STANDARD
END:VTIMEZONE
BEGIN:VEVENT
DTSTART;TZID=America/New_York:20240911T070000
DTEND;TZID=America/New_York:20240911T150000
DTSTAMP:20260424T113633
CREATED:20240829T153028Z
LAST-MODIFIED:20240829T153028Z
UID:14451-1726038000-1726066800@vegmichigan.org
SUMMARY:ANN ARBOR FARMERS MARKET
DESCRIPTION:ANN ARBOR FARMERS MARKET\n\nVegMichigan will be at the market sharing information about food and climate\, offering free plant-based food samples to shoppers\, and signing up participants for our 30-Day Plant-Based Pledge.\n\nLocation: Ann Arbor Farmers Market\, 315 Detroit St\, Ann Arbor\, MI 48104
URL:https://vegmichigan.org/event/ann-arbor-farmers-market-3/
LOCATION:Ann Arbor Farmers Market\, 315 Detroit St\, Ann Arbor\, MI 48104
CATEGORIES:A2Zero webpage
ATTACH;FMTTYPE=image/png:https://vegmichigan.org/wp-content/uploads/2024/08/Farmers-Market-2.png
END:VEVENT
END:VCALENDAR