BEGIN:VCALENDAR
VERSION:2.0
PRODID:-//VegMichigan - ECPv5.16.1.1//NONSGML v1.0//EN
CALSCALE:GREGORIAN
METHOD:PUBLISH
X-ORIGINAL-URL:https://vegmichigan.org
X-WR-CALDESC:Events for VegMichigan
REFRESH-INTERVAL;VALUE=DURATION:PT1H
X-Robots-Tag:noindex
X-PUBLISHED-TTL:PT1H
BEGIN:VTIMEZONE
TZID:America/New_York
BEGIN:DAYLIGHT
TZOFFSETFROM:-0500
TZOFFSETTO:-0400
TZNAME:EDT
DTSTART:20240310T070000
END:DAYLIGHT
BEGIN:STANDARD
TZOFFSETFROM:-0400
TZOFFSETTO:-0500
TZNAME:EST
DTSTART:20241103T060000
END:STANDARD
END:VTIMEZONE
BEGIN:VEVENT
DTSTART;TZID=America/New_York:20240912T120000
DTEND;TZID=America/New_York:20240912T133000
DTSTAMP:20260424T113641
CREATED:20240815T144833Z
LAST-MODIFIED:20240904T152306Z
UID:14351-1726142400-1726147800@vegmichigan.org
SUMMARY:LUNCH MEETUP AT INDIA FLAVORS (POSTPONED DUE TO STORM DAMAGE)
DESCRIPTION:LUNCH MEETUP AT INDIA FLAVORS\n\n**Postponed due to storm damage! Unfortunately India Flavors suffered some significant damage to their roof in the recent thunderstorm. The restaurant is closed for about two months while repairs are completed. We will reschedule when they re-open.\n\nJoin VegMichigan for a delicious lunch buffet of traditional Indian cuisine!\n\nRSVP Required. RSVP Here – https://www.meetup.com/vegmichigan-metro-detroit-meetup/events/302810672/?eventOrigin=group_upcoming_events\n\nJoin us here – India Flavors\, 29205 Orchard Lake Rd\, Farmington Hills\, MI 48334
URL:https://vegmichigan.org/event/lunch-meetup-at-india-flavors/
LOCATION:India Flavors\, 29205 Orchard Lake Rd\, Farmington Hills\, MI 48334
ATTACH;FMTTYPE=image/png:https://vegmichigan.org/wp-content/uploads/2024/08/India-Flavors.png
END:VEVENT
END:VCALENDAR