BEGIN:VCALENDAR
VERSION:2.0
PRODID:-//VegMichigan - ECPv5.16.1.1//NONSGML v1.0//EN
CALSCALE:GREGORIAN
METHOD:PUBLISH
X-ORIGINAL-URL:https://vegmichigan.org
X-WR-CALDESC:Events for VegMichigan
REFRESH-INTERVAL;VALUE=DURATION:PT1H
X-Robots-Tag:noindex
X-PUBLISHED-TTL:PT1H
BEGIN:VTIMEZONE
TZID:America/New_York
BEGIN:DAYLIGHT
TZOFFSETFROM:-0500
TZOFFSETTO:-0400
TZNAME:EDT
DTSTART:20240310T070000
END:DAYLIGHT
BEGIN:STANDARD
TZOFFSETFROM:-0400
TZOFFSETTO:-0500
TZNAME:EST
DTSTART:20241103T060000
END:STANDARD
END:VTIMEZONE
BEGIN:VEVENT
DTSTART;TZID=America/New_York:20240918T170000
DTEND;TZID=America/New_York:20240918T183000
DTSTAMP:20260424T113642
CREATED:20240709T190142Z
LAST-MODIFIED:20240719T153630Z
UID:14203-1726678800-1726684200@vegmichigan.org
SUMMARY:ANN ARBOR DINNER CLUB AT PILAR'S TAMALES
DESCRIPTION:ANN ARBOR DINNER CLUB AT PILAR’S TAMALES \nCome to Pilar’s Tamales for a delicious\, traditional Salvadoran meal. Enjoy plant-based tamales\, sides\, and beverages\, and even a vegan Mexican hot chocolate! \nEveryone is welcome at VegMichigan Meetups\, but we do ask that you enjoy a vegan meal while attending our events. We hope you are able to join us! \nRSVP Required on Meetup. RSVP here – https://www.meetup.com/vegmichigan-metro-detroit-meetup/events/302126449/
URL:https://vegmichigan.org/event/14203/
CATEGORIES:A2Zero webpage
ATTACH;FMTTYPE=image/webp:https://vegmichigan.org/wp-content/uploads/2024/07/600_522114048.webp
END:VEVENT
BEGIN:VEVENT
DTSTART;TZID=America/New_York:20240918T180000
DTEND;TZID=America/New_York:20240918T193000
DTSTAMP:20260424T113642
CREATED:20240827T153053Z
LAST-MODIFIED:20240827T153053Z
UID:14432-1726682400-1726687800@vegmichigan.org
SUMMARY:SIERRA CLUB U-M FOOD AND CLIMATE PANEL
DESCRIPTION:SIERRA CLUB U-M FOOD AND CLIMATE PANEL\n\n\nWe will be speaking on a Food and Climate Panel\, along with New Roots Institute and Global Seaweed Institute hosted by Sierra Club U-M and Plant Futures Initiative. We will also sponsor plant-based appetizers to be served at the event. \nAt U-M (exact location TBA)
URL:https://vegmichigan.org/event/sierra-club-u-m-food-and-climate-panel/
CATEGORIES:A2Zero webpage
ATTACH;FMTTYPE=image/jpeg:https://vegmichigan.org/wp-content/uploads/2024/08/PXL_20230507_181947311-scaled.jpg
END:VEVENT
END:VCALENDAR