BEGIN:VCALENDAR
VERSION:2.0
PRODID:-//VegMichigan - ECPv5.16.1.1//NONSGML v1.0//EN
CALSCALE:GREGORIAN
METHOD:PUBLISH
X-WR-CALNAME:VegMichigan
X-ORIGINAL-URL:https://vegmichigan.org
X-WR-CALDESC:Events for VegMichigan
REFRESH-INTERVAL;VALUE=DURATION:PT1H
X-Robots-Tag:noindex
X-PUBLISHED-TTL:PT1H
BEGIN:VTIMEZONE
TZID:America/New_York
BEGIN:DAYLIGHT
TZOFFSETFROM:-0500
TZOFFSETTO:-0400
TZNAME:EDT
DTSTART:20240310T070000
END:DAYLIGHT
BEGIN:STANDARD
TZOFFSETFROM:-0400
TZOFFSETTO:-0500
TZNAME:EST
DTSTART:20241103T060000
END:STANDARD
END:VTIMEZONE
BEGIN:VEVENT
DTSTART;TZID=America/New_York:20240922T120000
DTEND;TZID=America/New_York:20240922T180000
DTSTAMP:20260424T113634
CREATED:20240912T183454Z
LAST-MODIFIED:20240912T183454Z
UID:14580-1727006400-1727028000@vegmichigan.org
SUMMARY:D-TOWN FARM: 18TH ANNUAL HARVEST FESTIVAL
DESCRIPTION:D-TOWN FARM: 18TH ANNUAL HARVEST FESTIVAL\n\nJoin Michiganders for a Just Farming System and For Our Future Michigan at the Harvest Festival. We will have a joint table\, and MJFS will be spreading awareness about MI S.B. 275\, letting people know that it is not a true clean energy bill. We will be asking people to sign postcards to send to Michigan lawmakers.\n\n(The event is on Sept. 21 and 22\, but MJFS will only be there on Sept. 22.)\n\nFind full details about the festival here.
URL:https://vegmichigan.org/event/d-town-farm-18th-annual-harvest-festival/
ATTACH;FMTTYPE=image/png:https://vegmichigan.org/wp-content/uploads/2024/09/D-Town-Harvest-Festival.png
END:VEVENT
END:VCALENDAR