BEGIN:VCALENDAR
VERSION:2.0
PRODID:-//VegMichigan - ECPv5.16.1.1//NONSGML v1.0//EN
CALSCALE:GREGORIAN
METHOD:PUBLISH
X-ORIGINAL-URL:https://vegmichigan.org
X-WR-CALDESC:Events for VegMichigan
REFRESH-INTERVAL;VALUE=DURATION:PT1H
X-Robots-Tag:noindex
X-PUBLISHED-TTL:PT1H
BEGIN:VTIMEZONE
TZID:America/New_York
BEGIN:DAYLIGHT
TZOFFSETFROM:-0500
TZOFFSETTO:-0400
TZNAME:EDT
DTSTART:20240310T070000
END:DAYLIGHT
BEGIN:STANDARD
TZOFFSETFROM:-0400
TZOFFSETTO:-0500
TZNAME:EST
DTSTART:20241103T060000
END:STANDARD
END:VTIMEZONE
BEGIN:VEVENT
DTSTART;TZID=America/New_York:20240929T120000
DTEND;TZID=America/New_York:20240929T140000
DTSTAMP:20260424T113642
CREATED:20240926T191820Z
LAST-MODIFIED:20240926T191820Z
UID:14646-1727611200-1727618400@vegmichigan.org
SUMMARY:LET'S BEAT BREAST CANCER RALLY! (TRAVERSE CITY)
DESCRIPTION:LET’S BEAT BREAST CANCER RALLY! (TRAVERSE CITY) \nVegMichigan is partnering with the Physicians Committee for Responsible Medicine to raise awareness about the four lifestyle steps that can reduce the risk of breast cancer and the risk of recurrence. \nThe four steps are: \n\nEat plant-based foods\nExercise regularly\nLimit alcohol\nAim for an ideal weight\n\nJoin us to learn from local experts\, community advocates and breast cancer survivors at this special gathering in honor of Breast Cancer Awareness Month. \nLearn more on our Traverse City Meetup group – https://www.meetup.com/traverse-city-vegmichigan-meetup/events/303621190/?eventOrigin=group_upcoming_events
URL:https://vegmichigan.org/event/lets-beat-breast-cancer-rally-traverse-city/
LOCATION:700 Cottageview Drive · Traverse City\, MI
ATTACH;FMTTYPE=image/webp:https://vegmichigan.org/wp-content/uploads/2024/09/600_523696761.webp
END:VEVENT
END:VCALENDAR