BEGIN:VCALENDAR
VERSION:2.0
PRODID:-//VegMichigan - ECPv5.16.1.1//NONSGML v1.0//EN
CALSCALE:GREGORIAN
METHOD:PUBLISH
X-WR-CALNAME:VegMichigan
X-ORIGINAL-URL:https://vegmichigan.org
X-WR-CALDESC:Events for VegMichigan
REFRESH-INTERVAL;VALUE=DURATION:PT1H
X-Robots-Tag:noindex
X-PUBLISHED-TTL:PT1H
BEGIN:VTIMEZONE
TZID:America/New_York
BEGIN:DAYLIGHT
TZOFFSETFROM:-0500
TZOFFSETTO:-0400
TZNAME:EDT
DTSTART:20240310T070000
END:DAYLIGHT
BEGIN:STANDARD
TZOFFSETFROM:-0400
TZOFFSETTO:-0500
TZNAME:EST
DTSTART:20241103T060000
END:STANDARD
END:VTIMEZONE
BEGIN:VEVENT
DTSTART;TZID=America/New_York:20241006T120000
DTEND;TZID=America/New_York:20241006T160000
DTSTAMP:20260424T131617
CREATED:20240912T184605Z
LAST-MODIFIED:20240912T184605Z
UID:14589-1728216000-1728230400@vegmichigan.org
SUMMARY:TABLING AT MOONSTER MASH AT BARN
DESCRIPTION:TABLING AT MOONSTER MASH AT BARN\n\nEnjoy delicious plant-based foods from local foods trucks\, yummy donuts\, and delicious cider. Kids can trick-or-treat at various stations\, take part in arts and crafts\, get their faces painted\, and win prizes while learning all about the residents here at Barn! Plus\, get a prize just by coming in costume!\n\nGet your tickets HERE
URL:https://vegmichigan.org/event/tabling-at-moonster-mash-at-barn/
ATTACH;FMTTYPE=image/jpeg:https://vegmichigan.org/wp-content/uploads/2024/09/https-cdn.evbuc_.com-images-823098039-459724145122-1-original.20240808-130440.jpeg
END:VEVENT
END:VCALENDAR