BEGIN:VCALENDAR
VERSION:2.0
PRODID:-//VegMichigan - ECPv5.16.1.1//NONSGML v1.0//EN
CALSCALE:GREGORIAN
METHOD:PUBLISH
X-WR-CALNAME:VegMichigan
X-ORIGINAL-URL:https://vegmichigan.org
X-WR-CALDESC:Events for VegMichigan
REFRESH-INTERVAL;VALUE=DURATION:PT1H
X-Robots-Tag:noindex
X-PUBLISHED-TTL:PT1H
BEGIN:VTIMEZONE
TZID:America/New_York
BEGIN:DAYLIGHT
TZOFFSETFROM:-0500
TZOFFSETTO:-0400
TZNAME:EDT
DTSTART:20240310T070000
END:DAYLIGHT
BEGIN:STANDARD
TZOFFSETFROM:-0400
TZOFFSETTO:-0500
TZNAME:EST
DTSTART:20241103T060000
END:STANDARD
END:VTIMEZONE
BEGIN:VEVENT
DTSTART;VALUE=DATE:20241010
DTEND;VALUE=DATE:20241011
DTSTAMP:20260424T131722
CREATED:20241010T192221Z
LAST-MODIFIED:20241010T192851Z
UID:14749-1728518400-1728604799@vegmichigan.org
SUMMARY:ISLAND CITY ASSISTED LIVING
DESCRIPTION:Residents and staff will enjoy a plant-based chlli lunch and learn about how they can make small changes to eat more healthy and sustainable.
URL:https://vegmichigan.org/event/island-city-assisted-living/
LOCATION:Island City Assisted Living
ATTACH;FMTTYPE=image/jpeg:https://vegmichigan.org/wp-content/uploads/2024/10/Island-City-1-e1728588354664.jpg
END:VEVENT
END:VCALENDAR