BEGIN:VCALENDAR
VERSION:2.0
PRODID:-//VegMichigan - ECPv5.16.1.1//NONSGML v1.0//EN
CALSCALE:GREGORIAN
METHOD:PUBLISH
X-WR-CALNAME:VegMichigan
X-ORIGINAL-URL:https://vegmichigan.org
X-WR-CALDESC:Events for VegMichigan
REFRESH-INTERVAL;VALUE=DURATION:PT1H
X-Robots-Tag:noindex
X-PUBLISHED-TTL:PT1H
BEGIN:VTIMEZONE
TZID:America/New_York
BEGIN:DAYLIGHT
TZOFFSETFROM:-0500
TZOFFSETTO:-0400
TZNAME:EDT
DTSTART:20240310T070000
END:DAYLIGHT
BEGIN:STANDARD
TZOFFSETFROM:-0400
TZOFFSETTO:-0500
TZNAME:EST
DTSTART:20241103T060000
END:STANDARD
END:VTIMEZONE
BEGIN:VEVENT
DTSTART;VALUE=DATE:20241201
DTEND;VALUE=DATE:20241215
DTSTAMP:20260424T164700
CREATED:20241126T013924Z
LAST-MODIFIED:20241127T164046Z
UID:14922-1733011200-1734220799@vegmichigan.org
SUMMARY:Plant-Based Holiday Collection Drive
DESCRIPTION:Read more here for full details about the collection drive. \nDrop-Off Locations:  \n\nAvocato Catfe\, 38437 Grand River Ave\, Farmington Hills\nDrop-Off Times: Mon 1 – 4pm.\, Tues – Fri 12pm – 7pm\, Sat – Sun 11- 7pm\nAnyone who brings a donated item to the Avocato Catfe can receive $5 off their Avocato Catfe reservation. To receive the discount reserve your spot by calling 248-482-8271 and letting them know that you are bringing a donated item.\n\n  \n\nThe Catfe Lounge\, 686 Livernois St\, Ferndale\nDrop-Off Times: Mon – Tues 9am – 3pm (Catfe closed\, donations can be accepted)\nWed – Sun 12pm-5pm (during regular operating hours)\n\n  \n\nVegMichigan\, 33900 W. 8 Mile Rd\, Farmington Hills\nDrop-Off Times: Mon – Fri 9am – 5pm\nPlease leave items in the collection boxes located near the mailboxes inside the main entryway\n\n  \nPriority Items \nShelf-stable plant-based food items (plant-based/vegan items) \n\nCanned items: Fruit\, Vegetables\, and Soup\nBoxed items:  Rice\, Pasta\, Cereal\, Oatmeal\nAdditional: Peanut butter\, Jelly\n\nHousehold products/cleaning supplies (vegan\, eco-friendly\, not tested on animals)  \n\nLaundry detergent\nLiquid dish soap\nHousehold cleaners\, etc.\n\n Toiletry Items (full size please\, vegan\, eco-friendly\, not tested on animals)  \n\nToothpaste\nShampoo\nDeodorant\nSoap\, etc.\n\n Paper products (eco-friendly)  \n\nPaper towels\nToilet paper\nFacial tissue\n\n 
URL:https://vegmichigan.org/event/plant-based-holiday-collection-drive/
ATTACH;FMTTYPE=image/png:https://vegmichigan.org/wp-content/uploads/2024/11/Donations-Food-and-Personal-Care-Items.png
END:VEVENT
END:VCALENDAR