BEGIN:VCALENDAR
VERSION:2.0
PRODID:-//VegMichigan - ECPv5.16.1.1//NONSGML v1.0//EN
CALSCALE:GREGORIAN
METHOD:PUBLISH
X-WR-CALNAME:VegMichigan
X-ORIGINAL-URL:https://vegmichigan.org
X-WR-CALDESC:Events for VegMichigan
REFRESH-INTERVAL;VALUE=DURATION:PT1H
X-Robots-Tag:noindex
X-PUBLISHED-TTL:PT1H
BEGIN:VTIMEZONE
TZID:America/New_York
BEGIN:DAYLIGHT
TZOFFSETFROM:-0500
TZOFFSETTO:-0400
TZNAME:EDT
DTSTART:20240310T070000
END:DAYLIGHT
BEGIN:STANDARD
TZOFFSETFROM:-0400
TZOFFSETTO:-0500
TZNAME:EST
DTSTART:20241103T060000
END:STANDARD
END:VTIMEZONE
BEGIN:VEVENT
DTSTART;TZID=America/New_York:20241218T180000
DTEND;TZID=America/New_York:20241218T193000
DTSTAMP:20260424T164555
CREATED:20241126T215015Z
LAST-MODIFIED:20241126T215015Z
UID:14944-1734544800-1734550200@vegmichigan.org
SUMMARY:ANN ARBOR MEETUP AT BUDDY'S PIZZA
DESCRIPTION:ANN ARBOR MEETUP AT BUDDY’S PIZZA \nTake a break from the busy holiday season to have a slice with VegMichigan! We’ll be at Buddy’s in Ann Arbor for some delicious plant-based pizza. \nClick here to reserve your seat.
URL:https://vegmichigan.org/event/ann-arbor-meetup-at-buddys-pizza/
LOCATION:Buddy’s Pizza\, 3153 Ann Arbor-Saline Rd\, Ann Arbor\, MI\, 48103\, United States
CATEGORIES:A2Zero webpage
ATTACH;FMTTYPE=image/png:https://vegmichigan.org/wp-content/uploads/2024/11/Screenshot-2024-11-26-at-4.13.29-PM.png
END:VEVENT
END:VCALENDAR