BEGIN:VCALENDAR
VERSION:2.0
PRODID:-//VegMichigan - ECPv5.16.1.1//NONSGML v1.0//EN
CALSCALE:GREGORIAN
METHOD:PUBLISH
X-WR-CALNAME:VegMichigan
X-ORIGINAL-URL:https://vegmichigan.org
X-WR-CALDESC:Events for VegMichigan
REFRESH-INTERVAL;VALUE=DURATION:PT1H
X-Robots-Tag:noindex
X-PUBLISHED-TTL:PT1H
BEGIN:VTIMEZONE
TZID:America/New_York
BEGIN:DAYLIGHT
TZOFFSETFROM:-0500
TZOFFSETTO:-0400
TZNAME:EDT
DTSTART:20250309T070000
END:DAYLIGHT
BEGIN:STANDARD
TZOFFSETFROM:-0400
TZOFFSETTO:-0500
TZNAME:EST
DTSTART:20251102T060000
END:STANDARD
END:VTIMEZONE
BEGIN:VEVENT
DTSTART;TZID=America/New_York:20250215T130000
DTEND;TZID=America/New_York:20250215T150000
DTSTAMP:20260424T201359
CREATED:20250114T165029Z
LAST-MODIFIED:20250114T165029Z
UID:15056-1739624400-1739631600@vegmichigan.org
SUMMARY:TRAVERSE CITY PLANT-BASED PIZZA PARTY!
DESCRIPTION:TRAVERSE CITY PLANT-BASED PIZZA PARTY! \nJoin us for a plant-based pizza party! Firebird Pizza features fully vegan pizza options from their crust to their cheese and we’ll be hosting a sampling of the endless\, delicious options. \nEveryone is welcome no matter your regular food preferences but it is a requirement that everyone eats a vegan meal at this event. \nWe’ll be there from 1:00 pm – 3pm. \nCheck out their menu: Traverse City’s Favorite Family-Operated Pizza Spot | Firebird Pizza \nRSVP on Meetup – RSVP HERE
URL:https://vegmichigan.org/event/traverse-city-pizza-party/
ATTACH;FMTTYPE=image/png:https://vegmichigan.org/wp-content/uploads/2025/01/Screenshot-2025-01-14-at-11.49.40 AM.png
END:VEVENT
END:VCALENDAR