BEGIN:VCALENDAR
VERSION:2.0
PRODID:-//VegMichigan - ECPv5.16.1.1//NONSGML v1.0//EN
CALSCALE:GREGORIAN
METHOD:PUBLISH
X-WR-CALNAME:VegMichigan
X-ORIGINAL-URL:https://vegmichigan.org
X-WR-CALDESC:Events for VegMichigan
REFRESH-INTERVAL;VALUE=DURATION:PT1H
X-Robots-Tag:noindex
X-PUBLISHED-TTL:PT1H
BEGIN:VTIMEZONE
TZID:America/New_York
BEGIN:DAYLIGHT
TZOFFSETFROM:-0500
TZOFFSETTO:-0400
TZNAME:EDT
DTSTART:20250309T070000
END:DAYLIGHT
BEGIN:STANDARD
TZOFFSETFROM:-0400
TZOFFSETTO:-0500
TZNAME:EST
DTSTART:20251102T060000
END:STANDARD
END:VTIMEZONE
BEGIN:VEVENT
DTSTART;TZID=America/New_York:20250219T173000
DTEND;TZID=America/New_York:20250219T190000
DTSTAMP:20260424T201359
CREATED:20250121T150716Z
LAST-MODIFIED:20250121T150716Z
UID:15100-1739986200-1739991600@vegmichigan.org
SUMMARY:DETROIT - DINNER MEETUP AT GRANDMA BOB'S HANDMADE PIZZA
DESCRIPTION:DETROIT – DINNER MEETUP AT GRANDMA BOB’S HANDMADE PIZZA\n\nCraving pizza? We’ve got you covered! Come out to Grandma Bob’s for delicious plant-based pizza\, cheese bread\, caesar salad\, and milkshakes! All vegan\, all amazing!\n\nRSVP Required! RSVP in our Meetup group by clicking the link below.\nhttps://www.meetup.com/vegmichigan-meetup/events/305725653/?slug=vegmichigan-meetup&isFirstPublish=true
URL:https://vegmichigan.org/event/detroit-dinner-meetup-at-grandma-bobs-handmade-pizza/
LOCATION:Grandma Bob’s Handmade Pizza\, 2135 Michigan Ave\, Detroit\, MI 48216
ATTACH;FMTTYPE=image/jpeg:https://vegmichigan.org/wp-content/uploads/2025/01/grandma-bobs.jpg
END:VEVENT
END:VCALENDAR