BEGIN:VCALENDAR
VERSION:2.0
PRODID:-//VegMichigan - ECPv5.16.1.1//NONSGML v1.0//EN
CALSCALE:GREGORIAN
METHOD:PUBLISH
X-WR-CALNAME:VegMichigan
X-ORIGINAL-URL:https://vegmichigan.org
X-WR-CALDESC:Events for VegMichigan
REFRESH-INTERVAL;VALUE=DURATION:PT1H
X-Robots-Tag:noindex
X-PUBLISHED-TTL:PT1H
BEGIN:VTIMEZONE
TZID:America/New_York
BEGIN:DAYLIGHT
TZOFFSETFROM:-0500
TZOFFSETTO:-0400
TZNAME:EDT
DTSTART:20250309T070000
END:DAYLIGHT
BEGIN:STANDARD
TZOFFSETFROM:-0400
TZOFFSETTO:-0500
TZNAME:EST
DTSTART:20251102T060000
END:STANDARD
END:VTIMEZONE
BEGIN:VEVENT
DTSTART;TZID=America/New_York:20250309T130000
DTEND;TZID=America/New_York:20250309T150000
DTSTAMP:20260424T220346
CREATED:20250130T152331Z
LAST-MODIFIED:20250228T123406Z
UID:15135-1741525200-1741532400@vegmichigan.org
SUMMARY:Ann Arbor - Lunch Meetup at Red Lotus
DESCRIPTION:Looking for an elegant\, yet casual full-service dining experience? Join us at Red Lotus\, a recently opened companion restaurant to Taste Kitchen\, in downtown Ann Arbor with a plant-based seasonal menu offering a fusion of international influences. They have delicious dishes to choose from including the Vegan Beetroot Carpaccio and Vegan Laska Noodle. To learn more about Red Lotus see this article from the Ann Arbor Observer. \nPlease RSVP here. \nThis A2ZERO program is hosted by VegMichigan in collaboration with the City of Ann Arbor Office of Sustainability and Innovations. A2ZERO is the City of Ann Arbor’s plan to achieve a just and equitable transition to community-wide carbon neutrality by 2030. By participating\, you are joining a community of climate-friendly food champions! Learn about the connections between food choices and climate\, and more ways you can get involved\, by visiting our website. \nClick here to learn more about A2ZERO\, and many other opportunities to get involved with sustainability in Ann Arbor! \n 
URL:https://vegmichigan.org/event/ann-arbor-lunch-meetup-at-red-lotus/
LOCATION:Red Lotus\, 529 E Liberty St #206\, Ann Arbor\, MI 48104\, 529 E Liberty St #206\, Ann Arbor\, MI\, 48104\, United States
CATEGORIES:A2Zero webpage
ATTACH;FMTTYPE=image/png:https://vegmichigan.org/wp-content/uploads/2025/01/Red-Lotus-Dish-2.png
END:VEVENT
END:VCALENDAR