BEGIN:VCALENDAR
VERSION:2.0
PRODID:-//VegMichigan - ECPv5.16.1.1//NONSGML v1.0//EN
CALSCALE:GREGORIAN
METHOD:PUBLISH
X-WR-CALNAME:VegMichigan
X-ORIGINAL-URL:https://vegmichigan.org
X-WR-CALDESC:Events for VegMichigan
REFRESH-INTERVAL;VALUE=DURATION:PT1H
X-Robots-Tag:noindex
X-PUBLISHED-TTL:PT1H
BEGIN:VTIMEZONE
TZID:America/New_York
BEGIN:DAYLIGHT
TZOFFSETFROM:-0500
TZOFFSETTO:-0400
TZNAME:EDT
DTSTART:20250309T070000
END:DAYLIGHT
BEGIN:STANDARD
TZOFFSETFROM:-0400
TZOFFSETTO:-0500
TZNAME:EST
DTSTART:20251102T060000
END:STANDARD
END:VTIMEZONE
BEGIN:VEVENT
DTSTART;TZID=America/New_York:20250319T180000
DTEND;TZID=America/New_York:20250319T193000
DTSTAMP:20260424T220347
CREATED:20250227T213612Z
LAST-MODIFIED:20250227T213612Z
UID:15351-1742407200-1742412600@vegmichigan.org
SUMMARY:DINNER MEETUP AT LA PITA IN DEARBORN
DESCRIPTION:Join VegMichigan for a delicious\, healthy dinner at La Pita\, a Dearborn staple for 30 years! Treat your taste buds to a variety of Lebanese dishes prepared with a Mediterranean flavor. La Pita has many wonderful plant-based options\, including two vegan combo plates\, and Impossible Kafta! \nRSVP on Meetup required. RSVP here – https://www.meetup.com/vegmichigan-meetup/events/306398831/?eventOrigin=group_upcoming_events
URL:https://vegmichigan.org/event/dinner-meetup-at-la-pita-in-dearborn/
LOCATION:La Pita\, 22681 Newman St\, Dearborn\, MI 48124
ATTACH;FMTTYPE=image/png:https://vegmichigan.org/wp-content/uploads/2025/02/LaPita.png
END:VEVENT
END:VCALENDAR