BEGIN:VCALENDAR
VERSION:2.0
PRODID:-//VegMichigan - ECPv5.16.1.1//NONSGML v1.0//EN
CALSCALE:GREGORIAN
METHOD:PUBLISH
X-ORIGINAL-URL:https://vegmichigan.org
X-WR-CALDESC:Events for VegMichigan
REFRESH-INTERVAL;VALUE=DURATION:PT1H
X-Robots-Tag:noindex
X-PUBLISHED-TTL:PT1H
BEGIN:VTIMEZONE
TZID:America/New_York
BEGIN:DAYLIGHT
TZOFFSETFROM:-0500
TZOFFSETTO:-0400
TZNAME:EDT
DTSTART:20250309T070000
END:DAYLIGHT
BEGIN:STANDARD
TZOFFSETFROM:-0400
TZOFFSETTO:-0500
TZNAME:EST
DTSTART:20251102T060000
END:STANDARD
END:VTIMEZONE
BEGIN:VEVENT
DTSTART;TZID=America/New_York:20250320T183000
DTEND;TZID=America/New_York:20250320T193000
DTSTAMP:20260424T220342
CREATED:20250131T183137Z
LAST-MODIFIED:20250318T142110Z
UID:15154-1742495400-1742499000@vegmichigan.org
SUMMARY:VIRTUAL COOKING DEMO WITH KISA THE VEGANIZER
DESCRIPTION:VIRTUAL COOKING DEMO WITH KISA THE VEGANIZER \nJoin us for a virtual cooking demo with Kisa the Veganizer! \nKisa will focus on three things for her demo. She will veganize a traditional chicken potpie\, she will discuss how to source good options for store-bought vegan food\, and she will share what she has in her pantry and then demonstrate how to make a plant-based butter and plant-based cashew milk. \nCheck out the recipes here! – https://docs.google.com/document/d/10s7gdDjyTOUYz_ghXehIoLa-QupSwQBykf_MYsjf7Ws/edit?usp=sharing \nNo registration required! Join us on Zoom here –  https://us06web.zoom.us/j/82318505955 \nCheck out Kisa on Instagram – https://www.instagram.com/kisatheveganizer/
URL:https://vegmichigan.org/event/virtual-cooking-demo-with-kisa-the-veganizer/
ATTACH;FMTTYPE=image/png:https://vegmichigan.org/wp-content/uploads/2025/01/Untitled-940-x-600-px.png
END:VEVENT
END:VCALENDAR