BEGIN:VCALENDAR
VERSION:2.0
PRODID:-//VegMichigan - ECPv5.16.1.1//NONSGML v1.0//EN
CALSCALE:GREGORIAN
METHOD:PUBLISH
X-ORIGINAL-URL:https://vegmichigan.org
X-WR-CALDESC:Events for VegMichigan
REFRESH-INTERVAL;VALUE=DURATION:PT1H
X-Robots-Tag:noindex
X-PUBLISHED-TTL:PT1H
BEGIN:VTIMEZONE
TZID:America/New_York
BEGIN:DAYLIGHT
TZOFFSETFROM:-0500
TZOFFSETTO:-0400
TZNAME:EDT
DTSTART:20250309T070000
END:DAYLIGHT
BEGIN:STANDARD
TZOFFSETFROM:-0400
TZOFFSETTO:-0500
TZNAME:EST
DTSTART:20251102T060000
END:STANDARD
END:VTIMEZONE
BEGIN:VEVENT
DTSTART;TZID=America/New_York:20250402T180000
DTEND;TZID=America/New_York:20250402T193000
DTSTAMP:20260424T220340
CREATED:20250325T191126Z
LAST-MODIFIED:20250325T191126Z
UID:15496-1743616800-1743622200@vegmichigan.org
SUMMARY:DINNER MEETUP AT SEVA ANN ARBOR (LET'S SUPPORT THIS LONGTIME FAVORITE SPOT!)
DESCRIPTION:DINNER MEETUP AT SEVA ANN ARBOR (LET’S SUPPORT THIS LONGTIME FAVORITE SPOT!)\nAs you may have heard\, Seva recently reached out to the community to ask for help. The Detroit location closed in February\, and we want to support the Ann Arbor restaurant\, which has been serving mouthwatering plant-based food for over 50 years! Come and have a delicious meal\, share your memories of Seva\, and help to keep them going for another 50 years! \nRSVP on Meetup here –  https://www.meetup.com/vegmichigan-meetup/events/306849294/?slug=vegmichigan-meetup&eventId=306849294
URL:https://vegmichigan.org/event/dinner-meetup-at-seva-ann-arbor-lets-support-this-longtime-favorite-spot/
LOCATION:Seva\, Westgate Shopping Center\, 2541 Jackson Ave\, Ann Arbor\, MI 48103
CATEGORIES:A2Zero webpage
ATTACH;FMTTYPE=image/jpeg:https://vegmichigan.org/wp-content/uploads/2025/03/seva.jpg
END:VEVENT
END:VCALENDAR