BEGIN:VCALENDAR
VERSION:2.0
PRODID:-//VegMichigan - ECPv5.16.1.1//NONSGML v1.0//EN
CALSCALE:GREGORIAN
METHOD:PUBLISH
X-ORIGINAL-URL:https://vegmichigan.org
X-WR-CALDESC:Events for VegMichigan
REFRESH-INTERVAL;VALUE=DURATION:PT1H
X-Robots-Tag:noindex
X-PUBLISHED-TTL:PT1H
BEGIN:VTIMEZONE
TZID:America/New_York
BEGIN:DAYLIGHT
TZOFFSETFROM:-0500
TZOFFSETTO:-0400
TZNAME:EDT
DTSTART:20250309T070000
END:DAYLIGHT
BEGIN:STANDARD
TZOFFSETFROM:-0400
TZOFFSETTO:-0500
TZNAME:EST
DTSTART:20251102T060000
END:STANDARD
END:VTIMEZONE
BEGIN:VEVENT
DTSTART;TZID=America/New_York:20250405T170000
DTEND;TZID=America/New_York:20250405T190000
DTSTAMP:20260424T220342
CREATED:20250321T205359Z
LAST-MODIFIED:20250321T205359Z
UID:15471-1743872400-1743879600@vegmichigan.org
SUMMARY:TAWAS DINNER MEETUP AT TAWAS BAY PIZZA CO.
DESCRIPTION:We are having a pizza party! Join us at the Tawas Bay Pizza Co\, an artisan\, high-heat\, wood-infused brick oven pizza restaurant with vegan-friendly options\, including non-dairy cheese and veggie toppings. This restaurant also has a beautiful view of the lake. \nEveryone is welcome at VegMichigan Meetups\, but we do ask that you enjoy a vegan meal while attending our events. We hope you are able to join us! \nAttendees are responsible for purchasing their own meal. \nRSVP here to save your spot!
URL:https://vegmichigan.org/event/tawas-dinner-meetup-at-tawas-bay-pizza-co/
LOCATION:Tawas Bay Pizza Co.\, 115 E Lake St\, Tawas City\, MI 48763\, 115 E Lake St.\, Tawas City\, MI\, 48763\, United States
ATTACH;FMTTYPE=image/jpeg:https://vegmichigan.org/wp-content/uploads/2025/03/Tawas-Pizza.jpeg
END:VEVENT
END:VCALENDAR