BEGIN:VCALENDAR
VERSION:2.0
PRODID:-//VegMichigan - ECPv5.16.1.1//NONSGML v1.0//EN
CALSCALE:GREGORIAN
METHOD:PUBLISH
X-WR-CALNAME:VegMichigan
X-ORIGINAL-URL:https://vegmichigan.org
X-WR-CALDESC:Events for VegMichigan
REFRESH-INTERVAL;VALUE=DURATION:PT1H
X-Robots-Tag:noindex
X-PUBLISHED-TTL:PT1H
BEGIN:VTIMEZONE
TZID:America/New_York
BEGIN:DAYLIGHT
TZOFFSETFROM:-0500
TZOFFSETTO:-0400
TZNAME:EDT
DTSTART:20250309T070000
END:DAYLIGHT
BEGIN:STANDARD
TZOFFSETFROM:-0400
TZOFFSETTO:-0500
TZNAME:EST
DTSTART:20251102T060000
END:STANDARD
END:VTIMEZONE
BEGIN:VEVENT
DTSTART;TZID=America/New_York:20250426T100000
DTEND;TZID=America/New_York:20250426T140000
DTSTAMP:20260424T235812
CREATED:20250320T194456Z
LAST-MODIFIED:20250320T194456Z
UID:15465-1745661600-1745676000@vegmichigan.org
SUMMARY:TRAVERSE CITY EARTH DAY CELEBRATION
DESCRIPTION:TRAVERSE CITY EARTH DAY CELEBRATION \nJoin us for the annual Traverse City Earth Day celebration! The celebration will feature the making of/ and all things STEAM\, PLUS lots of additional great activities and information related to Earth Day. With a focus on plant-based eating\, let’s work together to make the world healthier\, more humane and sustainable for ALL! \n 
URL:https://vegmichigan.org/event/traverse-city-earth-day-celebration/
LOCATION:Grand Traverse Civic Center 1213 W. Civic Center Drive · Traverse City\, MI
ATTACH;FMTTYPE=image/png:https://vegmichigan.org/wp-content/uploads/2025/03/Screenshot-2025-03-20-at-3.42.27 PM.png
END:VEVENT
BEGIN:VEVENT
DTSTART;TZID=America/New_York:20250426T130000
DTEND;TZID=America/New_York:20250426T160000
DTSTAMP:20260424T235812
CREATED:20250327T215101Z
LAST-MODIFIED:20250327T215101Z
UID:15543-1745672400-1745683200@vegmichigan.org
SUMMARY:SIERRA CLUB CROSSROADS GROUP EARTH DAY FEST
DESCRIPTION:SIERRA CLUB CROSSROADS GROUP EARTH DAY FEST \nVegMichigan will be sharing information with attendees about the benefits of plant-based eating for the environment\, and we’ll have some plant-based goodies to hand out to attendees. Stop by and see us!
URL:https://vegmichigan.org/event/sierra-club-crossroads-group-earth-day-fest/
LOCATION:The Amp: Millpond Trail\, Brighton\, MI 48116\, Brighton\, michigan\, 48116\, United States
ATTACH;FMTTYPE=image/jpeg:https://vegmichigan.org/wp-content/uploads/2025/03/IMG_3299-scaled.jpeg
END:VEVENT
END:VCALENDAR