BEGIN:VCALENDAR
VERSION:2.0
PRODID:-//VegMichigan - ECPv5.16.1.1//NONSGML v1.0//EN
CALSCALE:GREGORIAN
METHOD:PUBLISH
X-WR-CALNAME:VegMichigan
X-ORIGINAL-URL:https://vegmichigan.org
X-WR-CALDESC:Events for VegMichigan
REFRESH-INTERVAL;VALUE=DURATION:PT1H
X-Robots-Tag:noindex
X-PUBLISHED-TTL:PT1H
BEGIN:VTIMEZONE
TZID:America/New_York
BEGIN:DAYLIGHT
TZOFFSETFROM:-0500
TZOFFSETTO:-0400
TZNAME:EDT
DTSTART:20250309T070000
END:DAYLIGHT
BEGIN:STANDARD
TZOFFSETFROM:-0400
TZOFFSETTO:-0500
TZNAME:EST
DTSTART:20251102T060000
END:STANDARD
END:VTIMEZONE
BEGIN:VEVENT
DTSTART;TZID=America/New_York:20250503T170000
DTEND;TZID=America/New_York:20250503T190000
DTSTAMP:20260424T235814
CREATED:20250416T145055Z
LAST-MODIFIED:20250416T145055Z
UID:15619-1746291600-1746298800@vegmichigan.org
SUMMARY:HARRISVILLE - ALCONA BREW HAUS MEETUP
DESCRIPTION:Join us for a fun evening at the Alcona Brew Haus\, which offers some delicious vegan options. \nEveryone is welcome at VegMichigan Meetups\, but we do ask that you enjoy a vegan meal while attending our events. Attendees are responsible for the purchase of their own meal. We hope you are able to join us! \nVisit our Meetup page to RSVP. 
URL:https://vegmichigan.org/event/harrisville-alcona-brew-haus-meetup/
LOCATION:Alcona Brew Haus\, 676 N U.S. 23\, Harrisville\, MI 48740\, 676 N U.S. 23\, Harrisville\, MI\, 48740\, United States
ATTACH;FMTTYPE=image/png:https://vegmichigan.org/wp-content/uploads/2025/04/Alcona-Brew-Haus.png
END:VEVENT
END:VCALENDAR