BEGIN:VCALENDAR
VERSION:2.0
PRODID:-//VegMichigan - ECPv5.16.1.1//NONSGML v1.0//EN
CALSCALE:GREGORIAN
METHOD:PUBLISH
X-WR-CALNAME:VegMichigan
X-ORIGINAL-URL:https://vegmichigan.org
X-WR-CALDESC:Events for VegMichigan
REFRESH-INTERVAL;VALUE=DURATION:PT1H
X-Robots-Tag:noindex
X-PUBLISHED-TTL:PT1H
BEGIN:VTIMEZONE
TZID:America/New_York
BEGIN:DAYLIGHT
TZOFFSETFROM:-0500
TZOFFSETTO:-0400
TZNAME:EDT
DTSTART:20250309T070000
END:DAYLIGHT
BEGIN:STANDARD
TZOFFSETFROM:-0400
TZOFFSETTO:-0500
TZNAME:EST
DTSTART:20251102T060000
END:STANDARD
END:VTIMEZONE
BEGIN:VEVENT
DTSTART;TZID=America/New_York:20251205T170000
DTEND;TZID=America/New_York:20251205T220000
DTSTAMP:20260425T235749
CREATED:20251113T213512Z
LAST-MODIFIED:20251113T213512Z
UID:16667-1764954000-1764972000@vegmichigan.org
SUMMARY:KINDLEFEST
DESCRIPTION:KINDLEFEST \nVisit our table at this festive holiday event! We will be handing out delicious food samples and offering our free 30-Day Plant-Based Pledge to attendees. See you there!
URL:https://vegmichigan.org/event/kindlefest-2/
LOCATION:Ann Arbor Farmers Market\, 315 Detroit St\, Ann Arbor\, MI 48104
CATEGORIES:A2Zero webpage
ATTACH;FMTTYPE=image/jpeg:https://vegmichigan.org/wp-content/uploads/2025/11/IMG_4697-scaled.jpeg
END:VEVENT
END:VCALENDAR