BEGIN:VCALENDAR
VERSION:2.0
PRODID:-//VegMichigan - ECPv5.16.1.1//NONSGML v1.0//EN
CALSCALE:GREGORIAN
METHOD:PUBLISH
X-WR-CALNAME:VegMichigan
X-ORIGINAL-URL:https://vegmichigan.org
X-WR-CALDESC:Events for VegMichigan
REFRESH-INTERVAL;VALUE=DURATION:PT1H
X-Robots-Tag:noindex
X-PUBLISHED-TTL:PT1H
BEGIN:VTIMEZONE
TZID:America/New_York
BEGIN:DAYLIGHT
TZOFFSETFROM:-0500
TZOFFSETTO:-0400
TZNAME:EDT
DTSTART:20250309T070000
END:DAYLIGHT
BEGIN:STANDARD
TZOFFSETFROM:-0400
TZOFFSETTO:-0500
TZNAME:EST
DTSTART:20251102T060000
END:STANDARD
END:VTIMEZONE
BEGIN:VEVENT
DTSTART;TZID=America/New_York:20251217T150000
DTEND;TZID=America/New_York:20251217T163000
DTSTAMP:20260425T235625
CREATED:20251125T214219Z
LAST-MODIFIED:20251125T214219Z
UID:16698-1765983600-1765989000@vegmichigan.org
SUMMARY:LUNCH MEETUP AT DETROIT STREET FILLING STATION
DESCRIPTION:LUNCH MEETUP AT DETROIT STREET FILLING STATION \nJoin us at Detroit Street Filling Station for an amazing\, sustainable lunch ahead of the holidays! We’re excited to see you for this last Ann Arbor Meetup of 2025! \nPlease RSVP here to attend. \nPlease note: Detroit Street Filling Station does not take reservations\, which is why we’re going at an off time. Please be patient if there is a wait for seating or if we need to split up the group a bit to make it work. The food is definitely worth it! 🙂 \nEveryone is welcome at VegMichigan Meetups\, but we do ask that you enjoy a vegan meal while attending our events. We hope you are able to join us! \nCollaboration with A2ZERO\nThis A2ZERO program is hosted by VegMichigan in collaboration with the City of Ann Arbor Office of Sustainability and Innovations. A2ZERO is the City of Ann Arbor’s plan to achieve a just and equitable transition to community-wide carbon neutrality by 2030. By participating\, you are joining a community of climate-friendly food champions! Learn about the connections between food choices and climate\, and more ways you can get involved\, by visiting our website. \nClick here to learn more about A2ZERO\, and many other opportunities to get involved with sustainability in Ann Arbor!
URL:https://vegmichigan.org/event/lunch-meetup-at-detroit-street-filling-station/
LOCATION:Detroit Street Filling Station\, 300 Detroit St\, Ann Arbor\, MI 48104
CATEGORIES:A2Zero webpage
ATTACH;FMTTYPE=image/png:https://vegmichigan.org/wp-content/uploads/2025/11/Screenshot-2025-11-25-at-4.22.29 PM.png
END:VEVENT
END:VCALENDAR