BEGIN:VCALENDAR
VERSION:2.0
PRODID:-//VegMichigan - ECPv5.16.1.1//NONSGML v1.0//EN
CALSCALE:GREGORIAN
METHOD:PUBLISH
X-ORIGINAL-URL:https://vegmichigan.org
X-WR-CALDESC:Events for VegMichigan
REFRESH-INTERVAL;VALUE=DURATION:PT1H
X-Robots-Tag:noindex
X-PUBLISHED-TTL:PT1H
BEGIN:VTIMEZONE
TZID:America/New_York
BEGIN:DAYLIGHT
TZOFFSETFROM:-0500
TZOFFSETTO:-0400
TZNAME:EDT
DTSTART:20260308T070000
END:DAYLIGHT
BEGIN:STANDARD
TZOFFSETFROM:-0400
TZOFFSETTO:-0500
TZNAME:EST
DTSTART:20261101T060000
END:STANDARD
END:VTIMEZONE
BEGIN:VEVENT
DTSTART;VALUE=DATE:20260121
DTEND;VALUE=DATE:20260123
DTSTAMP:20260425T221716
CREATED:20251218T212034Z
LAST-MODIFIED:20251218T212034Z
UID:16730-1768953600-1769126399@vegmichigan.org
SUMMARY:WASHTENAW COMMUNITY COLLEGE WELCOME DAY
DESCRIPTION:WASHTENAW COMMUNITY COLLEGE WELCOME DAY \nVegMichigan will be tabling at WCC’s Welcome Day to share information with students about the connection between food choices and climate\, and to sign up participants for our 30-Day Plant-Based Pledge! \nVegMichigan is providing an A2ZERO program at this event in collaboration with the City of Ann Arbor Office of Sustainability and Innovations. A2ZERO is the City of Ann Arbor’s plan to achieve a just and equitable transition to community-wide carbon neutrality by 2030. By participating\, you are joining a community of climate-friendly food champions! Learn about the connections between food choices and climate\, and more ways you can get involved\, by visiting our website. \nClick here to learn more about A2ZERO\, and many other opportunities to get involved with sustainability in Ann Arbor!
URL:https://vegmichigan.org/event/washtenaw-community-college-welcome-day-3/
LOCATION:MI
CATEGORIES:A2Zero webpage
ATTACH;FMTTYPE=image/jpeg:https://vegmichigan.org/wp-content/uploads/2025/12/20250910_123332-scaled.jpg
END:VEVENT
END:VCALENDAR