BEGIN:VCALENDAR
VERSION:2.0
PRODID:-//VegMichigan - ECPv5.16.1.1//NONSGML v1.0//EN
CALSCALE:GREGORIAN
METHOD:PUBLISH
X-ORIGINAL-URL:https://vegmichigan.org
X-WR-CALDESC:Events for VegMichigan
REFRESH-INTERVAL;VALUE=DURATION:PT1H
X-Robots-Tag:noindex
X-PUBLISHED-TTL:PT1H
BEGIN:VTIMEZONE
TZID:America/New_York
BEGIN:DAYLIGHT
TZOFFSETFROM:-0500
TZOFFSETTO:-0400
TZNAME:EDT
DTSTART:20260308T070000
END:DAYLIGHT
BEGIN:STANDARD
TZOFFSETFROM:-0400
TZOFFSETTO:-0500
TZNAME:EST
DTSTART:20261101T060000
END:STANDARD
END:VTIMEZONE
BEGIN:VEVENT
DTSTART;TZID=America/New_York:20260425T130000
DTEND;TZID=America/New_York:20260425T170000
DTSTAMP:20260425T164311
CREATED:20260320T154245Z
LAST-MODIFIED:20260320T190444Z
UID:17162-1777122000-1777136400@vegmichigan.org
SUMMARY:ANN ARBOR CLIMATE TEACH-IN
DESCRIPTION:We will be speaking on a panel titled\, Everybody Eats: Food Choices for a Climate-Resilient Ann Arbor\, and our portion will focus on the climate benefits of plant-based eating and the ways the community can become resilient when individuals\, organizations\, and businesses adopt plant-based friendly practices.\n\nWe will be presenting during the second breakout session from 3:25pm – 4:10pm\n\nTo learn more about the Climate Teach-In visit: https://www.a2gov.org/sustainability-innovations-home/newsletter-events/a2-climate-teach-in/\n\n_________________________________________________________________________________________________\n\n\nVegMichigan is providing an A2ZERO program at this event in collaboration with the City of Ann Arbor Office of Sustainability and Innovations. A2ZERO is the City of Ann Arbor’s plan to achieve a just and equitable transition to community-wide carbon neutrality by 2030. By participating\, you are joining a community of climate-friendly food champions! Learn about the connections between food choices and climate\, and more ways you can get involved\, by visiting our website. \n  \nClick here to learn more about A2ZERO\, and many other opportunities to get involved with sustainability in Ann Arbor!
URL:https://vegmichigan.org/event/ann-arbor-climate-teach-in/
LOCATION:Mitchell Elementary School 3550 Pittsview Drive\, Ann Arbor MI 48108\, 3550 Pittsview Drive\, Ann Arbor\, MI\, 48108\, United States
CATEGORIES:A2Zero webpage
ATTACH;FMTTYPE=image/webp:https://vegmichigan.org/wp-content/uploads/2026/03/Climate-Teach-In.webp
END:VEVENT
END:VCALENDAR