BEGIN:VCALENDAR
VERSION:2.0
PRODID:-//VegMichigan - ECPv5.16.1.1//NONSGML v1.0//EN
CALSCALE:GREGORIAN
METHOD:PUBLISH
X-WR-CALNAME:VegMichigan
X-ORIGINAL-URL:https://vegmichigan.org
X-WR-CALDESC:Events for VegMichigan
REFRESH-INTERVAL;VALUE=DURATION:PT1H
X-Robots-Tag:noindex
X-PUBLISHED-TTL:PT1H
BEGIN:VTIMEZONE
TZID:America/New_York
BEGIN:DAYLIGHT
TZOFFSETFROM:-0500
TZOFFSETTO:-0400
TZNAME:EDT
DTSTART:20220313T070000
END:DAYLIGHT
BEGIN:STANDARD
TZOFFSETFROM:-0400
TZOFFSETTO:-0500
TZNAME:EST
DTSTART:20221106T060000
END:STANDARD
END:VTIMEZONE
BEGIN:VEVENT
DTSTART;VALUE=DATE:20220207
DTEND;VALUE=DATE:20220208
DTSTAMP:20260419T203542
CREATED:20211130T190200Z
LAST-MODIFIED:20211130T190200Z
UID:7700-1644192000-1644278399@vegmichigan.org
SUMMARY:PLANT-BASED GIVEAWAY AT THE TRENTON LIBRARY
DESCRIPTION:VegMichigan is excited to partner with the Trenton Veterans Memorial Library for a plant-based giveaway where we give out bags of popular plant-based foods to people new to plant-based eating.
URL:https://vegmichigan.org/event/plant-based-giveaway-at-the-trenton-library/
LOCATION:MI
ATTACH;FMTTYPE=image/jpeg:https://vegmichigan.org/wp-content/uploads/2021/11/IMG_1391-scaled.jpg
END:VEVENT
BEGIN:VEVENT
DTSTART;VALUE=DATE:20220208
DTEND;VALUE=DATE:20220209
DTSTAMP:20260419T203542
CREATED:20220207T180137Z
LAST-MODIFIED:20220207T180137Z
UID:8092-1644278400-1644364799@vegmichigan.org
SUMMARY:PLANT-BASED 101 BOOK DISPLAY AT THE CAROLINE KENNEDY LIBRARY
DESCRIPTION:PLANT-BASED 101 BOOK DISPLAY AT THE CAROLINE KENNEDY LIBRARY \nVegMichigan is partnering with the Caroline Kennedy Library to bring library patrons a Plant-Based 101 book display that highlights some of the best plant-based books\, cookbooks\, and more that the library has to offer. \nThis display will be up for about a month.
URL:https://vegmichigan.org/event/plant-based-101-book-display-at-the-caroline-kennedy-library/
LOCATION:MI
ATTACH;FMTTYPE=image/jpeg:https://vegmichigan.org/wp-content/uploads/2022/02/20191103_141909.jpg
END:VEVENT
BEGIN:VEVENT
DTSTART;TZID=America/New_York:20220210T190000
DTEND;TZID=America/New_York:20220210T200000
DTSTAMP:20260419T203542
CREATED:20220127T210131Z
LAST-MODIFIED:20220128T144136Z
UID:7998-1644519600-1644523200@vegmichigan.org
SUMMARY:PLANT-BASED COOKING DEMO: VEGAN VALENTINE'S DINNER AND TREATS
DESCRIPTION:PLANT-BASED COOKING DEMO: VEGAN VALENTINE’S DINNER AND TREATS \nJoin us for a virtual Valentine’s Day dinner and treats plant-based cooking demo from Vicki Brett-Gach and Michele Gallo. Vicki and Michele will demo six recipes\, including Vegan Mac & Cheese and Chocolate Mousse\, and then they’ll answer all your questions during a Q&A at the end. \nVicki Brett-Gach is a sugar-free\, oil-free Certified Personal Chef\, Master-Certified Vegan Lifestyle Coach\, and Plant-Based Culinary Instructor. She is a graduate of Dr. McDougall’s Starch Solution Certification program\, and is Forks Over Knives Plant-Based Certified. Vicki is trained in Nutrition for a Healthy Heart\, and in Dietary Therapy for Reversing Common Diseases. She holds certificates in Plant-Based Nutrition (through the T. Colin Campbell Center for Nutrition Studies)\, in the NEURO Plan (through the NEURO Academy)\, in Wellness Counseling (through Cornell University)\, and in Culinary Coaching (through Harvard Medical School and The Institute of Lifestyle Medicine). As a coach\, Vicki works with individual clients\, often helping them reverse health challenges and chronic conditions\, and teaches whole food plant-based cooking classes to groups of all sizes\, with a focus on helping people learn how to make eating healthy EASY. Vicki is the creator of the Ann Arbor Vegan Kitchen blog. Her recipes have been featured in The McDougall Newsletter\, Center For Nutrition Studies Newsletter\, and in multiple magazines and cookbooks. Stay connected with Vicki at AnnArborVeganKitchen.com\, for new recipes as soon as they are published\, and for additional details about her upcoming cookbook! \nMichele Gallo is a Certified Health and Wellness Coach\, Certified Plant-Based Professional\, ACSM Certified Exercise Physiologist\, and Whole Food Plant-based Culinary Instructor. She holds certificates in Culinary Coaching from Harvard Medical School and the Institute for Lifestyle Medicine\, ACLM Lifestyle Medicine for Coaches\, T. Colin Campbell Center for Nutrition Studies in Plant-Based Nutrition\, and is Forks Over Knives Plant-Based Certified. She is also a Conference Coordinator for Plant-Based Prevention Of Disease. \nCheck out the recipes ahead of time here – https://docs.google.com/document/d/1KO2vVgVbly7eL5PtDNVr4ebA5CYm9yhU2vMWdQ6TBPc/edit?usp=sharing \nJoin us on Zoom here – https://us06web.zoom.us/j/81673014160
URL:https://vegmichigan.org/event/plant-based-cooking-demo-vegan-valentines-dinner-and-treats/
LOCATION:MI
ATTACH;FMTTYPE=image/webp:https://vegmichigan.org/wp-content/uploads/2022/01/dsc00934-e1602283902606.jpg.webp
END:VEVENT
BEGIN:VEVENT
DTSTART;VALUE=DATE:20220217
DTEND;VALUE=DATE:20220218
DTSTAMP:20260419T203542
CREATED:20220131T204748Z
LAST-MODIFIED:20220131T204748Z
UID:8049-1645056000-1645142399@vegmichigan.org
SUMMARY:GIVEAWAY FOR THE 30-DAY PLEDGE AT THE HUMANE SOCIETY OF HURON VALLEY
DESCRIPTION:GIVEAWAY FOR THE 30-DAY PLEDGE AT THE HUMANE SOCIETY OF HURON VALLEY \nVegMichigan is excited to partner with the Humane Society of Huron Valley for a plant-based giveaway to kickoff our 30-Day Pledge program where we ask people new to plant-based eating to reduce their consumption of meat\, eggs\, and dairy and increase their consumption of plant-based foods.
URL:https://vegmichigan.org/event/giveaway-for-the-30-day-pledge-at-the-humane-society-of-huron-valley/
LOCATION:MI
ATTACH;FMTTYPE=image/jpeg:https://vegmichigan.org/wp-content/uploads/2022/01/pexels-eylA¼l-10953516-scaled.jpg
END:VEVENT
BEGIN:VEVENT
DTSTART;TZID=America/New_York:20220217T183000
DTEND;TZID=America/New_York:20220217T193000
DTSTAMP:20260419T203542
CREATED:20201222T005332Z
LAST-MODIFIED:20220131T202512Z
UID:4845-1645122600-1645126200@vegmichigan.org
SUMMARY:EMBRACING A PLANT-BASED LIFESTYLE
DESCRIPTION:VegMichigan and the Milford Public Library bring you Embracing a Plant-Based Lifestyle by Marc and Kim Ramirez. \nMarc Ramirez\, a former University of Michigan football player and co-founder of the nonprofit Chickpea and Bean\, will discuss how he lost 50 pounds and reversed Type 2 diabetes and other illnesses with the power of plants. His wife Kim\, co-founder of Chickpea and Bean\, will share tips and tricks about what to shop for and how to prepare food while transitioning to a plant-based lifestyle. Marc has a wonderful story to share and will inspire you to make positive changes in your own life. \nJoin Zoom Meeting here – https://us02web.zoom.us/j/87853870473
URL:https://vegmichigan.org/event/embracing-a-plant-based-lifestyle/
LOCATION:MI
ATTACH;FMTTYPE=image/jpeg:https://vegmichigan.org/wp-content/uploads/2020/12/pexels-wendy-wei-1656666-2-scaled.jpg
END:VEVENT
BEGIN:VEVENT
DTSTART;VALUE=DATE:20220218
DTEND;VALUE=DATE:20220219
DTSTAMP:20260419T203542
CREATED:20220214T165241Z
LAST-MODIFIED:20220214T165241Z
UID:8121-1645142400-1645228799@vegmichigan.org
SUMMARY:30-Day Pledge Giveaway for UofM Students - Partnership with Action4Animals
DESCRIPTION:VegMichigan is partnering with Action4Animals at the University of Michigan to pass out our free bags of plant-based food to students who signed up for the VegMichigan 30-Day Pledge.
URL:https://vegmichigan.org/event/30-day-pledge-giveaway-for-uofm-students-partnership-with-action4animals/
LOCATION:MI
ATTACH;FMTTYPE=image/jpeg:https://vegmichigan.org/wp-content/uploads/2022/02/AFA-Logo.jpg
END:VEVENT
BEGIN:VEVENT
DTSTART;VALUE=DATE:20220220
DTEND;VALUE=DATE:20220221
DTSTAMP:20260419T203542
CREATED:20220204T200202Z
LAST-MODIFIED:20220204T200202Z
UID:8089-1645315200-1645401599@vegmichigan.org
SUMMARY:40-DAY PLEDGE GIVEAWAY AT LORD OF LIGHT
DESCRIPTION:40-DAY PLEDGE GIVEAWAY AT LORD OF LIGHT \nVegMichigan is partnering with Lord of Light Church and Campus Ministry for a 40-Day pledge to reduce their members’ consumption of meat\, dairy\, and eggs for Lent. The pledge also includes a free bag of popular plant-based foods for everyone who signs up.
URL:https://vegmichigan.org/event/40-day-pledge-giveaway-at-lord-of-light/
LOCATION:MI
ATTACH;FMTTYPE=image/jpeg:https://vegmichigan.org/wp-content/uploads/2022/02/pexels-grooveland-designs-3607284-2-scaled.jpg
END:VEVENT
BEGIN:VEVENT
DTSTART;TZID=America/New_York:20220221T170000
DTEND;TZID=America/New_York:20220221T190000
DTSTAMP:20260419T203542
CREATED:20211115T201154Z
LAST-MODIFIED:20211129T160343Z
UID:7620-1645462800-1645470000@vegmichigan.org
SUMMARY:PLANT-BASED DINNER AT MADONNA UNIVERSITY
DESCRIPTION:VegMichigan will host a plant-based dinner and presentation for the Student Senate and president of Madonna University. \nThis is a closed event. \n 
URL:https://vegmichigan.org/event/plant-based-dinner-at-madonna-university/
LOCATION:MI
ATTACH;FMTTYPE=image/jpeg:https://vegmichigan.org/wp-content/uploads/2021/11/Madonna-University-Top-50-Most-Affordable-Masters-in-Public-Health-Online-Programs-2021.jpg
END:VEVENT
BEGIN:VEVENT
DTSTART;VALUE=DATE:20220223
DTEND;VALUE=DATE:20220224
DTSTAMP:20260419T203542
CREATED:20220221T162345Z
LAST-MODIFIED:20220221T162345Z
UID:8148-1645574400-1645660799@vegmichigan.org
SUMMARY:30-DAY PLEDGE GIVEAWAY FOR WAYNE STATE STUDENTS
DESCRIPTION:30-DAY PLEDGE GIVEAWAY FOR WAYNE STATE STUDENTS \nVegMichigan is helping to spread plant-based eating around Wayne State University! We are asking students to take a 30-Day pledge to reduce their members’ consumption of meat\, dairy\, and eggs. Each student who signs up receives a bag of popular plant-based foods to get them started.
URL:https://vegmichigan.org/event/30-day-pledge-giveaway-for-wayne-state-students/
LOCATION:MI
ATTACH;FMTTYPE=image/webp:https://vegmichigan.org/wp-content/uploads/2022/02/636438505395436776-logo-WSU.jpg.webp
END:VEVENT
BEGIN:VEVENT
DTSTART;VALUE=DATE:20220224
DTEND;VALUE=DATE:20220225
DTSTAMP:20260419T203542
CREATED:20220214T164747Z
LAST-MODIFIED:20220214T164908Z
UID:8119-1645660800-1645747199@vegmichigan.org
SUMMARY:30-Day Pledge Giveaway for UofM Student Group Circle K
DESCRIPTION:VegMichigan is partnering with the UofM student group Circle K International for a 30-Day pledge to reduce their members’ consumption of meat\, dairy\, and eggs. The pledge also includes a free bag of popular plant-based foods for everyone who signs up.
URL:https://vegmichigan.org/event/30-day-pledge-giveaway-for-uofm-student-group-circle-k/
LOCATION:MI
ATTACH;FMTTYPE=image/png:https://vegmichigan.org/wp-content/uploads/2021/10/Michigan_Wolverines_Logo.svg.png
END:VEVENT
BEGIN:VEVENT
DTSTART;TZID=America/New_York:20220227T130000
DTEND;TZID=America/New_York:20220227T143000
DTSTAMP:20260419T203542
CREATED:20220131T203654Z
LAST-MODIFIED:20220131T203654Z
UID:8047-1645966800-1645972200@vegmichigan.org
SUMMARY:VIRTUAL BOOK DISCUSSION: ANTIRACISM IN ANIMAL ADVOCACY
DESCRIPTION:Join VegMichigan and Attorneys for Animals for a virtual book discussion as we discuss the rest of the book\, Antiracism in Animal Advocacy: Igniting Cultural Transformation. “This collection of fifteen passionately argued essays by farmed animal protection advocates explains why prioritizing racial diversity\, equity\, and inclusion within animal advocacy is not only essential to creating a more just movement\, but one that is larger\, more dynamic\, and (crucially) more effective.” (from the back cover) \nWe ask that you read the book before the discussion\, or come to listen. Either way\, come with an open mind for learning and reflecting on the essays. \nThe discussion will be held over Zoom. Pre-register for the meeting at this link: https://us06web.zoom.us/meeting/register/tZAqd-itpjsiGdd7N7qqGft11FJWZTy8kN54\nAfter registering\, you will receive a confirmation email from Zoom containing the link to join the meeting. \nYou can order the book (print or ebook) here: https://lanternpm.org/books/antiracism-in-animal-advocacy/ \nListen to audio of the book here: https://www.ourhenhouse.org/audio-series/ \nQuestions? Contact jeri@vegmichigan.org
URL:https://vegmichigan.org/event/virtual-book-discussion/
LOCATION:MI
ATTACH;FMTTYPE=image/png:https://vegmichigan.org/wp-content/uploads/2021/10/Book-Club-feature-image-03.png
END:VEVENT
BEGIN:VEVENT
DTSTART;VALUE=DATE:20220228
DTEND;VALUE=DATE:20220301
DTSTAMP:20260419T203542
CREATED:20211130T190448Z
LAST-MODIFIED:20211130T190448Z
UID:7702-1646006400-1646092799@vegmichigan.org
SUMMARY:PLANT-BASED GIVEAWAY AT THE MILFORD LIBRARY
DESCRIPTION:VegMichigan is excited to partner with the Milford Public Library for a plant-based giveaway where we give out bags of popular plant-based foods to people new to plant-based eating.
URL:https://vegmichigan.org/event/plant-based-giveaway-at-the-milford-library/
LOCATION:MI
ATTACH;FMTTYPE=image/jpeg:https://vegmichigan.org/wp-content/uploads/2021/11/IMG_1264-scaled.jpg
END:VEVENT
END:VCALENDAR