BEGIN:VCALENDAR
VERSION:2.0
PRODID:-//VegMichigan - ECPv5.16.1.1//NONSGML v1.0//EN
CALSCALE:GREGORIAN
METHOD:PUBLISH
X-WR-CALNAME:VegMichigan
X-ORIGINAL-URL:https://vegmichigan.org
X-WR-CALDESC:Events for VegMichigan
REFRESH-INTERVAL;VALUE=DURATION:PT1H
X-Robots-Tag:noindex
X-PUBLISHED-TTL:PT1H
BEGIN:VTIMEZONE
TZID:America/New_York
BEGIN:DAYLIGHT
TZOFFSETFROM:-0500
TZOFFSETTO:-0400
TZNAME:EDT
DTSTART:20230312T070000
END:DAYLIGHT
BEGIN:STANDARD
TZOFFSETFROM:-0400
TZOFFSETTO:-0500
TZNAME:EST
DTSTART:20231105T060000
END:STANDARD
END:VTIMEZONE
BEGIN:VEVENT
DTSTART;TZID=America/New_York:20230104T110000
DTEND;TZID=America/New_York:20230104T120000
DTSTAMP:20260422T190521
CREATED:20221223T185618Z
LAST-MODIFIED:20221223T185618Z
UID:10381-1672830000-1672833600@vegmichigan.org
SUMMARY:JOIN US FOR OUR FIRST TRAVERSE CITY MEETUP
DESCRIPTION:JOIN US FOR OUR FIRST TRAVERSE CITY MEETUP \nStop by for a New Year’s morning social at Edson Farms Market & Deli. \nWe welcome vegetarians\, vegans\, omnivores\, and anyone with a New Year’s resolution! \nIt’s our first meetup in Traverse City – join us! \nPlease RSVP in our Traverse City Meetup group – https://www.meetup.com/traverse-city-vegmichigan-meetup/events/290476848/
URL:https://vegmichigan.org/event/join-us-for-our-first-traverse-city-meetup/
ATTACH;FMTTYPE=image/jpeg:https://vegmichigan.org/wp-content/uploads/2022/12/301749352_8615116318505883_8915768568156733126_n.jpg
END:VEVENT
BEGIN:VEVENT
DTSTART;TZID=America/New_York:20230111T180000
DTEND;TZID=America/New_York:20230111T193000
DTSTAMP:20260422T190521
CREATED:20220728T190959Z
LAST-MODIFIED:20221216T182656Z
UID:9554-1673460000-1673465400@vegmichigan.org
SUMMARY:PLANT-BASED EATING FOR HEALTH (IN-PERSON\, REGISTRATION REQUIRED)
DESCRIPTION:PLANT-BASED EATING FOR HEALTH \nJoin us at the Grand Ledge Library for a presentation on the health benefits of plant-based eating by Drs. Daniel Dubay and Kristin Regan. \nDaniel Dubay\, MD is the Associate Program Director for the Internal Medicine Residency Program at McLaren Greater Lansing and the Multi-Specialty Clinic Director. Dr. Dubay teaches healthy diet and lifestyle to Internal Medicine Resident Physicians. \nKristin Regan\, AuD is an audiologist and the director of Here 4 You Hearing Center in Jackson\, Michigan. Dr. Regan enjoys helping patients lead healthy lives through better hearing and healthy lifestyle choices. \nDrs. Dubay and Regan eat a whole food plant-based (WFPB) diet. They understand the benefits of WFPB and love sharing their knowledge with others. In their spare time\, they enjoy camping with their 3 dogs. \nRegister here – https://www.eventkeeper.com/code/ekform.cfm?curOrg=GLADL&curID=610137&CFID=66983027&CFTOKEN=3a62e0cfaf6d3cb4-19C18FC7-D4AE-528A-5350DECB92689445 \nThis presentation is at the Grand Ledge Library – 131 E Jefferson St\, Grand Ledge\, MI 48837\, United States
URL:https://vegmichigan.org/event/plant-based-eating-for-health/
LOCATION:131 E Jefferson St\, Grand Ledge\, MI 48837\, United States
ATTACH;FMTTYPE=image/jpeg:https://vegmichigan.org/wp-content/uploads/2022/07/26534.jpeg
END:VEVENT
BEGIN:VEVENT
DTSTART;TZID=America/New_York:20230115T123000
DTEND;TZID=America/New_York:20230115T140000
DTSTAMP:20260422T190521
CREATED:20221216T194005Z
LAST-MODIFIED:20221216T194550Z
UID:10344-1673785800-1673791200@vegmichigan.org
SUMMARY:SUNDAY BRUNCH AT CHIVE KITCHEN
DESCRIPTION:SUNDAY BRUNCH AT CHIVE KITCHEN \nJoin us at Chive on Sunday\, January 15\, at 12:30 pm for Sunday brunch. Reserve your spot with payment in advance and check in at the door. Space is limited to 30 attendees and you must register in advance. \n  \nSunday\, January 15. 12:30 seating. \n  \nSunday Brunch Menu \nChive‘s House Scramble\, Shroom Bakon\, Scallions\, Sour Cream\, Cheddar with Paprika Home Fries \nFrench Toast\, Burnt Orange Syrup\, Cream\, Pistachios \nIncludes water service \nCoffee\, beverages\, and full bar available at an additional cost \n  \nVegMichigan Current Member Tickets $25 \nNon-Member $30 \nBuy your ticket and reserve your spot HERE. \nBecome a member HERE to receive the discounted ticket price.
URL:https://vegmichigan.org/event/sunday-brunch-at-chive-kitchen/
ATTACH;FMTTYPE=image/jpeg:https://vegmichigan.org/wp-content/uploads/2022/12/Tofu-Scramble.jpg
END:VEVENT
BEGIN:VEVENT
DTSTART;VALUE=DATE:20230118
DTEND;VALUE=DATE:20230119
DTSTAMP:20260422T190521
CREATED:20221201T093141Z
LAST-MODIFIED:20221201T093141Z
UID:10275-1674000000-1674086399@vegmichigan.org
SUMMARY:30-DAY PLEDGE: UOFM SCHOOL FOR ENVIRONMENT AND SUSTAINABILITY STAFF
DESCRIPTION:30-DAY PLEDGE: UOFM SCHOOL FOR ENVIRONMENT AND SUSTAINABILITY STAFF \n30-Day Pledge Giveaway for the U of M School for the Environment and Sustainability Staff.
URL:https://vegmichigan.org/event/30-day-pledge-uofm-school-for-environment-and-sustainability-staff/
ATTACH;FMTTYPE=image/jpeg:https://vegmichigan.org/wp-content/uploads/2021/11/20210920_161420.jpg
END:VEVENT
BEGIN:VEVENT
DTSTART;TZID=America/New_York:20230126T180000
DTEND;TZID=America/New_York:20230126T190000
DTSTAMP:20260422T190521
CREATED:20230112T184939Z
LAST-MODIFIED:20230112T190050Z
UID:10517-1674756000-1674759600@vegmichigan.org
SUMMARY:Factory FarmIng Volunteer MeetIng (VIrtual)
DESCRIPTION:If you are interested in potentially volunteering for VegMichigan’s factory farming initiative\, please join us for a virtual Zoom meeting to learn more about the issue and we will also be discussing possible approaches to address the problem of factory farming in Michigan. \nJoin Zoom Meeting (no reservation required) https://us06web.zoom.us/j/82011081392 \n 
URL:https://vegmichigan.org/event/factory-farming-volunteer-meeting-virtual/
ATTACH;FMTTYPE=image/webp:https://vegmichigan.org/wp-content/uploads/2023/01/cafo-lagoon-farm-waste-585-mfk020311.webp
END:VEVENT
BEGIN:VEVENT
DTSTART;TZID=America/New_York:20230130T123000
DTEND;TZID=America/New_York:20230130T140000
DTSTAMP:20260422T190521
CREATED:20230115T152931Z
LAST-MODIFIED:20230127T184925Z
UID:10531-1675081800-1675087200@vegmichigan.org
SUMMARY:Vegan Food Sampling
DESCRIPTION:VegMichigan will be passing out vegan samples at Wayne State University to students in the student center.
URL:https://vegmichigan.org/event/vegan-food-sampling/
LOCATION:Wayne State University
ATTACH;FMTTYPE=image/jpeg:https://vegmichigan.org/wp-content/uploads/2023/01/Sampling-e1673796541559.jpg
END:VEVENT
END:VCALENDAR