BEGIN:VCALENDAR
VERSION:2.0
PRODID:-//VegMichigan - ECPv5.16.1.1//NONSGML v1.0//EN
CALSCALE:GREGORIAN
METHOD:PUBLISH
X-WR-CALNAME:VegMichigan
X-ORIGINAL-URL:https://vegmichigan.org
X-WR-CALDESC:Events for VegMichigan
REFRESH-INTERVAL;VALUE=DURATION:PT1H
X-Robots-Tag:noindex
X-PUBLISHED-TTL:PT1H
BEGIN:VTIMEZONE
TZID:America/New_York
BEGIN:DAYLIGHT
TZOFFSETFROM:-0500
TZOFFSETTO:-0400
TZNAME:EDT
DTSTART:20230312T070000
END:DAYLIGHT
BEGIN:STANDARD
TZOFFSETFROM:-0400
TZOFFSETTO:-0500
TZNAME:EST
DTSTART:20231105T060000
END:STANDARD
END:VTIMEZONE
BEGIN:VEVENT
DTSTART;VALUE=DATE:20230301
DTEND;VALUE=DATE:20230302
DTSTAMP:20260422T223254
CREATED:20230126T211554Z
LAST-MODIFIED:20230126T211554Z
UID:10655-1677628800-1677715199@vegmichigan.org
SUMMARY:30-DAY PLEDGE PICKUP AT THE NOVI LIBRARY
DESCRIPTION:30-DAY PLEDGE PICKUP AT THE NOVI LIBRARY \nVegMichigan will be giving out pledge bags to Novi Library patrons who signed up for our 30-Day Pledge Program.
URL:https://vegmichigan.org/event/30-day-pledge-pickup-at-the-novi-library/
ATTACH;FMTTYPE=image/jpeg:https://vegmichigan.org/wp-content/uploads/2022/08/IMG_1264-scaled.jpg
END:VEVENT
BEGIN:VEVENT
DTSTART;VALUE=DATE:20230301
DTEND;VALUE=DATE:20230302
DTSTAMP:20260422T223254
CREATED:20230227T212149Z
LAST-MODIFIED:20230227T212149Z
UID:10847-1677628800-1677715199@vegmichigan.org
SUMMARY:30-DAY PLEDGE PICKUP AT SEEDS ECOLOGY & EDUCATION CENTER
DESCRIPTION:30-DAY PLEDGE PICKUP AT SEEDS ECOLOGY & EDUCATION CENTER \nVegMichigan will be giving out 30-Day Pledge bags at SEEDS Ecology & Education Center.
URL:https://vegmichigan.org/event/30-day-pledge-pickup-at-seeds-ecology-education-center/
ATTACH;FMTTYPE=image/jpeg:https://vegmichigan.org/wp-content/uploads/2021/11/20210920_161420.jpg
END:VEVENT
BEGIN:VEVENT
DTSTART;TZID=America/New_York:20230301T110000
DTEND;TZID=America/New_York:20230301T130000
DTSTAMP:20260422T223254
CREATED:20230202T174229Z
LAST-MODIFIED:20230202T174417Z
UID:10746-1677668400-1677675600@vegmichigan.org
SUMMARY:TRAVERSE CITY MEETUP AT EDSON FARMS
DESCRIPTION:TRAVERSE CITY MEETUP AT EDSON FARMS \nPlease join us for our monthly Traverse City meetup! \nVegans\, vegetarians\, and omnivores are all welcome. We have fun conversations about food and life. \nHope to see you there! \nEdson Farms is located at 835 S Garfield Ave\, Traverse City\, MI 49686
URL:https://vegmichigan.org/event/traverse-city-meetup-at-edson-farms/
LOCATION:835 S Garfield Ave\, Traverse City\, MI 49686
ATTACH;FMTTYPE=image/jpeg:https://vegmichigan.org/wp-content/uploads/2023/02/IMG_9865-scaled.jpg
END:VEVENT
BEGIN:VEVENT
DTSTART;TZID=America/New_York:20230307T190000
DTEND;TZID=America/New_York:20230307T200000
DTSTAMP:20260422T223254
CREATED:20230201T003004Z
LAST-MODIFIED:20230303T160158Z
UID:10717-1678215600-1678219200@vegmichigan.org
SUMMARY:GROWING A GARDEN: A PATH TO PHYSICAL & MENTAL WELL-BEING (VIRTUAL PRESENTATION)
DESCRIPTION:GROWING A GARDEN: A PATH TO PHYSICAL & MENTAL WELL-BEING \nThis presentation will inspire you to start your own garden this spring! \nThis is for anyone who is interested in starting a garden and learning how gardening can help improve your physical and mental well-being. \nPresenters: Matt and Deanna Tregoning are the former owners of Sol to Seed Farm in WA State. They previously farmed on 5 acres and sold produce at Farmers Markets and through a community-supported agriculture program. They continue to grow food on a much smaller scale for themselves and family. \nMatt also has a YouTube channel focused on gardening where he provides education on growing a successful garden from Spring through fall. Deanna is a nurse practitioner specializing in cardiovascular disease. She is interested in disease prevention and progression with a focus on dietary changes to improve health. She promotes Mediterranean and plant-based eating plans and provides education through recipes\, meal planning\, and cooking demonstrations on ways to incorporate healthy meals as part of your everyday diet. \nTopic: Growing a Garden: A Path to Physical & Mental Well-Being\nTime: Mar 7\, 2023 07:00 PM Eastern Time (US and Canada) \nJoin Zoom Meeting\nhttps://us06web.zoom.us/j/89451918647
URL:https://vegmichigan.org/event/growing-a-garden-virtual-presentation/
ATTACH;FMTTYPE=image/jpeg:https://vegmichigan.org/wp-content/uploads/2023/01/Garden-2020-Cucumbers-e1675215002519.jpg
END:VEVENT
BEGIN:VEVENT
DTSTART;VALUE=DATE:20230310
DTEND;VALUE=DATE:20230311
DTSTAMP:20260422T223254
CREATED:20230227T211014Z
LAST-MODIFIED:20230313T135118Z
UID:10843-1678406400-1678492799@vegmichigan.org
SUMMARY:30-DAY PLEDGE PICKUP AT GRAND TRAVERSE AUDUBON CLUB
DESCRIPTION:30-DAY PLEDGE PICKUP AT GRAND TRAVERSE AUDUBON CLUB \nVegMichigan will have a pickup of our 30-Day Pledge bags for the Grand Traverse Audubon Club.
URL:https://vegmichigan.org/event/30-day-pledge-pickup-at-grand-traverse-audubon-club/
ATTACH;FMTTYPE=image/jpeg:https://vegmichigan.org/wp-content/uploads/2022/08/IMG_1471-scaled.jpg
END:VEVENT
BEGIN:VEVENT
DTSTART;TZID=America/New_York:20230310T180000
DTEND;TZID=America/New_York:20230310T200000
DTSTAMP:20260422T223254
CREATED:20230216T153324Z
LAST-MODIFIED:20230301T150353Z
UID:10801-1678471200-1678478400@vegmichigan.org
SUMMARY:VEGAN FISH & CHIPS DINNER MEETUP AT THE OLD SHILLELAGH
DESCRIPTION:VEGAN FISH & CHIPS DINNER MEETUP AT THE OLD SHILLELAGH \nJoin us for a fun night out at The Old Shillelagh! \nYou can order from their large vegan menu or enjoy their vegan fish & chips special! \nVegMichigan will also be raffling off some fun prizes! \nPlease arrive between 6 and 7 pm. We will be on the second floor. \nThere will be a live band starting at 8 pm if you would like to stay. \nEach person/party will pay for their dinner and drinks separately. \nWe hope you can join us! \nPlease RSVP on the Metro Detroit Meetup Group
URL:https://vegmichigan.org/event/dinner-meetup-at-the-old-shillelagh-2/
ATTACH;FMTTYPE=image/jpeg:https://vegmichigan.org/wp-content/uploads/2023/02/Fish-N-Chips-scaled.jpg
END:VEVENT
BEGIN:VEVENT
DTSTART;VALUE=DATE:20230311
DTEND;VALUE=DATE:20230312
DTSTAMP:20260422T223254
CREATED:20220914T140322Z
LAST-MODIFIED:20240305T181213Z
UID:9826-1678492800-1678579199@vegmichigan.org
SUMMARY:PLANT-BASED FOOD GIVEAWAY AT OAKLAND UNIVERSITY
DESCRIPTION:PLANT-BASED FOOD GIVEAWAY AT OAKLAND UNIVERSITY \nVegMichigan is partnering Chickpea & Bean to give out free bags full of delicious plant-based item to Oakland University students.
URL:https://vegmichigan.org/event/30-day-pledge-giveaway-with-the-humane-society-of-huron-valley/
LOCATION:Oakland University\, MI\, United States
ATTACH;FMTTYPE=image/jpeg:https://vegmichigan.org/wp-content/uploads/2023/10/IMG_2446-scaled.jpeg
END:VEVENT
BEGIN:VEVENT
DTSTART;TZID=America/New_York:20230315T183000
DTEND;TZID=America/New_York:20230315T193000
DTSTAMP:20260422T223254
CREATED:20230124T224034Z
LAST-MODIFIED:20230314T142449Z
UID:10638-1678905000-1678908600@vegmichigan.org
SUMMARY:VIRTUAL PLANT-BASED COOKING DEMO - PLANT-BASED RECIPES FOR A BUDGET
DESCRIPTION:PLANT-BASED COOKING DEMO – PLANT-BASED RECIPES FOR A BUDGET \n  \nJoin us for a virtual cooking demo by Vicki Brett-Gach and Michele Gallo. \n  \nRecipes – https://docs.google.com/document/d/17lwpz0nZ4XwnKoAAwGpmuBmfqSgn1JLha-NsoP3W3-g/edit?usp=sharing \n  \nJoin Zoom Meeting – https://us06web.zoom.us/j/81932706772 \n  \nVicki Brett-Gach is a Certified Personal Chef\, Master-Certified Vegan Lifestyle Coach\, and Plant-Based Culinary Instructor\, and is the author of “The Plant-Based for Life Cookbook: Deliciously Simple Recipes to Nourish\, Comfort\, Energize and Renew.” \nVicki is a graduate of Dr. McDougall’s Starch Solution Certification program and is Forks Over Knives Plant-Based Certified. Vicki is trained in Nutrition for a Healthy Heart\, and in Dietary Therapy for Reversing Common Diseases\, and holds certificates in Plant-Based Nutrition (through the T. Colin Campbell Center for Nutrition Studies)\, in Wellness Counseling (through Cornell University)\, and in Culinary Coaching (through Harvard Medical School and The Institute of Lifestyle Medicine). As a coach\, Vicki works with individual clients\, often helping them reverse health challenges and chronic conditions\, and teaches whole food plant-based cooking classes to groups of all sizes\, with a focus on helping people learn how to make eating healthy EASY. \nVicki is the creator of the Ann Arbor Vegan Kitchen blog\, and her recipes have been featured in The McDougall Newsletter\, Center For Nutrition Studies Newsletter\, and multiple magazines and cookbooks. Stay connected with Vicki at AnnArborVeganKitchen.com\, for new recipes as soon as they are published\, and for additional details about her new cookbook. \nMichele Gallo is a Certified Health and Wellness Coach\, Certified Plant-Based Professional\, ACSM Certified Exercise Physiologist\, and Whole Food Plant-based Culinary Instructor. She is certified in Holistic Nutrition and holds certificates in Culinary Coaching from Harvard Medical School and the Institute for Lifestyle Medicine\, ACLM Lifestyle Medicine for Coaches\, T. Colin Campbell Center for Nutrition Studies in Plant-Based Nutrition\, and is Forks Over Knives Plant-Based Certified. She is a Conference Coordinator for the non-profit Plant-Based Prevention Of Disease.
URL:https://vegmichigan.org/event/plant-based-cooking-demo/
ATTACH;FMTTYPE=image/jpeg:https://vegmichigan.org/wp-content/uploads/2023/01/DSC06334.jpeg
END:VEVENT
BEGIN:VEVENT
DTSTART;TZID=America/New_York:20230318T120000
DTEND;TZID=America/New_York:20230318T133000
DTSTAMP:20260422T223254
CREATED:20230124T204244Z
LAST-MODIFIED:20230303T191028Z
UID:10635-1679140800-1679146200@vegmichigan.org
SUMMARY:TRAVERSE CITY MEETUP AT STONEHOUND BREWING COMPANY
DESCRIPTION:TRAVERSE CITY MEETUP AT STONEHOUND BREWING COMPANY \nJoin Val and Nicola\, our Traverse City Meetup organizers\, at Stonehound Brewing Company for a 100% plant-based menu! \nWraps\, burgers\, bowls\, and snacks. Whatever your food preference (vegetarian\, vegan\, omnivore)\, everyone’s welcome! \nFood orders are taken at the bar\, so arrive whenever you want. Val and Nicola be there at noon. \nCheck out the menu – STONE HOUND BREWING CO. \nPlease RSVP through our Traverse City Meetup group
URL:https://vegmichigan.org/event/traverse-city-meetup-at-stonehound-brewing-company/
LOCATION:Stone Hound Brewing Company\, 3593 Bunker Hill Rd\,\, Williamsburg\, MI\, 49690\, United States
ATTACH;FMTTYPE=image/jpeg:https://vegmichigan.org/wp-content/uploads/2023/01/IMG_9912.jpg
END:VEVENT
BEGIN:VEVENT
DTSTART;TZID=America/New_York:20230323T183000
DTEND;TZID=America/New_York:20230323T200000
DTSTAMP:20260422T223254
CREATED:20220524T144019Z
LAST-MODIFIED:20230321T163212Z
UID:9015-1679596200-1679601600@vegmichigan.org
SUMMARY:EMBRACING A PLANT-BASED LIFESTYLE
DESCRIPTION:EMBRACING A PLANT-BASED LIFESTYLE \nJoin us for an in-person presentation by Marc and Kim Ramirez. Hosted in partnership with the Ypsilanti Public Library. \nMarc Ramirez\, a former University of Michigan football player and co-founder of the nonprofit Chickpea and Bean\, will discuss how he lost 50 pounds and reversed Type 2 diabetes and other illnesses with the power of plants. His wife Kim\, co-founder of Chickpea and Bean\, will share tips and tricks about what to shop for and how to prepare food while transitioning to a plant-based lifestyle. Marc has a wonderful story to share and will inspire you to make positive changes in your own life. \nThis event is in person at the Ypsilanti Public Library (5577 Whittaker Rd\, Ypsilanti\, MI 48197)
URL:https://vegmichigan.org/event/embracing-a-plant-based-lifestyle-2/
LOCATION:5577 Whittaker Rd\, Ypsilanti\, MI 48197
ATTACH;FMTTYPE=image/jpeg:https://vegmichigan.org/wp-content/uploads/2022/05/Marc-and-Kim-scaled.jpg
END:VEVENT
BEGIN:VEVENT
DTSTART;TZID=America/New_York:20230325T120000
DTEND;TZID=America/New_York:20230325T140000
DTSTAMP:20260422T223254
CREATED:20230228T185333Z
LAST-MODIFIED:20230228T185333Z
UID:10853-1679745600-1679752800@vegmichigan.org
SUMMARY:ANN ARBOR MEETUP AT JERUSALEM GARDEN
DESCRIPTION:ANN ARBOR MEETUP AT JERUSALEM GARDEN \nSince 1987\, Jerusalem Garden in Ann Arbor has been using family recipes to make hummus\, lentil soup\, veggie grape leaves\, baba ghanoush\, tabouli\, falafel sandwiches\, and much more. \nWith plenty of vegan options and affordable prices\, let’s meet to taste the flavors of the old world. Join us! \nPlease RSVP on the VegMichigan Ann Arbor Meetup Group – https://www.meetup.com/vegmichigan-greater-ann-arbor-area/events/291925167/ \n 
URL:https://vegmichigan.org/event/ann-arbor-meetup-at-jerusalem-garden/
ATTACH;FMTTYPE=image/webp:https://vegmichigan.org/wp-content/uploads/2023/02/600_510975393.webp
END:VEVENT
BEGIN:VEVENT
DTSTART;TZID=America/New_York:20230330T160000
DTEND;TZID=America/New_York:20230330T180000
DTSTAMP:20260422T223254
CREATED:20230307T163528Z
LAST-MODIFIED:20230324T202926Z
UID:10902-1680192000-1680199200@vegmichigan.org
SUMMARY:30-DAY PLANT-BASED PLEDGE FOR YPSILANTI LIBRARY
DESCRIPTION:ps30-DAY PLANT-BASED PLEDGE FOR YPSILANTI \nAre you new to plant-based eating and interested in trying popular plant-based foods for free? If so\, please sign up for our plant-based food giveaway sponsored by VegMichigan! You will receive a reusable thermal bag along with your choice of three popular plant-based products. \nOnce you sign up\, you can pick up your bag at the Ypsilanti District Library on Thursday\, March 30 between 4 and 6pm. \n5577 Whittaker Rd\, Ypsilanti\, MI 48197 \nSign up here: Ypsilanti Pledge Sign Up
URL:https://vegmichigan.org/event/10902/
LOCATION:Ypsilanti District Library\, 5577 Whittaker Rd\, Ypsilanti\, MI\, 48197\, United States
ATTACH;FMTTYPE=image/jpeg:https://vegmichigan.org/wp-content/uploads/2022/08/IMG_1264-scaled.jpg
END:VEVENT
END:VCALENDAR