BEGIN:VCALENDAR
VERSION:2.0
PRODID:-//VegMichigan - ECPv5.16.1.1//NONSGML v1.0//EN
CALSCALE:GREGORIAN
METHOD:PUBLISH
X-ORIGINAL-URL:https://vegmichigan.org
X-WR-CALDESC:Events for VegMichigan
REFRESH-INTERVAL;VALUE=DURATION:PT1H
X-Robots-Tag:noindex
X-PUBLISHED-TTL:PT1H
BEGIN:VTIMEZONE
TZID:America/New_York
BEGIN:DAYLIGHT
TZOFFSETFROM:-0500
TZOFFSETTO:-0400
TZNAME:EDT
DTSTART:20230312T070000
END:DAYLIGHT
BEGIN:STANDARD
TZOFFSETFROM:-0400
TZOFFSETTO:-0500
TZNAME:EST
DTSTART:20231105T060000
END:STANDARD
END:VTIMEZONE
BEGIN:VEVENT
DTSTART;TZID=America/New_York:20230707T130000
DTEND;TZID=America/New_York:20230707T150000
DTSTAMP:20260423T050936
CREATED:20230608T145707Z
LAST-MODIFIED:20230608T145707Z
UID:11475-1688734800-1688742000@vegmichigan.org
SUMMARY:TRAVERSE CITY MEETUP - DAIRY-FREE DIPS AND DRESSINGS
DESCRIPTION:TRAVERSE CITY MEETUP – DAIRY-FREE DIPS AND DRESSINGS \nJust in time for your summer harvest\, join us for a sampling of some delicious\, dairy-free\, dips and dressings! \nOur monthly meetups are an opportunity to meet other folks and learn more about eating\, cooking\, and enjoying plant-based foods. \nAll are invited and welcome to join! \n  \nPlease RSVP on our Traverse City Meetup group – https://www.meetup.com/traverse-city-vegmichigan-meetup/events/293977451/
URL:https://vegmichigan.org/event/traverse-city-meetup-dairy-free-dips-and-dressings/
ATTACH;FMTTYPE=image/jpeg:https://vegmichigan.org/wp-content/uploads/2023/06/unnamed-15.jpg
END:VEVENT
BEGIN:VEVENT
DTSTART;TZID=America/New_York:20230708T090000
DTEND;TZID=America/New_York:20230708T120000
DTSTAMP:20260423T050936
CREATED:20230518T203019Z
LAST-MODIFIED:20230614T150312Z
UID:11438-1688806800-1688817600@vegmichigan.org
SUMMARY:VOLUNTEER MEETUP AT THE FARM AT TRINITY HEALTH
DESCRIPTION:VOLUNTEER MEETUP AT THE FARM AT TRINITY HEALTH \nJoin us for a fun few hours of volunteering outside at The Farm at Trinity Health. \nLocated at – 5557 McAuley Dr\, Ypsilanti\, MI 48197 \nPlease wear proper shoes and clothes for working outside on a farm. We highly recommend you bring a water bottle\, a hat for extra sun protection\, and sunscreen. \nPotential tasks will include weeding\, harvesting produce\, and possibly moving mulch or dirt to fill raised beds. \nRSVP Required – Please RSVP on our Ann Arbor Meetup group. This event is limited to 25 volunteers so please keep your RSVP up to date. \nNote: Please do not bring children under the age of 14. If you want to bring younger children\, email olivia@vegmichigan.org ASAP and I will see if they can be accommodated.
URL:https://vegmichigan.org/event/volunteer-meetup-at-the-farm-st-joes-2/
ATTACH;FMTTYPE=image/jpeg:https://vegmichigan.org/wp-content/uploads/2023/05/Resized952022071695111228-2.jpg
END:VEVENT
BEGIN:VEVENT
DTSTART;VALUE=DATE:20230710
DTEND;VALUE=DATE:20230711
DTSTAMP:20260423T050936
CREATED:20230510T151654Z
LAST-MODIFIED:20230614T150435Z
UID:11395-1688947200-1689033599@vegmichigan.org
SUMMARY:PLANT-BASED CHALLENGE FOR HSHV
DESCRIPTION:PLANT-BASED CHALLENGE FOR HSHV \nVegMichigan will be giving out bags of free plant-based foods to people at The Humane Society of Huron Valley who signed up for our 30-Day Plant-Based Pledge.
URL:https://vegmichigan.org/event/11395/
ATTACH;FMTTYPE=image/jpeg:https://vegmichigan.org/wp-content/uploads/2021/11/20210920_161420.jpg
END:VEVENT
BEGIN:VEVENT
DTSTART;TZID=America/New_York:20230712T180000
DTEND;TZID=America/New_York:20230712T193000
DTSTAMP:20260423T050936
CREATED:20230629T192522Z
LAST-MODIFIED:20230701T150530Z
UID:11749-1689184800-1689190200@vegmichigan.org
SUMMARY:POLICY TALK PART 1: CHANGING RACIAL INEQUALITY IN FOOD AND FARM SYSTEMS
DESCRIPTION:POLICY TALK PART 1: CHANGING RACIAL INEQUALITY IN FOOD AND FARM SYSTEMS \nWe are partnering with For Our Future Michigan and Michiganders for a Just Farming System to offer this two-part series on the Farm Bill. Part 1 is a a panel discussion focused on the lack of Black representation and farmer support for community food access. Panelists include Senator Debbie Stabenow\, Dr. Jasmine Jackson Co-Executive Director of the National Black Food & Justice Alliance\, Asha McElroy\, Youth Representative from Detroit Food Policy Council\, and Malik Yakini\, Co-Founder and Executive Director of Detroit Black Community Food Security Network.  \nRegister to attend Part 1 \n 
URL:https://vegmichigan.org/event/policy-talk-part-1-changing-racial-inequality-in-food-and-farm-systems/
ATTACH;FMTTYPE=image/png:https://vegmichigan.org/wp-content/uploads/2023/06/Farm-Bill-Series-July-12.png
END:VEVENT
BEGIN:VEVENT
DTSTART;TZID=America/New_York:20230713T190000
DTEND;TZID=America/New_York:20230713T200000
DTSTAMP:20260423T050936
CREATED:20230629T195037Z
LAST-MODIFIED:20230713T204359Z
UID:11758-1689274800-1689278400@vegmichigan.org
SUMMARY:PLANT-BASED COOKING MADE EASY AND DELICIOUS
DESCRIPTION:PLANT-BASED COOKING MADE EASY AND DELICIOUS \nAre you curious about plant-based eating but not sure what to prepare? Chantal Singer\, RDN\, will remove the mystery from making super nutritious\, delicious\, and\, most importantly\, EASY creations. \nThis presentation is hosted in partnership with the Troy Library. \nChantal Singer is a Registered Dietitian Nutritionist for Trinity Health’s Michigan Heart & Vascular Institute teaching plant-based eating and lifestyle medicine. Chantal is very passionate about plant-based eating for human health\, planetary health\, and animal welfare. \nPlant-Based Cooking Made Easy and Delicious Recipes  – https://docs.google.com/document/d/1KvrwEjLcw9ax7lxHiPJgvfoMaRc7w5nSHAIpySm7ghM/edit?usp=sharing  \n  \nYou are invited to a Zoom webinar.\nWhen: Jul 13\, 2023 07:00 PM Eastern Time (US and Canada)\nTopic: Plant-based Cooking Made Easy and Delicious \nPlease click the link below to join the webinar:\nhttps://us06web.zoom.us/j/89677232124?pwd=N2U0ZGpob3Y2RVlYOURXUVRlSHg0QT09 \nPasscode: 834016\nOr One tap mobile :\nUS: +13017158592\,\,89677232124#\,\,\,\,*834016#  or +13052241968\,\,89677232124#\,\,\,\,*834016#\nOr Telephone:\nDial(for higher quality\, dial a number based on your current location):\nUS: +1 301 715 8592  or +1 305 224 1968  or +1 309 205 3325  or +1 312 626 6799  or +1 646 931 3860  or +1 929 436 2866  or +1 386 347 5053  or +1 507 473 4847  or +1 564 217 2000  or +1 669 444 9171  or +1 669 900 6833  or +1 689 278 1000  or +1 719 359 4580  or +1 253 205 0468  or +1 253 215 8782  or +1 346 248 7799  or +1 360 209 5623\nWebinar ID: 896 7723 2124\nPasscode: 834016\nInternational numbers available: https://us06web.zoom.us/u/keuflE01ZE
URL:https://vegmichigan.org/event/plant-based-cooking-made-easy-and-delicious-4/
ATTACH;FMTTYPE=image/jpeg:https://vegmichigan.org/wp-content/uploads/2023/06/pexels-alexander-grey-1196516-scaled.jpg
END:VEVENT
BEGIN:VEVENT
DTSTART;VALUE=DATE:20230715
DTEND;VALUE=DATE:20230716
DTSTAMP:20260423T050936
CREATED:20230525T181826Z
LAST-MODIFIED:20230525T181948Z
UID:11456-1689379200-1689465599@vegmichigan.org
SUMMARY:MITTEN MISFITS FARM SANCTUARY OPEN HOUSE
DESCRIPTION:MITTEN MISFITS FARM SANCTUARY OPEN HOUSE\n\nVegMichigan is helping sponsor Mitten Misfits’ open house.\n\nLearn more about Mitten Misfits – https://mittenmisfits.org/
URL:https://vegmichigan.org/event/11456/
ATTACH;FMTTYPE=image/webp:https://vegmichigan.org/wp-content/uploads/2023/05/rsw-883h-522cg-true.webp
END:VEVENT
BEGIN:VEVENT
DTSTART;VALUE=DATE:20230717
DTEND;VALUE=DATE:20230718
DTSTAMP:20260423T050936
CREATED:20230516T171210Z
LAST-MODIFIED:20230516T171210Z
UID:11421-1689552000-1689638399@vegmichigan.org
SUMMARY:ANN ARBOR PARKS AND REC RIVER CLEAN UP
DESCRIPTION:ANN ARBOR PARKS AND REC RIVER CLEAN UP \nVegMichigan will provide a plant-based meal to river clean-up volunteers in partnership with the Ann Arbor Parks and Recreation Department. \n  \n  \nPhoto by:  © Dwight Burdette
URL:https://vegmichigan.org/event/ann-arbor-parks-and-rec-river-clean-up-2/
ATTACH;FMTTYPE=image/jpeg:https://vegmichigan.org/wp-content/uploads/2023/05/Gallup-Park-River-Clean-Up-Meals-scaled.jpg
END:VEVENT
BEGIN:VEVENT
DTSTART;TZID=America/New_York:20230718T183000
DTEND;TZID=America/New_York:20230718T200000
DTSTAMP:20260423T050936
CREATED:20230329T145035Z
LAST-MODIFIED:20230701T011600Z
UID:10983-1689705000-1689710400@vegmichigan.org
SUMMARY:MICHIGANDERS FOR A JUST FARMING SYSTEM MEETING - (VIRTUAL)
DESCRIPTION:Please join us on Tuesday\, July 18 at 6:30pm for our Michiganders for a Just Farming System coalition Zoom meeting. In addition to promoting a plant-based diet\, VegMichigan also co-created this coalition to oppose factory farming in Michigan. If this topic is of interest to you\, join us to learn more.\n\n\nTopic: Michiganders for a Just Farming System Coalition Meeting\nTime: Jul 18\, 2023 06:30 PM Eastern Time (US and Canada) \nJoin Zoom Meeting\nhttps://us06web.zoom.us/j/89125821540 \nMeeting ID: 891 2582 1540
URL:https://vegmichigan.org/event/virtual-michiganders-for-a-just-farming-system-meeting/
ATTACH;FMTTYPE=image/webp:https://vegmichigan.org/wp-content/uploads/2023/01/cafo-lagoon-farm-waste-585-mfk020311.webp
END:VEVENT
BEGIN:VEVENT
DTSTART;TZID=America/New_York:20230719T180000
DTEND;TZID=America/New_York:20230719T193000
DTSTAMP:20260423T050936
CREATED:20230629T193649Z
LAST-MODIFIED:20230717T135938Z
UID:11753-1689789600-1689795000@vegmichigan.org
SUMMARY:POLICY TALK PART 2: ANIMAL WELFARE AND ENVIRONMENTAL JUSTICE
DESCRIPTION:POLICY TALK PART 2: ANIMAL WELFARE AND ENVIRONMENTAL JUSTICE \nWe are partnering with For Our Future Michigan and Michiganders for a Just Farming System to offer this two-part virtual series on the Farm Bill. Part 2 will include a panel discussion on how we can create healthy and whole communities\, protect farm animals\, and preserve local ecosystems. Senator Gary Peters will give a special message by video. Panelists include Bee Friedlander\, President\, Attorneys for Animals\, Adam Mason\, Senior Manager for Farm Animal Welfare and Environmental Policy\, the American Society for the Prevention of Cruelty to Animals (ASPCA)\, and Representative Emily Divendorf. \nRegister to attend Part 2 \n 
URL:https://vegmichigan.org/event/policy-talk-part-2-animal-welfare-and-environmental-justice/
ATTACH;FMTTYPE=image/png:https://vegmichigan.org/wp-content/uploads/2023/06/Farm-Bill-Series-Updated-Pic-7.19.png
END:VEVENT
BEGIN:VEVENT
DTSTART;TZID=America/New_York:20230722T120000
DTEND;TZID=America/New_York:20230722T180000
DTSTAMP:20260423T050936
CREATED:20230510T160024Z
LAST-MODIFIED:20230510T160024Z
UID:11405-1690027200-1690048800@vegmichigan.org
SUMMARY:VEGMICHIGAN TABLING AT VEGAN FEST IN DETROIT
DESCRIPTION:VEGMICHIGAN TABLING AT VEGAN FEST IN DETROIT \nVegMichigan will be tabling at Vegan Fest in Detroit at Detroit Abloom Farm & Wellness Garden. \nLearn more about Vegan Fest here – https://www.detroitabloom.com/workshops-events/4th-annual-vegan-fest
URL:https://vegmichigan.org/event/vegmichigan-tabling-at-vegan-fest-in-detroit/
LOCATION:248 Manistique St\, Detroit\, MI 48215
ATTACH;FMTTYPE=image/jpeg:https://vegmichigan.org/wp-content/uploads/2023/05/43.jpg
END:VEVENT
BEGIN:VEVENT
DTSTART;VALUE=DATE:20230727
DTEND;VALUE=DATE:20230728
DTSTAMP:20260423T050936
CREATED:20230516T171505Z
LAST-MODIFIED:20230516T171505Z
UID:11423-1690416000-1690502399@vegmichigan.org
SUMMARY:ANN ARBOR PARKS AND REC RIVER CLEAN UP
DESCRIPTION:ANN ARBOR PARKS AND REC RIVER CLEAN UP \nVegMichigan will provide a plant-based meal to river clean-up volunteers in partnership with the Ann Arbor Parks and Recreation Department. \n  \n  \nPhoto by:  © Dwight Burdette
URL:https://vegmichigan.org/event/ann-arbor-parks-and-rec-river-clean-up-3/
ATTACH;FMTTYPE=image/jpeg:https://vegmichigan.org/wp-content/uploads/2023/05/Gallup-Park-River-Clean-Up-Meals-scaled.jpg
END:VEVENT
BEGIN:VEVENT
DTSTART;TZID=America/New_York:20230727T180000
DTEND;TZID=America/New_York:20230727T203000
DTSTAMP:20260423T050936
CREATED:20230629T214115Z
LAST-MODIFIED:20230703T150555Z
UID:11766-1690480800-1690489800@vegmichigan.org
SUMMARY:DINNER CLUB MEETUP AT JAMEX BREWING (FOOD FROM RADICAL PLANTS)
DESCRIPTION:DINNER CLUB MEETUP AT JAMEX BREWING (FOOD FROM RADICAL PLANTS) \nJoin us for a dinner club Meetup at Jamex Brewing Co! Everyone is welcome! Radical Plants will deliver food\, choose from the following: \nCup of Tuscan White Bean Soup $5.00 (GF)\nTomato\, Artichoke\, Pesto Baguette Sandwich $7.00\nTex-Mex Sweet Potato on Basmati Rice $9.00 (GF and WFPB and no-oil) \nFood will arrive around 6:30 and we will be there from 6 pm to 8:30 pm (or longer) so join us whenever! You can purchase beer at the brewery but if you would like to order food\, you must purchse and pay for it in advance by clicking the link below. Order food by July 21. Hope to see you! \nPlace Your Food Order Here
URL:https://vegmichigan.org/event/dinner-club-meetup-at-jamex-brewing-food-from-radical-plants/
ATTACH;FMTTYPE=image/webp:https://vegmichigan.org/wp-content/uploads/2023/06/Radical-Plants-e1688176525530.webp
END:VEVENT
END:VCALENDAR