BEGIN:VCALENDAR
VERSION:2.0
PRODID:-//VegMichigan - ECPv5.16.1.1//NONSGML v1.0//EN
CALSCALE:GREGORIAN
METHOD:PUBLISH
X-ORIGINAL-URL:https://vegmichigan.org
X-WR-CALDESC:Events for VegMichigan
REFRESH-INTERVAL;VALUE=DURATION:PT1H
X-Robots-Tag:noindex
X-PUBLISHED-TTL:PT1H
BEGIN:VTIMEZONE
TZID:America/New_York
BEGIN:DAYLIGHT
TZOFFSETFROM:-0500
TZOFFSETTO:-0400
TZNAME:EDT
DTSTART:20230312T070000
END:DAYLIGHT
BEGIN:STANDARD
TZOFFSETFROM:-0400
TZOFFSETTO:-0500
TZNAME:EST
DTSTART:20231105T060000
END:STANDARD
END:VTIMEZONE
BEGIN:VEVENT
DTSTART;VALUE=DATE:20230802
DTEND;VALUE=DATE:20230803
DTSTAMP:20260423T064442
CREATED:20230510T155440Z
LAST-MODIFIED:20230510T165138Z
UID:11401-1690934400-1691020799@vegmichigan.org
SUMMARY:PLANT-BASED CHALLENGE AND PRESENTATION AT THE CITIZENS CLIMATE LOBBY
DESCRIPTION:PLANT-BASED CHALLENGE AND PRESENTATION AT THE CITIZENS CLIMATE LOBBY \nVegMichigan will be giving a presentation about the environmental benefits of a plant-based diet as well as giving away a bag of free plant-based foods to members of the Citizens Climate Lobby Detroit Chapter who signed up for our 30-Day Plant-Based Pledge.
URL:https://vegmichigan.org/event/plant-based-challenge-and-presentation-for-the-citizens-climate-lobby/
ATTACH;FMTTYPE=image/jpeg:https://vegmichigan.org/wp-content/uploads/2023/05/600_507158388.jpeg
END:VEVENT
BEGIN:VEVENT
DTSTART;TZID=America/New_York:20230804T130000
DTEND;TZID=America/New_York:20230804T150000
DTSTAMP:20260423T064442
CREATED:20230717T173949Z
LAST-MODIFIED:20230717T173949Z
UID:11934-1691154000-1691161200@vegmichigan.org
SUMMARY:TRAVERSE CITY MONTHLY MEETUP AT CULTURED KOMBUCHA COMPANY
DESCRIPTION:TRAVERSE CITY MONTHLY MEETUP AT CULTURED KOMBUCHA COMPANY \nCome cool off with a cold kombucha! \nThe August monthly VegMichigan Traverse City Meetup will be held Friday\, August 4th from 1:00-3:00 p.m. at the Cultured Kombucha Company\, 3842 Jupiter Cresent Drive\, Traverse City 49685. \nCome and join us to sample their kombucha and learn about the potential health benefits of drinking fermented teas! \nPlease RSVP in the VegMichigan Traverse City Meetup – https://www.meetup.com/traverse-city-vegmichigan-meetup/events/294789333?utm_medium=email&utm_source=sendgrid&utm_campaign=event_announce_en
URL:https://vegmichigan.org/event/traverse-city-monthly-meetup-at-cultured-kombucha-company/
LOCATION:3842 Jupiter Cresent Drive\, Traverse City 49685
ATTACH;FMTTYPE=image/webp:https://vegmichigan.org/wp-content/uploads/2023/07/600_514379728.webp
END:VEVENT
BEGIN:VEVENT
DTSTART;TZID=America/New_York:20230816T170000
DTEND;TZID=America/New_York:20230816T190000
DTSTAMP:20260423T064442
CREATED:20230725T192333Z
LAST-MODIFIED:20230725T192333Z
UID:11957-1692205200-1692212400@vegmichigan.org
SUMMARY:ANN ARBOR MEETUP AT THE FOOD TRUCK RALLY
DESCRIPTION:ANN ARBOR MEETUP AT THE FOOD TRUCK RALLY \nJoin us on Wednesday\, August 16 for a unique Meetup at the Ann Arbor Food Truck Rally to enjoy some plant-based food and music! \nWe will be at the event from 5 to 7:00. Shimmy Shack will be there\, and there will be some other food trucks that also have vegan options. After dinner\, get dessert at TheTreatTruck or JB Ice Pops! \nWe will meet in the public seating area at the corner of Catherine and 4th St. from 5:00 – 5:30 p.m. Then we will get our food and find an area where we can eat together. \nEveryone is responsible for purchasing their own food and drinks at the rally. Please be prepared to wait in line at the food trucks. \nYou are encouraged to bring a sling-back chair if you have one. \nPlease contact kim@vegmichigan.org if you have any questions. \nSpecial thanks to Kat at TheTreatTruck for letting us know about the rally and providing us with details about the event!
URL:https://vegmichigan.org/event/ann-arbor-meetup-at-the-food-truck-rally/
ATTACH;FMTTYPE=image/png:https://vegmichigan.org/wp-content/uploads/2023/07/Screen-Shot-2023-07-25-at-12.09.06-PM.png
END:VEVENT
BEGIN:VEVENT
DTSTART;VALUE=DATE:20230818
DTEND;VALUE=DATE:20230819
DTSTAMP:20260423T064442
CREATED:20230516T171822Z
LAST-MODIFIED:20230516T171822Z
UID:11425-1692316800-1692403199@vegmichigan.org
SUMMARY:ANN ARBOR PARKS AND REC RIVER CLEAN UP
DESCRIPTION:ANN ARBOR PARKS AND REC RIVER CLEAN UP \nVegMichigan will provide a plant-based meal to river clean-up volunteers in partnership with the Ann Arbor Parks and Recreation Department. \n  \n  \nPhoto by:  © Dwight Burdette
URL:https://vegmichigan.org/event/ann-arbor-parks-and-rec-river-clean-up-4/
ATTACH;FMTTYPE=image/jpeg:https://vegmichigan.org/wp-content/uploads/2023/05/Gallup-Park-River-Clean-Up-Meals-scaled.jpg
END:VEVENT
BEGIN:VEVENT
DTSTART;TZID=America/New_York:20230820T130000
DTEND;TZID=America/New_York:20230820T160000
DTSTAMP:20260423T064442
CREATED:20230815T201646Z
LAST-MODIFIED:20230815T201646Z
UID:12072-1692536400-1692547200@vegmichigan.org
SUMMARY:TABLING AT SASHA FARM HUMANE FAIR
DESCRIPTION:TABLING AT SASHA FARM HUMANE FAIR \nVegMichigan will have an action alert about Senate Bill 275\, giving out literature about the benefits of plant-based eating\, promoting upcoming programs and events\, and more. \nFor more details about the Humane Fair: https://www.sashafarm.org/event/2023-humane-fair/
URL:https://vegmichigan.org/event/tabling-at-sasha-farm-humane-fair/
ATTACH;FMTTYPE=image/png:https://vegmichigan.org/wp-content/uploads/2023/08/SASHA-Humane-Fair-Pic.png
END:VEVENT
BEGIN:VEVENT
DTSTART;TZID=America/New_York:20230823T190000
DTEND;TZID=America/New_York:20230823T203000
DTSTAMP:20260423T064442
CREATED:20230316T143449Z
LAST-MODIFIED:20230802T183446Z
UID:10931-1692817200-1692822600@vegmichigan.org
SUMMARY:FACTORY FARMING PROBLEMS & SOLUTIONS IN MICHIGAN WITH LYNN HENNING
DESCRIPTION:FACTORY FARMING PROBLEMS & SOLUTIONS IN MICHIGAN WITH LYNN HENNING \n\nFactory farming is a growing problem in Michigan. Issues include the harmful impacts it has on small family farmers\, farm animals\, the climate\, and the natural resources of Michigan. Lynn Henning is the Water Rangers Program Director for Socially Responsible Agricultural Project and will discuss some of the problems and solutions to factory farming. Lynn emerged as a leading voice calling on state and federal authorities to hold livestock factory farms accountable to water and air quality laws. With her husband\, she farms 300 acres in Lenawee County\, Michigan\, within 10 miles of 12 CAFOs. As a result of her work to stop pollution from factory farms and to hold state and federal agencies accountable to enforcing laws\, Lynn won the 2010 Goldman Environmental Prize—the environmental equivalent of the Nobel Prize. \nPlus\, learn more about our latest actions to oppose factory farming in Michigan! \nAll attendees can choose one popular plant-based food item to take home. \nPLEASE REGISTER HERE – https://livonia.libcal.com/event/10571804 \nWednesday\, August 23 at 7 pm \n\nLivonia Civic Center Library Auditorium\n32777 Five Mile Rd\, Livonia\, MI 48154\nSponsored by VegMichigan\, Attorneys for Animals\, and Michiganders for a Just Farming System
URL:https://vegmichigan.org/event/factory-farming-problems-solutions-in-michigan-with-lynn-henning/
ATTACH;FMTTYPE=image/jpeg:https://vegmichigan.org/wp-content/uploads/2023/03/Pres_Obama_Lynn_Henning_21April2010_sm.jpg
END:VEVENT
BEGIN:VEVENT
DTSTART;VALUE=DATE:20230831
DTEND;VALUE=DATE:20230901
DTSTAMP:20260423T064442
CREATED:20230810T202231Z
LAST-MODIFIED:20230810T202231Z
UID:12024-1693440000-1693526399@vegmichigan.org
SUMMARY:PLANT-BASED PLEDGE FOR THE HUMANE SOCIETY OF HURON VALLEY
DESCRIPTION:PLANT-BASED PLEDGE FOR THE HUMANE SOCIETY OF HURON VALLEY \nVegMichigan will give away bags of popular plant-based foods to people new to plant-based eating as a part of our 30-Day Pledge Program.
URL:https://vegmichigan.org/event/plant-based-pledge-for-the-huron-valley-humane-society/
ATTACH;FMTTYPE=image/jpeg:https://vegmichigan.org/wp-content/uploads/2023/08/20230710_160313-scaled.jpg
END:VEVENT
END:VCALENDAR