BEGIN:VCALENDAR
VERSION:2.0
PRODID:-//VegMichigan - ECPv5.16.1.1//NONSGML v1.0//EN
CALSCALE:GREGORIAN
METHOD:PUBLISH
X-ORIGINAL-URL:https://vegmichigan.org
X-WR-CALDESC:Events for VegMichigan
REFRESH-INTERVAL;VALUE=DURATION:PT1H
X-Robots-Tag:noindex
X-PUBLISHED-TTL:PT1H
BEGIN:VTIMEZONE
TZID:America/New_York
BEGIN:DAYLIGHT
TZOFFSETFROM:-0500
TZOFFSETTO:-0400
TZNAME:EDT
DTSTART:20230312T070000
END:DAYLIGHT
BEGIN:STANDARD
TZOFFSETFROM:-0400
TZOFFSETTO:-0500
TZNAME:EST
DTSTART:20231105T060000
END:STANDARD
END:VTIMEZONE
BEGIN:VEVENT
DTSTART;TZID=America/New_York:20231201T170000
DTEND;TZID=America/New_York:20231201T220000
DTSTAMP:20260423T150709
CREATED:20231127T195251Z
LAST-MODIFIED:20231127T195443Z
UID:12437-1701450000-1701468000@vegmichigan.org
SUMMARY:KINDLEFEST
DESCRIPTION:KINDLEFEST \nVegMichigan will be handing out samples of local plant-based foods to attendees\, and sharing information on the connection between diet and carbon emissions.
URL:https://vegmichigan.org/event/kindlefest/
ATTACH;FMTTYPE=image/jpeg:https://vegmichigan.org/wp-content/uploads/2023/11/kfest2016-12-02_16-43-36.jpg
END:VEVENT
BEGIN:VEVENT
DTSTART;TZID=America/New_York:20231202T130000
DTEND;TZID=America/New_York:20231202T150000
DTSTAMP:20260423T150709
CREATED:20231114T153915Z
LAST-MODIFIED:20231114T153915Z
UID:12422-1701522000-1701529200@vegmichigan.org
SUMMARY:TRAVERSE CITY MEETUP AND HOLIDAY COOKIE EXCHANGE
DESCRIPTION:TRAVERSE CITY MEETUP AND HOLIDAY COOKIE EXCHANGE \nPlease join us to meet new friends and enjoy the season with a vegan holiday cookie exchange! To be part of the fun\, here is all that you need to do: \n\nPrepare 2 dozen of your favorite vegan cookies.\nPrint out copies of the recipe to share.\nRSVP in the comment section on the Meetup event with the type of cookies you’re bringing (so we don’t have duplicates).\nIf you have a baking mishap or don’t have time to bake\, please bring 2 dozen of your favorite\, ready- made vegan cookies.\nBring a large container to carry your cookies.\nHave fun\, meet new friends\, and enjoy delicious cookies!\nIn addition to delicious cookies for all ages\, we will also have a holiday themed craft for kids to make to decorate your home.\n\nWe hope to see you there! \nPlease RSVP in our VegMichigan Traverse City Meetup group – https://www.meetup.com/traverse-city-vegmichigan-meetup/events/297283272/ \nHere are some great recipes to consider:\n27 Easy Vegan Cookie Recipes – Minimalist Baker
URL:https://vegmichigan.org/event/traverse-city-meetup-and-holiday-cookie-exchange/
LOCATION:3587 Marketplace Cir · Traverse City\, MI
ATTACH;FMTTYPE=image/webp:https://vegmichigan.org/wp-content/uploads/2023/11/600_517188920.webp
END:VEVENT
BEGIN:VEVENT
DTSTART;VALUE=DATE:20231206
DTEND;VALUE=DATE:20231207
DTSTAMP:20260423T150709
CREATED:20231107T191923Z
LAST-MODIFIED:20231107T191923Z
UID:12410-1701820800-1701907199@vegmichigan.org
SUMMARY:MADONNA UNIVERSITY 30-DAY PLEDGE BAG DISTRIBUTION
DESCRIPTION:MADONNA UNIVERSITY 30-DAY PLEDGE BAG DISTRIBUTION \nVegMichigan is distributing bags of plant-based food to students who are taking an animal ethics class at Madonna University and who have signed up to participate in our 30-Day Plant-Based pledge program.
URL:https://vegmichigan.org/event/madonna-university-30-day-pledge-bag-distribution/
ATTACH;FMTTYPE=image/jpeg:https://vegmichigan.org/wp-content/uploads/2023/11/Madonna-Pledge-Picture.jpg
END:VEVENT
BEGIN:VEVENT
DTSTART;TZID=America/New_York:20231208T183000
DTEND;TZID=America/New_York:20231208T190000
DTSTAMP:20260423T150709
CREATED:20231127T220239Z
LAST-MODIFIED:20231208T114041Z
UID:12446-1702060200-1702062000@vegmichigan.org
SUMMARY:ANN ARBOR LIBRARY PLEDGE & PRESENTATION (TRAVERWOOD BRANCH)
DESCRIPTION:ANN ARBOR LIBRARY PLEDGE & PRESENTATION (TRAVERWOOD BRANCH) \nIndividuals who signed up for our 30-Day Plant-Based pledge program\, will attend a short introduction presentation about the program and learn about the benefits of plant-based eating. Then\, we will give them free bags of plant-based items to support them in adding more plant-based meals to their daily routines. \nThis event is open to anyone new to plant-based eating. If you are new to plant-based eating and you want to participate in the 30-Day Plant-Based pledge program and attend the presentation please email Kim@VegMichigan.org.
URL:https://vegmichigan.org/event/ann-arbor-library-pledge-presentation-traverwood-branch/
CATEGORIES:Ann Arbor Pledge
ATTACH;FMTTYPE=image/jpeg:https://vegmichigan.org/wp-content/uploads/2023/11/20231026_174807-1-scaled.jpg
END:VEVENT
BEGIN:VEVENT
DTSTART;VALUE=DATE:20231210
DTEND;VALUE=DATE:20231211
DTSTAMP:20260423T150709
CREATED:20231109T153849Z
LAST-MODIFIED:20231109T153849Z
UID:12417-1702166400-1702252799@vegmichigan.org
SUMMARY:HOLIDAY BRUNCH AT CHIVE (MUST PAY TO RESERVE SPOT)
DESCRIPTION:HOLIDAY BRUNCH AT CHIVE \nJoin us on Sunday\, December 10\, for a plant-based holiday-themed brunch at Chive in Downtown Farmington! Head Chef and Owner Suzy Silvestre will serve everything fresh and made from scratch in Chive’s kitchen. This event will have two seatings\, 11am and 2pm\, and each seating is limited to 30 people\, so don’t miss out! \nMenu: \nCheddar Grits\, Creole Sausage Scramble\, Biscuit\, Creole Sauce \nNog Warmed Bread Pudding\, Rum Caramel\, Cinnamon\, Cream \nCoffee\, beverages\, cocktails\, mimosas\, and beer will be available for purchase separately. \nBrunch is $30/person for current members and $35/person for non-members. This includes the cost of the meal and gratuity. \nMUST PAY IN ADVANCE TO RESERVE SEAT – https://vegmichigan.square.site/product/holiday-brunch-at-chive/105?cp=true&sa=false&sbp=false&q=false&category_id=18 \nIf you are a current member\, you should have received a discount code via email to apply at checkout for the $5 per seat discount. If you believe you are a current member and have not received the discount code\, please contact noelle@vegmichigan.org.
URL:https://vegmichigan.org/event/brunch-at-chive/
ATTACH;FMTTYPE=image/webp:https://vegmichigan.org/wp-content/uploads/2023/11/s901618485998888501_p105_i1_w4080.jpeg.webp
END:VEVENT
BEGIN:VEVENT
DTSTART;TZID=America/New_York:20231213T180000
DTEND;TZID=America/New_York:20231213T193000
DTSTAMP:20260423T150709
CREATED:20231125T022850Z
LAST-MODIFIED:20231125T023020Z
UID:12434-1702490400-1702495800@vegmichigan.org
SUMMARY:MONTHLY DINNER CLUB MEETUP AT MISS KIM IN ANN ARBOR
DESCRIPTION:MONTHLY DINNER CLUB MEETUP AT MISS KIM IN ANN ARBOR \nJoin us for our monthly Ann Arbor Dinner Club Meetup! \nMiss Kim’s has many plant-based options to choose from–all very tasty! \nMiss Kim\, 415 N 5th Ave\, Ann Arbor\, MI 48104 \nCheck out their menu here – https://misskimannarbor.com \nPlease keep your RSVP up to date on our Ann Arbor Meetup page – https://www.meetup.com/vegmichigan-greater-ann-arbor-area/events/297382247/ \nSee you there!
URL:https://vegmichigan.org/event/monthly-dinner-club-meetup-at-miss-kim-in-ann-arbor/
ATTACH;FMTTYPE=image/webp:https://vegmichigan.org/wp-content/uploads/2023/11/600_517311706.webp
END:VEVENT
BEGIN:VEVENT
DTSTART;TZID=America/New_York:20231214T180000
DTEND;TZID=America/New_York:20231214T183000
DTSTAMP:20260423T150709
CREATED:20230810T203739Z
LAST-MODIFIED:20231212T142153Z
UID:12041-1702576800-1702578600@vegmichigan.org
SUMMARY:PLANT-BASED PLEDGE & PRESENTATION FOR HSHV
DESCRIPTION:PLANT-BASED PLEDGE & PRESENTATION FOR HSHV \nVegMichigan is providing a short presentation about our free 30-day plant-based pledge program\, discussing all the benefits of plant-based eating\, the connection to our partnership with the city of Ann Arbor and its A2Zero initiative\, and letting participants know that we are here to support them on their plant-based journey. Participants will also receive their free bag of plant-based food items. \nThis event is at the Humane Society of Huron Valley (HSHV) \nPlease reach out to Kim at kim@vegmichigan.org if you are interested in attending this event.
URL:https://vegmichigan.org/event/plant-based-pledge-presentation-for-hshv-4/
LOCATION:3100 Cherry Hill Rd\, Ann Arbor\, MI 48105
CATEGORIES:Ann Arbor Pledge
ATTACH;FMTTYPE=image/jpeg:https://vegmichigan.org/wp-content/uploads/2023/08/PXL_20230320_211204665-scaled.jpg
END:VEVENT
BEGIN:VEVENT
DTSTART;VALUE=DATE:20231217
DTEND;VALUE=DATE:20231218
DTSTAMP:20260423T150709
CREATED:20231127T212213Z
LAST-MODIFIED:20231127T212213Z
UID:12442-1702771200-1702857599@vegmichigan.org
SUMMARY:YOUNG DEMS WASHTENAW HOLIDAY PARTY
DESCRIPTION:YOUNG DEMS WASHTENAW HOLIDAY PARTY \nVegMichigan will be providing hors d’oeuvres and holiday sweets for the Young Dems Washtenaw Holiday Party.
URL:https://vegmichigan.org/event/young-dems-washtenaw-holiday-party/
ATTACH;FMTTYPE=image/jpeg:https://vegmichigan.org/wp-content/uploads/2023/11/brooke-lark-F_IST8bKxhI-unsplash-scaled.jpg
END:VEVENT
BEGIN:VEVENT
DTSTART;VALUE=DATE:20231219
DTEND;VALUE=DATE:20231220
DTSTAMP:20260423T150709
CREATED:20231204T052221Z
LAST-MODIFIED:20231204T052439Z
UID:12467-1702944000-1703030399@vegmichigan.org
SUMMARY:30-DAY PLEDGE WITH NATIVE FOOD FOR LIFE
DESCRIPTION:30-DAY PLEDGE WITH NATIVE FOOD FOR LIFE \nVegMichigan will be giving out bags of free plant-based foods to people signed up for our 30-Day Plant-Based Pledge program.
URL:https://vegmichigan.org/event/30-day-pledge-with-native-food-for-life/
ATTACH;FMTTYPE=image/jpeg:https://vegmichigan.org/wp-content/uploads/2022/08/IMG_1264-scaled.jpg
END:VEVENT
BEGIN:VEVENT
DTSTART;TZID=America/New_York:20231219T140000
DTEND;TZID=America/New_York:20231219T180000
DTSTAMP:20260423T150709
CREATED:20231219T044625Z
LAST-MODIFIED:20231219T044625Z
UID:12601-1702994400-1703008800@vegmichigan.org
SUMMARY:WICKED KITCHEN GIVEAWAY
DESCRIPTION:WICKED KITCHEN GIVEAWAY \nVegMichigan has partnered with Wicked Kitchen for a huge food giveaway. As a VegMichigan supporter\, you are eligible for this amazing giveaway!\n\nYou can pick any 5 items from a huge selection of Wicked Kitchen products. As an added bonus\, if you are a current VegMichigan paid member\, you can take home 3 additional items. Items include frozen pizza\, burrito bowls\, noodle cups\, mac & cheese\, and much more! This is a great opportunity to try Wicked Kitchen’s products.\n\nYou can pick up your items while supplies last between Monday\, December 18\, and Thursday\, December 21\, from 2 pm until 6 pm each day\, at our office. Mark your calendar\, don’t miss it!\n\nPlease contact tom@vegmichigan.org to let us know you are planning on coming\, or if you have any questions.\n\nVegMichigan\n33900 W 8 Mile Road\, Suite 175\nFarmington Hills\, MI 48335
URL:https://vegmichigan.org/event/wicked-kitchen-giveaway/
ATTACH;FMTTYPE=image/jpeg:https://vegmichigan.org/wp-content/uploads/2023/12/20231215_105959-scaled.jpg
END:VEVENT
BEGIN:VEVENT
DTSTART;TZID=America/New_York:20231220T140000
DTEND;TZID=America/New_York:20231220T180000
DTSTAMP:20260423T150709
CREATED:20231219T045133Z
LAST-MODIFIED:20231219T045133Z
UID:12604-1703080800-1703095200@vegmichigan.org
SUMMARY:WICKED KITCHEN GIVEAWAY
DESCRIPTION:WICKED KITCHEN GIVEAWAY \nVegMichigan has partnered with Wicked Kitchen for a huge food giveaway. As a VegMichigan supporter\, you are eligible for this amazing giveaway!\n\nYou can pick any 5 items from a huge selection of Wicked Kitchen products. As an added bonus\, if you are a current VegMichigan paid member\, you can take home 3 additional items. Items include frozen pizza\, burrito bowls\, noodle cups\, mac & cheese\, and much more! This is a great opportunity to try Wicked Kitchen’s products.\n\nYou can pick up your items while supplies last between Monday\, December 18\, and Thursday\, December 21\, from 2 pm until 6 pm each day\, at our office. Mark your calendar\, don’t miss it!\n\nPlease contact tom@vegmichigan.org to let us know you are planning on coming\, or if you have any questions.\n\nVegMichigan\n33900 W 8 Mile Road\, Suite 175\nFarmington Hills\, MI 48335
URL:https://vegmichigan.org/event/wicked-kitchen-giveaway-2/
ATTACH;FMTTYPE=image/jpeg:https://vegmichigan.org/wp-content/uploads/2023/12/20231215_105950-scaled.jpg
END:VEVENT
BEGIN:VEVENT
DTSTART;TZID=America/New_York:20231221T140000
DTEND;TZID=America/New_York:20231221T180000
DTSTAMP:20260423T150709
CREATED:20231219T045602Z
LAST-MODIFIED:20231219T045602Z
UID:12607-1703167200-1703181600@vegmichigan.org
SUMMARY:WICKED KITCHEN GIVEAWAY
DESCRIPTION:WICKED KITCHEN GIVEAWAY \nVegMichigan has partnered with Wicked Kitchen for a huge food giveaway. As a VegMichigan supporter\, you are eligible for this amazing giveaway!\n\nYou can pick any 5 items from a huge selection of Wicked Kitchen products. As an added bonus\, if you are a current VegMichigan paid member\, you can take home 3 additional items. Items include frozen pizza\, burrito bowls\, noodle cups\, mac & cheese\, and much more! This is a great opportunity to try Wicked Kitchen’s products.\n\nYou can pick up your items while supplies last between Monday\, December 18\, and Thursday\, December 21\, from 2 pm until 6 pm each day\, at our office. Mark your calendar\, don’t miss it!\n\nPlease contact tom@vegmichigan.org to let us know you are planning on coming\, or if you have any questions.\n\nVegMichigan\n33900 W 8 Mile Road\, Suite 175\nFarmington Hills\, MI 48335
URL:https://vegmichigan.org/event/wicked-kitchen-giveaway-3/
ATTACH;FMTTYPE=image/jpeg:https://vegmichigan.org/wp-content/uploads/2023/12/20231215_105916-scaled.jpg
END:VEVENT
END:VCALENDAR