BEGIN:VCALENDAR
VERSION:2.0
PRODID:-//VegMichigan - ECPv5.16.1.1//NONSGML v1.0//EN
CALSCALE:GREGORIAN
METHOD:PUBLISH
X-ORIGINAL-URL:https://vegmichigan.org
X-WR-CALDESC:Events for VegMichigan
REFRESH-INTERVAL;VALUE=DURATION:PT1H
X-Robots-Tag:noindex
X-PUBLISHED-TTL:PT1H
BEGIN:VTIMEZONE
TZID:America/New_York
BEGIN:DAYLIGHT
TZOFFSETFROM:-0500
TZOFFSETTO:-0400
TZNAME:EDT
DTSTART:20240310T070000
END:DAYLIGHT
BEGIN:STANDARD
TZOFFSETFROM:-0400
TZOFFSETTO:-0500
TZNAME:EST
DTSTART:20241103T060000
END:STANDARD
END:VTIMEZONE
BEGIN:VEVENT
DTSTART;TZID=America/New_York:20240302T130000
DTEND;TZID=America/New_York:20240302T150000
DTSTAMP:20260424T001821
CREATED:20240227T181041Z
LAST-MODIFIED:20240301T154757Z
UID:13067-1709384400-1709391600@vegmichigan.org
SUMMARY:TRAVERSE CITY MONTHLY MEETUP - SOUP-ER BOWL SATURDAY SOUP TASTING
DESCRIPTION:TRAVERSE CITY MONTHLY MEETUP – SOUP-ER BOWL SATURDAY SOUP TASTING \n  \nPlease join us for a soup sampling! \nWe will be preparing 3 healthy\, low cost and easy-to-make vegan soups. \nWhatever your food preference (vegetarian\, vegan\, omnivore)\, everyone’s welcome! \n  \nThis event is at Oryana West \n3587 Marketplace Cir · Traverse City\, MI\n\n\nLearn more and RSVP on our Traverse City Meetup Group – https://www.meetup.com/traverse-city-vegmichigan-meetup/events/299164726/
URL:https://vegmichigan.org/event/traverse-city-monthly-meetup-soup-er-bowl-saturday-soup-tasting/
ATTACH;FMTTYPE=image/webp:https://vegmichigan.org/wp-content/uploads/2024/02/600_519097312.webp
END:VEVENT
BEGIN:VEVENT
DTSTART;TZID=America/New_York:20240307T140000
DTEND;TZID=America/New_York:20240307T180000
DTSTAMP:20260424T001821
CREATED:20240102T201305Z
LAST-MODIFIED:20240305T180314Z
UID:12790-1709820000-1709834400@vegmichigan.org
SUMMARY:WICKED KITCHEN GIVEAWAY
DESCRIPTION:WICKED KITCHEN GIVEAWAY \nIf you’d like to try some Wicked Kitchen products or have already tried them and would like to get more\, please come by the VegMichigan office on Thursday\, March 7\, anytime from 2pm-6pm. \nWe are located in the Timber Ridge Office Complex at 33900 W. 8 Mile Rd\, Suite 175\, in Farmington Hills. \nWe have Punchin’ Potatoes & Beans Chili Mac\, Spicy Smoky Dreamy Mac\, Late Night Rice Noodles\, Peng Penang Tofu Curry\, and a few random items. VegMichigan members can take home 10 items. Non-members reading this can take home 5 items. First come\, first served. \nMark your calendar\, don’t miss it! \nPlease contact tom@vegmichigan.org to let us know you are planning on coming\, or if you have any questions.
URL:https://vegmichigan.org/event/wicked-kitchen-giveaway-5/
LOCATION:33900 W 8 Mile Road\, Suite 175 Farmington Hills\, MI 48335
ATTACH;FMTTYPE=image/jpeg:https://vegmichigan.org/wp-content/uploads/2024/01/Wicked-Final-Giveaway.jpg
END:VEVENT
BEGIN:VEVENT
DTSTART;TZID=America/New_York:20240310T133000
DTEND;TZID=America/New_York:20240310T171500
DTSTAMP:20260424T001821
CREATED:20240222T212851Z
LAST-MODIFIED:20240222T212851Z
UID:13040-1710077400-1710090900@vegmichigan.org
SUMMARY:2ND ANNUAL CLIMATE TEACH-IN
DESCRIPTION:2ND ANNUAL CLIMATE TEACH-IN \nVegMichigan is a food sponsor for the 2nd Annual Climate Teach-In at Genesis Ann Arbor. \nWe will provide plant-based food from El Harrisa. We will also be tabling and signing people up for our 30-day Plant-Based Pledge. \nThe event is open to the public and includes great speakers including\, \nUnited States Congresswoman Debbie Dingell as the keynote speaker\, and closing remarks by Missy Stults\, Director of Ann Arbor’s Office of Sustainability and Innovation. \nVisit this webpage for full details and to register: https://www.a2climateteachin.com/
URL:https://vegmichigan.org/event/2nd-annual-climate-teach-in/
ATTACH;FMTTYPE=image/png:https://vegmichigan.org/wp-content/uploads/2024/02/Climate-Teach-In-3.10.24.png
END:VEVENT
BEGIN:VEVENT
DTSTART;VALUE=DATE:20240311
DTEND;VALUE=DATE:20240312
DTSTAMP:20260424T001821
CREATED:20240312T143142Z
LAST-MODIFIED:20240312T143142Z
UID:13113-1710115200-1710201599@vegmichigan.org
SUMMARY:30-DAY PLEDGE AT OAKLAND UNIVERSITY
DESCRIPTION:30-DAY PLEDGE AT OAKLAND UNIVERSITY \nVegMichigan is giving away bags of delicious plant-based foods to students at Oakland University who signed up for our 30-Day Plant-Based Pledge.
URL:https://vegmichigan.org/event/30-day-pledge-at-oakland-university/
ATTACH;FMTTYPE=image/jpeg:https://vegmichigan.org/wp-content/uploads/2023/08/20230710_175758-scaled.jpg
END:VEVENT
BEGIN:VEVENT
DTSTART;TZID=America/New_York:20240313T180000
DTEND;TZID=America/New_York:20240313T193000
DTSTAMP:20260424T001821
CREATED:20240109T184658Z
LAST-MODIFIED:20240109T202050Z
UID:12844-1710352800-1710358200@vegmichigan.org
SUMMARY:EATING TO IMPROVE YOUR HEALTH AND PROTECT THE ENVIRONMENT
DESCRIPTION:EATING TO IMPROVE YOUR HEALTH AND PROTECT THE ENVIRONMENT \nIndustrial agriculture is a growing concern in Michigan causing problems to our health and the environment. We will explore actions we can take to reverse this trend\, including small changes to our diet that will benefit our health\, protect the planet\, and improve animal welfare while still enjoying the foods we love. \nIn addition\, we will share practical tips on how to incorporate more sustainable meals into our diet and you will also have the opportunity to sample a variety of delicious plant-based foods after the presentation. \nPresented by Kim Korona. Kim Korona has a M.Ed. from Cambridge College in affiliation with the Institute for Humane Education. \nThis presentation is in person at the Caro Area District Library. \n840 W Frank St\, Caro\, MI 48723
URL:https://vegmichigan.org/event/12844/
LOCATION:840 W Frank St\, Caro\, MI 48723
ATTACH;FMTTYPE=image/jpeg:https://vegmichigan.org/wp-content/uploads/2024/01/pexels-akil-mazumder-1072824-4-scaled.jpg
END:VEVENT
BEGIN:VEVENT
DTSTART;VALUE=DATE:20240315
DTEND;VALUE=DATE:20240316
DTSTAMP:20260424T001821
CREATED:20240307T143900Z
LAST-MODIFIED:20240307T143900Z
UID:13100-1710460800-1710547199@vegmichigan.org
SUMMARY:30-DAY PLEDGE WITH GRAND TRAVERSE BAY YMCA
DESCRIPTION:30-DAY PLEDGE WITH GRAND TRAVERSE BAY YMCA \nVegMichigan will give out delicious bags of plant-based food to people at the Grand Traverse Bay YMCA as a part of our 30-Day Pledge program.
URL:https://vegmichigan.org/event/30-day-pledge-with-grand-traverse-bay-ymca/
ATTACH;FMTTYPE=image/jpeg:https://vegmichigan.org/wp-content/uploads/2023/11/Madonna-Pledge-Picture.jpg
END:VEVENT
BEGIN:VEVENT
DTSTART;VALUE=DATE:20240317
DTEND;VALUE=DATE:20240318
DTSTAMP:20260424T001821
CREATED:20240222T213256Z
LAST-MODIFIED:20240222T213256Z
UID:13044-1710633600-1710719999@vegmichigan.org
SUMMARY:WASHTENAW DEMOCRATIC VOLUNTEER APPRECIATION EVENT
DESCRIPTION:WASHTENAW DEMOCRATIC VOLUNTEER APPRECIATION EVENT \nVegMichigan will give a brief talk about the environmental benefits of plant-based eating and serve plant-based appetizers.
URL:https://vegmichigan.org/event/washtenaw-democratic-volunteer-appreciation-event/
ATTACH;FMTTYPE=image/jpeg:https://vegmichigan.org/wp-content/uploads/2024/02/WCDP-3.17.24.jpg
END:VEVENT
BEGIN:VEVENT
DTSTART;VALUE=DATE:20240320
DTEND;VALUE=DATE:20240321
DTSTAMP:20260424T001821
CREATED:20231030T201720Z
LAST-MODIFIED:20231030T201720Z
UID:12391-1710892800-1710979199@vegmichigan.org
SUMMARY:PRESENTATION AT THE ANN ARBOR SENIOR CENTER
DESCRIPTION:PRESENTATION AT THE ANN ARBOR SENIOR CENTER \nVegMichigan will give a presentation on the benefits of plant-based eating and provide a light lunch for attendees.
URL:https://vegmichigan.org/event/presentation-at-the-ann-arbor-senior-center/
ATTACH;FMTTYPE=image/png:https://vegmichigan.org/wp-content/uploads/2023/10/vegan-food.png
END:VEVENT
BEGIN:VEVENT
DTSTART;TZID=America/New_York:20240321T180000
DTEND;TZID=America/New_York:20240321T193000
DTSTAMP:20260424T001821
CREATED:20240222T211649Z
LAST-MODIFIED:20240229T143836Z
UID:13036-1711044000-1711049400@vegmichigan.org
SUMMARY:LANSING DINNER MEETUP AT BOBCAT BONNIE'S
DESCRIPTION:LANSING DINNER MEETUP AT BOBCAT BONNIE’S \nJoin VegMichigan for a delicious plant-based dinner at Bobcat Bonnie’s newest location! \nPlease RSVP on our Lansing Meetup page – https://www.meetup.com/vegmichigan-greater-lansing/events/299362330/ \nQuestions or comments about these Meetups? Feel free to contact Katie Johnson at katie@vegmichigan.org.
URL:https://vegmichigan.org/event/lansing-dinner-meetup-at-bobcat-bonnies-2/
ATTACH;FMTTYPE=image/webp:https://vegmichigan.org/wp-content/uploads/2024/02/600_519294719.webp
END:VEVENT
BEGIN:VEVENT
DTSTART;TZID=America/New_York:20240321T183000
DTEND;TZID=America/New_York:20240321T193000
DTSTAMP:20260424T001821
CREATED:20240201T155714Z
LAST-MODIFIED:20240201T155714Z
UID:12979-1711045800-1711049400@vegmichigan.org
SUMMARY:EATING TO IMPROVE YOUR HEALTH AND PROTECT THE ENVIRONMENT
DESCRIPTION:EATING TO IMPROVE YOUR HEALTH AND PROTECT THE ENVIRONMENT \nLearn how you can make small changes to your diet that will benefit your health\, protect the environment\, and improve animal welfare while still enjoying foods you love. We will share practical tips on how to incorporate more plant-based meals into your life. You will also have the opportunity to sample some delicious plant-based snacks. \nRomulus Public Library\, 11121 Wayne Rd\, Romulus\, MI 48174
URL:https://vegmichigan.org/event/eating-to-improve-your-health-and-protect-the-environment-2/
LOCATION:Romulus Public Library\, 11121 Wayne Rd\, Romulus\, MI 48174
ATTACH;FMTTYPE=image/png:https://vegmichigan.org/wp-content/uploads/2024/02/Food.png
END:VEVENT
BEGIN:VEVENT
DTSTART;VALUE=DATE:20240326
DTEND;VALUE=DATE:20240327
DTSTAMP:20260424T001821
CREATED:20240222T214105Z
LAST-MODIFIED:20240222T214105Z
UID:13051-1711411200-1711497599@vegmichigan.org
SUMMARY:PRESENTATION FOR THE UOFM ENVIRONMENTAL CLUB
DESCRIPTION:PRESENTATION FOR THE UOFM ENVIRONMENTAL CLUB \nWe will give a presentation about the environmental benefits of plant-based eating to the Environmental Club at U-M and attendees will have the opportunity to participate in our 30-Day Plant-Based Pledge.
URL:https://vegmichigan.org/event/presentation-for-the-uofm-environmental-club/
ATTACH;FMTTYPE=image/jpeg:https://vegmichigan.org/wp-content/uploads/2024/02/Presentation-Food-and-Carbon-1.jpg
END:VEVENT
BEGIN:VEVENT
DTSTART;TZID=America/New_York:20240327T180000
DTEND;TZID=America/New_York:20240327T193000
DTSTAMP:20260424T001821
CREATED:20240229T153302Z
LAST-MODIFIED:20240229T153302Z
UID:13072-1711562400-1711567800@vegmichigan.org
SUMMARY:ANN ARBOR DINNER MEETUP AT EVEREST SHERPA
DESCRIPTION:ANN ARBOR DINNER MEETUP AT EVEREST SHERPA \nJoin us at Everest Sherpa and savor some native Nepali\, Tibetan\, and Indian cooking! From momos to curry to aloo paratha\, there are many fresh plant-based options to try. \nEveryone is welcome at VegMichigan Meetups\, but we do ask that you enjoy a vegan meal while attending our events. We hope you are able to join us! \nPlease RSVP on our Ann Arbor Meetup page – https://www.meetup.com/vegmichigan-greater-ann-arbor-area/events/299488660/ \nQuestions or comments about these Meetups? Feel free to contact Katie Johnson at katie@vegmichigan.org.
URL:https://vegmichigan.org/event/ann-arbor-dinner-meetup-at-everest-sherpa/
ATTACH;FMTTYPE=image/png:https://vegmichigan.org/wp-content/uploads/2024/02/Everest-Sherpa.png
END:VEVENT
BEGIN:VEVENT
DTSTART;VALUE=DATE:20240328
DTEND;VALUE=DATE:20240329
DTSTAMP:20260424T001821
CREATED:20240222T214530Z
LAST-MODIFIED:20240322T165213Z
UID:13057-1711584000-1711670399@vegmichigan.org
SUMMARY:HOW TO HELP FARM ANIMALS AT THE HUMANE SOCIETY OF HURON VALLEY
DESCRIPTION:PRESENTATION AT THE HUMANE SOCIETY OF HURON VALLEY \nWe will be giving a talk on “How to Help Farm Animals?” at the Humane Society of Huron Valley. \nPlant-based appetizers will be served and attendees will have an opportunity to participate in the 30-Day Plant-Based Pledge. \nPlease register in advance here
URL:https://vegmichigan.org/event/presentation-at-the-humane-society-of-huron-valley/
ATTACH;FMTTYPE=image/png:https://vegmichigan.org/wp-content/uploads/2024/02/HSHV-3.28.24.png
END:VEVENT
BEGIN:VEVENT
DTSTART;TZID=America/New_York:20240328T183000
DTEND;TZID=America/New_York:20240328T200000
DTSTAMP:20260424T001821
CREATED:20240229T154607Z
LAST-MODIFIED:20240229T154607Z
UID:13080-1711650600-1711656000@vegmichigan.org
SUMMARY:TROY DINNER MEETUP AT LEBANESE GRILL
DESCRIPTION:TROY DINNER MEETUP AT LEBANESE GRILL \nWhether you’ve been vegan for a while or are just interested in learning more\, come join us for a meetup at Lebanese Grill in Troy. Featuring a menu with vegan and gluten-free options you’re sure to find something delicious to enjoy. \nEveryone is welcome at VegMichigan Meetups\, but we do ask that you enjoy a vegan meal while attending our events. We hope you are able to join us! \nPlease RSVP on our VegMichigan Detroit Meetup group – https://www.meetup.com/vegmichigan-metro-detroit-meetup/events/299484246/ \nQuestions or comments about these Meetups? Feel free to contact Katie Johnson at katie@vegmichigan.org.
URL:https://vegmichigan.org/event/troy-dinner-meetup-at-lebanese-grill/
ATTACH;FMTTYPE=image/png:https://vegmichigan.org/wp-content/uploads/2024/02/Lebanese-Grill.png
END:VEVENT
END:VCALENDAR