BEGIN:VCALENDAR
VERSION:2.0
PRODID:-//VegMichigan - ECPv5.16.1.1//NONSGML v1.0//EN
CALSCALE:GREGORIAN
METHOD:PUBLISH
X-ORIGINAL-URL:https://vegmichigan.org
X-WR-CALDESC:Events for VegMichigan
REFRESH-INTERVAL;VALUE=DURATION:PT1H
X-Robots-Tag:noindex
X-PUBLISHED-TTL:PT1H
BEGIN:VTIMEZONE
TZID:America/New_York
BEGIN:DAYLIGHT
TZOFFSETFROM:-0500
TZOFFSETTO:-0400
TZNAME:EDT
DTSTART:20240310T070000
END:DAYLIGHT
BEGIN:STANDARD
TZOFFSETFROM:-0400
TZOFFSETTO:-0500
TZNAME:EST
DTSTART:20241103T060000
END:STANDARD
END:VTIMEZONE
BEGIN:VEVENT
DTSTART;TZID=America/New_York:20240708T180000
DTEND;TZID=America/New_York:20240708T190000
DTSTAMP:20260424T063840
CREATED:20240321T212445Z
LAST-MODIFIED:20240321T212445Z
UID:13213-1720461600-1720465200@vegmichigan.org
SUMMARY:MICHIGANDERS FOR A JUST FARMING SYSTEM COALITION MONTHLY MEETING
DESCRIPTION:MICHIGANDERS FOR A JUST FARMING SYSTEM COALITION MONTHLY MEETING \nJoin us for the Michiganders for a Just Farming System coalition’s monthly meeting. Everyone is welcome! \nLearn more about Michiganders for a Just Farming System – https://justfarmingsystem.com/ \nRegister in advance for this meeting:\nhttps://us06web.zoom.us/meeting/register/tZ0sd-2qrjsuGdAJWupPPUwIdEm_-TbpuP5c\nAfter registering\, you will receive a confirmation email containing information about joining the meeting.
URL:https://vegmichigan.org/event/michiganders-for-a-just-farming-system-coalition-monthly-meeting-2/
ATTACH;FMTTYPE=image/png:https://vegmichigan.org/wp-content/uploads/2024/03/Screenshot-2024-03-21-at-5.09.45-PM.png
END:VEVENT
BEGIN:VEVENT
DTSTART;TZID=America/New_York:20240710T070000
DTEND;TZID=America/New_York:20240710T150000
DTSTAMP:20260424T063840
CREATED:20240430T174021Z
LAST-MODIFIED:20240430T174021Z
UID:13571-1720594800-1720623600@vegmichigan.org
SUMMARY:ANN ARBOR FARMERS MARKET
DESCRIPTION:ANN ARBOR FARMERS MARKET \nVegMichigan will be at the Ann Arbor Farmers Market sharing information on the connection between diet and climate\, handing out plant-based food samples\, and offering a special opportunity to sign up for the 30-Day Plant-Based pledge\, with all items locally sourced! \nAnn Arbor Farmers Market\, 315 Detroit St\, Ann Arbor\, MI 48104
URL:https://vegmichigan.org/event/ann-arbor-farmers-market-2/
LOCATION:Ann Arbor Farmers Market\, 315 Detroit St\, Ann Arbor\, MI 48104
CATEGORIES:A2Zero webpage
ATTACH;FMTTYPE=image/png:https://vegmichigan.org/wp-content/uploads/2024/04/Farmers-Market.png
END:VEVENT
BEGIN:VEVENT
DTSTART;TZID=America/New_York:20240710T184500
DTEND;TZID=America/New_York:20240710T204500
DTSTAMP:20260424T063840
CREATED:20240625T180658Z
LAST-MODIFIED:20240625T180658Z
UID:14101-1720637100-1720644300@vegmichigan.org
SUMMARY:MONTHLY LANSING MEETUP AT LOS TRES AMIGOS-MASON
DESCRIPTION:MONTHLY LANSING MEETUP AT LOS TRES AMIGOS-MASON \n\nJoin VegMichigan for Mexican food and trivia at Los Tres Amigos in Mason\, MI!\n\nTry one of their three yummy\, plant-based taco options. Trivia starts at 7:30pm if you’d like to stay!\n\nRSVP here – https://www.meetup.com/vegmichigan-greater-lansing/events/301784126/?isFirstPublish=true
URL:https://vegmichigan.org/event/monthly-lansing-meetup-at-los-tres-amigos-mason/
ATTACH;FMTTYPE=image/png:https://vegmichigan.org/wp-content/uploads/2024/06/los-tres-amigos.png
END:VEVENT
BEGIN:VEVENT
DTSTART;TZID=America/New_York:20240717T140000
DTEND;TZID=America/New_York:20240717T153000
DTSTAMP:20260424T063840
CREATED:20240625T181356Z
LAST-MODIFIED:20240625T181356Z
UID:14106-1721224800-1721230200@vegmichigan.org
SUMMARY:MONTHLY ANN ARBOR MEETUP AT LUCKY KITCHEN
DESCRIPTION:MONTHLY ANN ARBOR MEETUP AT LUCKY KITCHEN\n\nLet’s meet for Chinese food!\n\nLucky Kitchen specializes in steaming vegetables and cooking dishes without oil\, MSG\, salt\, or sugar. And all the veggie items marked on their menu are also vegan. Yum!\n\nRSVP here – https://www.meetup.com/vegmichigan-greater-ann-arbor-area/events/301784385/?isFirstPublish=true
URL:https://vegmichigan.org/event/monthly-ann-arbor-meetup-at-lucky-kitchen/
CATEGORIES:Ann Arbor Pledge
ATTACH;FMTTYPE=image/png:https://vegmichigan.org/wp-content/uploads/2024/06/lucky-kitchen.png
END:VEVENT
BEGIN:VEVENT
DTSTART;TZID=America/New_York:20240720T120000
DTEND;TZID=America/New_York:20240720T180000
DTSTAMP:20260424T063840
CREATED:20240625T182357Z
LAST-MODIFIED:20240625T182357Z
UID:14113-1721476800-1721498400@vegmichigan.org
SUMMARY:DETROIT ABLOOM'S 5TH ANNUAL VEGAN FESTIVAL
DESCRIPTION:DETROIT ABLOOM’S 5TH ANNUAL VEGAN FESTIVAL\n\nVegMichigan will be providing information about the benefits of eating plant-based and taking action to prevent the expansion of factory farms in Michigan.\n\nFree Event and open to the public.\n\nFor more information visit\, https://www.detroitabloom.com/vegan-fest
URL:https://vegmichigan.org/event/detroit-ablooms-5th-annual-vegan-festival/
ATTACH;FMTTYPE=image/jpeg:https://vegmichigan.org/wp-content/uploads/2024/06/20230722_151625-scaled.jpg
END:VEVENT
BEGIN:VEVENT
DTSTART;VALUE=DATE:20240724
DTEND;VALUE=DATE:20240725
DTSTAMP:20260424T063840
CREATED:20240625T181737Z
LAST-MODIFIED:20240625T181835Z
UID:14109-1721779200-1721865599@vegmichigan.org
SUMMARY:UNITED WHOLESALE MORTGAGE WELLNESS POP-UP
DESCRIPTION:UNITED WHOLESALE MORTGAGE WELLNESS POP-UP\n\nVegMichigan will be sharing information on healthy plant-based eating with UWM employees.
URL:https://vegmichigan.org/event/united-wholesale-mortgage-wellness-pop-up/
ATTACH;FMTTYPE=image/png:https://vegmichigan.org/wp-content/uploads/2024/06/Screenshot-2024-06-21-at-12.15.27-PM.png
END:VEVENT
BEGIN:VEVENT
DTSTART;VALUE=DATE:20240725
DTEND;VALUE=DATE:20240726
DTSTAMP:20260424T063840
CREATED:20240723T142850Z
LAST-MODIFIED:20240723T142850Z
UID:14279-1721865600-1721951999@vegmichigan.org
SUMMARY:UNIVERSITY COMMONS 30-DAY PLANT-BASED PLEDGE PICK-UP
DESCRIPTION:UNIVERSITY COMMONS 30-DAY PLANT-BASED PLEDGE PICK-UP\n\nWe will be distributing free bags of plant-based food at the University Commons Condominiums to residents who signed up to participate in our 30-Day Plant-Based Pledge.
URL:https://vegmichigan.org/event/university-commons-30-day-plant-based-pledge-pick-up/
CATEGORIES:A2Zero webpage
ATTACH;FMTTYPE=image/jpeg:https://vegmichigan.org/wp-content/uploads/2024/07/PXL_20230118_202239417-scaled.jpg
END:VEVENT
BEGIN:VEVENT
DTSTART;TZID=America/New_York:20240726T180000
DTEND;TZID=America/New_York:20240726T193000
DTSTAMP:20260424T063840
CREATED:20240709T184602Z
LAST-MODIFIED:20240709T184602Z
UID:14194-1722016800-1722022200@vegmichigan.org
SUMMARY:DETROIT DINNER CLUB AT SHANGRI-LA
DESCRIPTION:DETROIT DINNER CLUB AT SHANGRI-LA \nCome out to Shangri-La in Midtown for a delicious Chinese dinner! All items in the vegetarian section of the main menu are fully plant-based\, with the exceptions of V6 and V10 (can be made vegan on request). And all veggie sushi is either vegan or can be made vegan. Yum!! \n**Please note: We will be on the second floor for this event\, accessible only by stairs. Please plan accordingly.** \nEveryone is welcome at VegMichigan Meetups\, but we do ask that you enjoy a vegan meal while attending our events. We hope you are able to join us! \nRSVP Required on Meetup. RSVP here – https://www.meetup.com/vegmichigan-metro-detroit-meetup/events/302126449/
URL:https://vegmichigan.org/event/detroit-dinner-club-at/
ATTACH;FMTTYPE=image/webp:https://vegmichigan.org/wp-content/uploads/2024/07/600_522218965.webp
END:VEVENT
END:VCALENDAR