BEGIN:VCALENDAR
VERSION:2.0
PRODID:-//VegMichigan - ECPv5.16.1.1//NONSGML v1.0//EN
CALSCALE:GREGORIAN
METHOD:PUBLISH
X-WR-CALNAME:VegMichigan
X-ORIGINAL-URL:https://vegmichigan.org
X-WR-CALDESC:Events for VegMichigan
REFRESH-INTERVAL;VALUE=DURATION:PT1H
X-Robots-Tag:noindex
X-PUBLISHED-TTL:PT1H
BEGIN:VTIMEZONE
TZID:America/New_York
BEGIN:DAYLIGHT
TZOFFSETFROM:-0500
TZOFFSETTO:-0400
TZNAME:EDT
DTSTART:20240310T070000
END:DAYLIGHT
BEGIN:STANDARD
TZOFFSETFROM:-0400
TZOFFSETTO:-0500
TZNAME:EST
DTSTART:20241103T060000
END:STANDARD
END:VTIMEZONE
BEGIN:VEVENT
DTSTART;TZID=America/New_York:20240803T100000
DTEND;TZID=America/New_York:20240803T140000
DTSTAMP:20260424T081556
CREATED:20240617T144901Z
LAST-MODIFIED:20240701T135942Z
UID:13972-1722679200-1722693600@vegmichigan.org
SUMMARY:PLANT-BASED HEALTH & WELLNESS CELEBRATION
DESCRIPTION:Join VegMichigan and Irene’s Myomassology Institute for a special event celebrating Plant-Based Health & Wellness. Enjoy free massage\, informative presentations\, cooking demos\, yoga classes\, and delicious food for purchase from Zella’s. Admission is free but you must register in advance to attend. Register Here. \nMenu from Zella’s\n$10 Plantchiladas w/ cashew cream\, jalapeños\, cilantro\n$5 Chickpea salad wraps\n$5 Bean salad\n$3 Blueberry Lemonade\n$4 Lemon citrus cookies\n$4 Semi sweet chocolate chip cookies\n$4 Oatmeal cherry cookies \nFree massage for the entirety of the event in the Serenity Room and three yoga classes in Bliss Room at 10am\, 11:30am\, and 1pm \nCooking Demos – Pleant-Based 101 (Unity Room)\n10:30am Jeri Schneider – Tofu Scramble\n11:45am Kisa McKinney – Avocado Chocolate Pudding\n1pm Suzy Silvestre – Portuguese Chickpea Tunaless Salad \nPresentations (Tranquillity Room)\n10:30am Kim Korona – Plant-Based Eating for Wellness and Compassion\n11:45am Katie Johnson – Climate Change and Our Food Choices\n1pm Oliver Bosnjakovski – From Heart Attack to Wellness on a Plant-Based Diet \n 
URL:https://vegmichigan.org/event/plant-based-health-wellness-celebration/
LOCATION:Irene’s Myomassology Institute\, 26061 Franklin Rd\,\, Southfield\, MI\, 48033\, United States
ATTACH;FMTTYPE=image/jpeg:https://vegmichigan.org/wp-content/uploads/2024/06/Cooking-Demo-Kisa-scaled-e1719841936943.jpg
END:VEVENT
BEGIN:VEVENT
DTSTART;TZID=America/New_York:20240803T130000
DTEND;TZID=America/New_York:20240803T150000
DTSTAMP:20260424T081556
CREATED:20240709T204455Z
LAST-MODIFIED:20240711T143621Z
UID:14207-1722690000-1722697200@vegmichigan.org
SUMMARY:TRAVERSE CITY MEETUP - DAIRY-FREE DIPS & DRESSINGS
DESCRIPTION:TRAVERSE CITY MEETUP – DAIRY-FREE DIPS & DRESSINGS \nJust in time for your summer harvest\, join us for a sampling of some delicious\, dairy-free\, dips and dressings! \nOur monthly meetups are an opportunity to meet other folks and learn more about eating\, cooking and enjoying plant-based foods.\nAll are invited and welcome to join! \nRSVP here – https://www.meetup.com/traverse-city-vegmichigan-meetup/events/302156846/
URL:https://vegmichigan.org/event/traverse-city-meetup-dairy-free-dips-dressings/
LOCATION:Oryana West\, 3587 Marketplace Circle\, Traverse City\, MI 49684
ATTACH;FMTTYPE=image/jpeg:https://vegmichigan.org/wp-content/uploads/2024/07/vegan-plant-based-news-vegan-dressing-livekindly-1-1-e1557345193958.jpg
END:VEVENT
BEGIN:VEVENT
DTSTART;TZID=America/New_York:20240810T120000
DTEND;TZID=America/New_York:20240810T150000
DTSTAMP:20260424T081556
CREATED:20240722T151007Z
LAST-MODIFIED:20240722T151007Z
UID:14255-1723291200-1723302000@vegmichigan.org
SUMMARY:NEW HOPE TABERNACLE CHURCH BACK 2 SCHOOL BLOCK PARTY AND COMMUNITY HEALTH FAIR
DESCRIPTION:NEW HOPE TABERNACLE CHURCH BACK 2 SCHOOL BLOCK PARTY AND COMMUNITY HEALTH FAIR\n\nVegMichigan will have a table providing information about the benefits of plant-based eating and we will give out free plant-based food samples.\n\nJoin us! – 20221 Lahser Rd.\, Detroit\, MI 48219
URL:https://vegmichigan.org/event/new-hope-tabernacle-church-back-2-school-block-party-and-community-health-fair/
LOCATION:20221 Lahser Rd.\, Detroit\, MI 48219
ATTACH;FMTTYPE=image/png:https://vegmichigan.org/wp-content/uploads/2024/07/New-Hope-Tabernacle-Health-Fair.png
END:VEVENT
BEGIN:VEVENT
DTSTART;TZID=America/New_York:20240812T180000
DTEND;TZID=America/New_York:20240812T190000
DTSTAMP:20260424T081556
CREATED:20240321T212619Z
LAST-MODIFIED:20240321T212619Z
UID:13216-1723485600-1723489200@vegmichigan.org
SUMMARY:MICHIGANDERS FOR A JUST FARMING SYSTEM COALITION MONTHLY MEETING
DESCRIPTION:MICHIGANDERS FOR A JUST FARMING SYSTEM COALITION MONTHLY MEETING \nJoin us for the Michiganders for a Just Farming System coalition’s monthly meeting. Everyone is welcome! \nLearn more about Michiganders for a Just Farming System – https://justfarmingsystem.com/ \nRegister in advance for this meeting:\nhttps://us06web.zoom.us/meeting/register/tZ0sd-2qrjsuGdAJWupPPUwIdEm_-TbpuP5c\nAfter registering\, you will receive a confirmation email containing information about joining the meeting.
URL:https://vegmichigan.org/event/michiganders-for-a-just-farming-system-coalition-monthly-meeting-3/
ATTACH;FMTTYPE=image/png:https://vegmichigan.org/wp-content/uploads/2024/03/Screenshot-2024-03-21-at-5.09.45-PM.png
END:VEVENT
BEGIN:VEVENT
DTSTART;TZID=America/New_York:20240814T120000
DTEND;TZID=America/New_York:20240814T140000
DTSTAMP:20260424T081556
CREATED:20240709T185601Z
LAST-MODIFIED:20240719T153416Z
UID:14199-1723636800-1723644000@vegmichigan.org
SUMMARY:MONTHLY LUNCH CLUB\, RECIPE SWAP\, & PRODUCE SHOPPING AT ANN ARBOR FARMERS MARKET
DESCRIPTION:MONTHLY LUNCH CLUB\, RECIPE SWAP\, & PRODUCE SHOPPING AT ANN ARBOR FARMERS MARKET\nIn August we are mixing things up with a different kind of Meetup! We will meet at the Ann Arbor Farmers Market (at the picnic tables near Detroit St & N Fifth Ave) for lunch. Then we’re going to swap recipes and shop for ingredients at the market. Please join us to enjoy a delicious\, plant-based lunch\, discover new plant-based recipes\, and support local farmers all at once. Fun!!\n\n\nLunch\nThe market doesn’t have a confirmed schedule regarding prepared food options\, but here are some ideas for lunch that are close by: \n\nDetroit Street Filling Station carryout (always delish!)\nMiss Kim carryout: lots of plant-based options\nSparrow Market: grape leaves\, tabbouleh\, chia pudding\nPeople’s Food Coop: premade chickpea salad\, etc.\nPizzaPazza: inside Sparrow Market\, has vegan cheese (and gf crust)\nThere may be plant-based restaurants/food trucks at the market\n\nRecipe Swap\nPlease bring a favorite recipe that incorporates lots of fresh veggies that could be purchased at the market! No need to bring lots of copies–we can save paper by taking photos of each others recipes with our phones. \nShopping\nAnd then we shop! Market information\, including where to park\, how to pay for purchases\, (see FAQ section)\, and what produce will be in season can be found here. \nEveryone is welcome at VegMichigan Meetups\, but we do ask that you enjoy a vegan meal (and in this case purchase vegan items from market vendors) while attending our events. We hope you are able to join us! \nRSVP Required on Meetup. RSVP here – https://www.meetup.com/vegmichigan-metro-detroit-meetup/events/302126449/
URL:https://vegmichigan.org/event/14199/
CATEGORIES:A2Zero webpage
ATTACH;FMTTYPE=image/webp:https://vegmichigan.org/wp-content/uploads/2024/07/600_522113559.webp
END:VEVENT
BEGIN:VEVENT
DTSTART;TZID=America/New_York:20240816T150000
DTEND;TZID=America/New_York:20240816T180000
DTSTAMP:20260424T081556
CREATED:20240808T164117Z
LAST-MODIFIED:20240808T164117Z
UID:14327-1723820400-1723831200@vegmichigan.org
SUMMARY:DIXBORO FARMERS MARKET
DESCRIPTION:DIXBORO FARMERS MARKET\n\nVegMichigan will be at the market sharing information about the connection between food choices and climate\, distributing plant-based food samples\, and signing up participants for our 30-Day Pledge.
URL:https://vegmichigan.org/event/dixboro-farmers-market/
LOCATION:Dixboro Farmers Market\, 5221 Church Rd\, Ann Arbor\, MI 48105
ATTACH;FMTTYPE=image/png:https://vegmichigan.org/wp-content/uploads/2024/08/farmers-market.png
END:VEVENT
BEGIN:VEVENT
DTSTART;VALUE=DATE:20240821
DTEND;VALUE=DATE:20240822
DTSTAMP:20260424T081556
CREATED:20240820T170708Z
LAST-MODIFIED:20240820T170708Z
UID:14390-1724198400-1724284799@vegmichigan.org
SUMMARY:AT&T EMPLOYEE HEALTH FAIR
DESCRIPTION:AT&T EMPLOYEE HEALTH FAIR\n\nWe will be doing outreach at this event to spread awareness about the health benefits\nof plant-based eating.
URL:https://vegmichigan.org/event/att-employee-health-fair/
ATTACH;FMTTYPE=image/jpeg:https://vegmichigan.org/wp-content/uploads/2024/08/20240720_145750-scaled.jpg
END:VEVENT
BEGIN:VEVENT
DTSTART;TZID=America/New_York:20240824T100000
DTEND;TZID=America/New_York:20240824T113000
DTSTAMP:20260424T081556
CREATED:20240723T143846Z
LAST-MODIFIED:20240723T143846Z
UID:14283-1724493600-1724499000@vegmichigan.org
SUMMARY:LANSING MEETUP AT STRANGE MATTER
DESCRIPTION:LANSING MEETUP AT STRANGE MATTER\n\n\nJoin us at Strange Matter Downtown for donuts and coffee! Almost everything here is plant-based and clearly marked. We will grab donuts and coffee and walk along the river trail\, if everyone wants to. \nPlease RSVP on our Lansing Meetup page – https://www.meetup.com/vegmichigan-greater-lansing/events/302404120/ \nJoin us – 331 S Washington Square\, Lansing\, MI 48933
URL:https://vegmichigan.org/event/lansing-meetup-at-strange-matter/
LOCATION:331 S Washington Square\, Lansing\, MI 48933
ATTACH;FMTTYPE=image/png:https://vegmichigan.org/wp-content/uploads/2024/07/Strange-Matter.png
END:VEVENT
BEGIN:VEVENT
DTSTART;TZID=America/New_York:20240827T170000
DTEND;TZID=America/New_York:20240827T183000
DTSTAMP:20260424T081556
CREATED:20240801T142858Z
LAST-MODIFIED:20240801T142858Z
UID:14316-1724778000-1724783400@vegmichigan.org
SUMMARY:DETROIT MEETUP AT DETROIT VEGAN SOUL
DESCRIPTION:DETROIT MEETUP AT DETROIT VEGAN SOUL\n\nPlease RSVP on Meetup – https://www.meetup.com/vegmichigan-metro-detroit-meetup/events/302556828/?slug=vegmichigan-metro-detroit-meetup&isFirstPublish=true\n\nLet’s go to Detroit Vegan Soul for some amazing soul food and a full menu of fabulous plant-based choices!
URL:https://vegmichigan.org/event/detroit-meetup-at-detroit-vegan-soul/
LOCATION:Detroit Vegan Soul\, 19614 Grand River Ave\, Detroit\, MI 48223
ATTACH;FMTTYPE=image/jpeg:https://vegmichigan.org/wp-content/uploads/2024/08/Detroit-Vegan-Soul.jpg
END:VEVENT
BEGIN:VEVENT
DTSTART;VALUE=DATE:20240830
DTEND;VALUE=DATE:20240831
DTSTAMP:20260424T081556
CREATED:20240808T164424Z
LAST-MODIFIED:20240808T164424Z
UID:14332-1724976000-1725062399@vegmichigan.org
SUMMARY:ANN ARBOR MEALS ON WHEELS
DESCRIPTION:ANN ARBOR MEALS ON WHEELS\n\nVegMichigan will be delivering free plant-based food to Meals on Wheels clients who are interested in trying plant-based food products that are new to them.
URL:https://vegmichigan.org/event/ann-arbor-meals-on-wheels/
ATTACH;FMTTYPE=image/jpeg:https://vegmichigan.org/wp-content/uploads/2024/08/Meals-on-Wheels-1.jpg
END:VEVENT
BEGIN:VEVENT
DTSTART;VALUE=DATE:20240831
DTEND;VALUE=DATE:20240901
DTSTAMP:20260424T081556
CREATED:20240815T150657Z
LAST-MODIFIED:20240815T150657Z
UID:14356-1725062400-1725148799@vegmichigan.org
SUMMARY:U-M TAILGATE PARTY
DESCRIPTION:U-M TAILGATE PARTY\n\nWe will serve plant-based samples and give out information about the environmental benefits of plant-based eating near the stadium to the crowds of people who will be out for the big game.
URL:https://vegmichigan.org/event/u-m-tailgate-party/
ATTACH;FMTTYPE=image/jpeg:https://vegmichigan.org/wp-content/uploads/2024/08/MSU-Tailgate-scaled.jpg
END:VEVENT
END:VCALENDAR