BEGIN:VCALENDAR
VERSION:2.0
PRODID:-//VegMichigan - ECPv5.16.1.1//NONSGML v1.0//EN
CALSCALE:GREGORIAN
METHOD:PUBLISH
X-ORIGINAL-URL:https://vegmichigan.org
X-WR-CALDESC:Events for VegMichigan
REFRESH-INTERVAL;VALUE=DURATION:PT1H
X-Robots-Tag:noindex
X-PUBLISHED-TTL:PT1H
BEGIN:VTIMEZONE
TZID:America/New_York
BEGIN:DAYLIGHT
TZOFFSETFROM:-0500
TZOFFSETTO:-0400
TZNAME:EDT
DTSTART:20240310T070000
END:DAYLIGHT
BEGIN:STANDARD
TZOFFSETFROM:-0400
TZOFFSETTO:-0500
TZNAME:EST
DTSTART:20241103T060000
END:STANDARD
END:VTIMEZONE
BEGIN:VEVENT
DTSTART;TZID=America/New_York:20241003T100000
DTEND;TZID=America/New_York:20241003T140000
DTSTAMP:20260424T113640
CREATED:20240829T153642Z
LAST-MODIFIED:20240829T153756Z
UID:14454-1727949600-1727964000@vegmichigan.org
SUMMARY:"JUST ASK" FOUNDATION 4TH ANNUAL HEALTH & FUN FAIR
DESCRIPTION:“JUST ASK” FOUNDATION 4TH ANNUAL HEALTH & FUN FAIR\n\nVegMichigan will be sharing information about the benefits of plant-based eating\, and offering free plant-based food samples to attendees.
URL:https://vegmichigan.org/event/just-ask-foundation-4th-annual-health-fun-fair/
LOCATION:Eastern Market Shed #5\, 2934 Russell St\, Detroit MI 48207
ATTACH;FMTTYPE=image/jpeg:https://vegmichigan.org/wp-content/uploads/2024/08/Health-Fair-scaled.jpg
END:VEVENT
BEGIN:VEVENT
DTSTART;TZID=America/New_York:20241006T120000
DTEND;TZID=America/New_York:20241006T160000
DTSTAMP:20260424T113640
CREATED:20240912T184605Z
LAST-MODIFIED:20240912T184605Z
UID:14589-1728216000-1728230400@vegmichigan.org
SUMMARY:TABLING AT MOONSTER MASH AT BARN
DESCRIPTION:TABLING AT MOONSTER MASH AT BARN\n\nEnjoy delicious plant-based foods from local foods trucks\, yummy donuts\, and delicious cider. Kids can trick-or-treat at various stations\, take part in arts and crafts\, get their faces painted\, and win prizes while learning all about the residents here at Barn! Plus\, get a prize just by coming in costume!\n\nGet your tickets HERE
URL:https://vegmichigan.org/event/tabling-at-moonster-mash-at-barn/
ATTACH;FMTTYPE=image/jpeg:https://vegmichigan.org/wp-content/uploads/2024/09/https-cdn.evbuc_.com-images-823098039-459724145122-1-original.20240808-130440.jpeg
END:VEVENT
BEGIN:VEVENT
DTSTART;VALUE=DATE:20241007
DTEND;VALUE=DATE:20241008
DTSTAMP:20260424T113640
CREATED:20240912T183838Z
LAST-MODIFIED:20240912T183838Z
UID:14584-1728259200-1728345599@vegmichigan.org
SUMMARY:MEALS ON WHEELS FREE PLANT-BASED FOOD GIVEAWAY
DESCRIPTION:Meals on Wheels Free Plant-Based Food Giveaway\n\nVegMichigan will be delivering free plant-based food to Meals on Wheels clients who are interested in trying plant-based food products that are new to them.
URL:https://vegmichigan.org/event/meals-on-wheels-free-plant-based-food-giveaway/
CATEGORIES:A2Zero webpage
ATTACH;FMTTYPE=image/jpeg:https://vegmichigan.org/wp-content/uploads/2023/08/PXL_20230320_211204665-scaled.jpg
END:VEVENT
BEGIN:VEVENT
DTSTART;TZID=America/New_York:20241008T190000
DTEND;TZID=America/New_York:20241008T203000
DTSTAMP:20260424T113640
CREATED:20240722T152532Z
LAST-MODIFIED:20240722T152532Z
UID:14267-1728414000-1728419400@vegmichigan.org
SUMMARY:CITIZENS FOR PEACE VIRTUAL PRESENTATION: PLANT-FORWARD FOR OUR HEALTH AND SUSTAINABILITY
DESCRIPTION:CITIZENS FOR PEACE VIRTUAL PRESENTATION: PLANT-FORWARD FOR OUR HEALTH AND SUSTAINABILITY\n\nWe will discuss the connection between inner peace and our food choices.\n\nAdditionally\, we will discuss how our industrial animal agriculture system is causing harm to workers\, animals\, communities\, and the environment on a global scale\, as well as the devastation that factory farms are having on local Michigan communities.\n\nWe will share actions we can take to prevent the proliferation of factory farms in our state and why it is critical for the health and well-being of people and Michigan’s waterways\, and to mitigate climate change.\n\nFree and open to the public\n\nFor more details and to access the virtual meeting link visit http://www.citizens4peace.com/
URL:https://vegmichigan.org/event/14267/
ATTACH;FMTTYPE=image/png:https://vegmichigan.org/wp-content/uploads/2024/07/Citizens-for-Peace-1.png
END:VEVENT
BEGIN:VEVENT
DTSTART;TZID=America/New_York:20241009T070000
DTEND;TZID=America/New_York:20241009T150000
DTSTAMP:20260424T113640
CREATED:20240829T154005Z
LAST-MODIFIED:20240829T154005Z
UID:14459-1728457200-1728486000@vegmichigan.org
SUMMARY:ANN ARBOR FARMERS MARKET
DESCRIPTION:ANN ARBOR FARMERS MARKET\n\n\nVegMichigan will be at the market sharing information about food and climate\, offering free plant-based food samples to shoppers\, and signing up participants for our 30-Day Plant-Based Pledge.\n\n\nLocation: Ann Arbor Farmers Market\, 315 Detroit St\, Ann Arbor\, MI 48104
URL:https://vegmichigan.org/event/ann-arbor-farmers-market-4/
LOCATION:Ann Arbor Farmers Market\, 315 Detroit St\, Ann Arbor\, MI 48104
CATEGORIES:A2Zero webpage
ATTACH;FMTTYPE=image/png:https://vegmichigan.org/wp-content/uploads/2024/08/Farmers-Market-2.png
END:VEVENT
BEGIN:VEVENT
DTSTART;VALUE=DATE:20241010
DTEND;VALUE=DATE:20241011
DTSTAMP:20260424T113640
CREATED:20241010T192221Z
LAST-MODIFIED:20241010T192851Z
UID:14749-1728518400-1728604799@vegmichigan.org
SUMMARY:ISLAND CITY ASSISTED LIVING
DESCRIPTION:Residents and staff will enjoy a plant-based chlli lunch and learn about how they can make small changes to eat more healthy and sustainable.
URL:https://vegmichigan.org/event/island-city-assisted-living/
LOCATION:Island City Assisted Living
ATTACH;FMTTYPE=image/jpeg:https://vegmichigan.org/wp-content/uploads/2024/10/Island-City-1-e1728588354664.jpg
END:VEVENT
BEGIN:VEVENT
DTSTART;VALUE=DATE:20241013
DTEND;VALUE=DATE:20241014
DTSTAMP:20260424T113640
CREATED:20240730T195622Z
LAST-MODIFIED:20240730T195622Z
UID:14312-1728777600-1728863999@vegmichigan.org
SUMMARY:PLANT-BASED TASTING AND PRESENTATION AT THE EPISCOPAL CHURCH OF THE INCARNATION
DESCRIPTION:PLANT-BASED TASTING AND PRESENTATION AT THE EPISCOPAL CHURCH OF THE INCARNATION\n\nWe will provide a presentation about the benefits of plant-based eating for people\, animals\, and the environment\, we will provide a plant-based tasting\, and participants will have the opportunity to sign-up for the 30-Day Plant-Based Pledge.
URL:https://vegmichigan.org/event/14312/
CATEGORIES:A2Zero webpage
ATTACH;FMTTYPE=image/jpeg:https://vegmichigan.org/wp-content/uploads/2024/07/IMG_3184-scaled.jpeg
END:VEVENT
BEGIN:VEVENT
DTSTART;TZID=America/New_York:20241014T180000
DTEND;TZID=America/New_York:20241014T190000
DTSTAMP:20260424T113640
CREATED:20240321T213003Z
LAST-MODIFIED:20240321T213003Z
UID:13222-1728928800-1728932400@vegmichigan.org
SUMMARY:MICHIGANDERS FOR A JUST FARMING SYSTEM COALITION MONTHLY MEETING
DESCRIPTION:MICHIGANDERS FOR A JUST FARMING SYSTEM COALITION MONTHLY MEETING \nJoin us for the Michiganders for a Just Farming System coalition’s monthly meeting. Everyone is welcome! \nLearn more about Michiganders for a Just Farming System – https://justfarmingsystem.com/ \nRegister in advance for this meeting:\nhttps://us06web.zoom.us/meeting/register/tZ0sd-2qrjsuGdAJWupPPUwIdEm_-TbpuP5c\nAfter registering\, you will receive a confirmation email containing information about joining the meeting.
URL:https://vegmichigan.org/event/michiganders-for-a-just-farming-system-coalition-monthly-meeting-5/
ATTACH;FMTTYPE=image/png:https://vegmichigan.org/wp-content/uploads/2024/03/Screenshot-2024-03-21-at-5.09.45-PM.png
END:VEVENT
BEGIN:VEVENT
DTSTART;VALUE=DATE:20241015
DTEND;VALUE=DATE:20241016
DTSTAMP:20260424T113640
CREATED:20241010T190221Z
LAST-MODIFIED:20241010T190349Z
UID:14744-1728950400-1729036799@vegmichigan.org
SUMMARY:Youth Climate Action Now (YCAN) Meeting
DESCRIPTION:We are leading a workshop to discuss how eating more plant-based can lower our carbon footprint for YCAN\, a high school group in Ann Arbor working to mitigate climate change. YCAN members will also be invited to participate in our 30-Day Plant-Based Pledge.
URL:https://vegmichigan.org/event/youth-climate-action-now-ycan-meeting/
CATEGORIES:A2Zero webpage
ATTACH;FMTTYPE=image/jpeg:https://vegmichigan.org/wp-content/uploads/2024/10/IMG_2927-2-scaled.jpeg
END:VEVENT
BEGIN:VEVENT
DTSTART;VALUE=DATE:20241016
DTEND;VALUE=DATE:20241017
DTSTAMP:20260424T113640
CREATED:20240912T184121Z
LAST-MODIFIED:20240912T184121Z
UID:14586-1729036800-1729123199@vegmichigan.org
SUMMARY:MADONNA UNIVERSITY: ANIMAL ETHICS CLASS
DESCRIPTION:MADONNA UNIVERSITY: ANIMAL ETHICS CLASS\n\nWe are teaching an educational program to an animal ethics class at Madonna University. We will foster empathy and compassion for animals and invite students to think critically about the human-animal relationship\, and to specifically question the use of animals as food. Students in the class will be given the opportunity to participate in our 30-day plant-based pledge program.
URL:https://vegmichigan.org/event/madonna-university-animal-ethics-class/
ATTACH;FMTTYPE=image/png:https://vegmichigan.org/wp-content/uploads/2024/09/Our-Relationship-to-Animals-1-1.png
END:VEVENT
BEGIN:VEVENT
DTSTART;TZID=America/New_York:20241016T150000
DTEND;TZID=America/New_York:20241016T163000
DTSTAMP:20260424T113640
CREATED:20240930T164113Z
LAST-MODIFIED:20240930T190451Z
UID:14720-1729090800-1729096200@vegmichigan.org
SUMMARY:ANN ARBOR MEETUP AT JERUSALEM GARDEN
DESCRIPTION:ANN ARBOR MEETUP AT JERUSALEM GARDEN \nHang out with VegMichigan for a late lunch at Jerusalem Garden! This Middle Eastern eatery has a variety of delicious vegan options clearly marked on the menu. Yum! \nPlease RSVP here.
URL:https://vegmichigan.org/event/ann-arbor-meetup-at-jerusalem-garden-2/
LOCATION:Jerusalem Garden\, 314 E Liberty St\, Ann Arbor\, MI 48104
CATEGORIES:A2Zero webpage
ATTACH;FMTTYPE=image/png:https://vegmichigan.org/wp-content/uploads/2024/09/Screenshot-2024-09-30-at-12.10.39-PM.png
END:VEVENT
BEGIN:VEVENT
DTSTART;TZID=America/New_York:20241018T180000
DTEND;TZID=America/New_York:20241018T193000
DTSTAMP:20260424T113640
CREATED:20240930T175702Z
LAST-MODIFIED:20240930T190539Z
UID:14728-1729274400-1729279800@vegmichigan.org
SUMMARY:SOUTHFIELD MEETUP AT BIGALORA
DESCRIPTION:SOUTHFIELD MEETUP AT BIGALORA \nSpend your Friday night with VegMichigan at Bigalora in Southfield! Check out their vegan-friendly menu with delicious pizzas\, pasta\, salads\, and appetizers. \nPlease RSVP here.
URL:https://vegmichigan.org/event/southfield-meetup-at-bigalora/
LOCATION:Bigalora\, 29110 Franklin Rd\, Southfield\, MI 48034
ATTACH;FMTTYPE=image/png:https://vegmichigan.org/wp-content/uploads/2024/09/Screenshot-2024-09-30-at-1.47.45-PM.png
END:VEVENT
BEGIN:VEVENT
DTSTART;VALUE=DATE:20241019
DTEND;VALUE=DATE:20241020
DTSTAMP:20260424T113640
CREATED:20241016T144726Z
LAST-MODIFIED:20241016T144726Z
UID:14761-1729296000-1729382399@vegmichigan.org
SUMMARY:MSU Tailgate
DESCRIPTION:We will serve plant-based samples and give out information about the environmental benefits of plant-based eating near the stadium to the large crowds of people who will be out for the MSU football game.
URL:https://vegmichigan.org/event/msu-tailgate-2/
ATTACH;FMTTYPE=image/jpeg:https://vegmichigan.org/wp-content/uploads/2024/09/MSU-pic-scaled.jpg
END:VEVENT
BEGIN:VEVENT
DTSTART;VALUE=DATE:20241020
DTEND;VALUE=DATE:20241021
DTSTAMP:20260424T113640
CREATED:20240829T154419Z
LAST-MODIFIED:20240829T154751Z
UID:14461-1729382400-1729468799@vegmichigan.org
SUMMARY:FIRST UNITARIAN UNIVERSALIST CONGREGATION PRESENTATION\, FOOD SAMPLING\, & PLEDGE
DESCRIPTION:FIRST UNITARIAN UNIVERSALIST CONGREGATION PRESENTATION\, FOOD SAMPLING\, & PLEDGE\n\nWe will be giving a presentation on climate change and our food choices to the congregation\, offering plant-based food samples\, and signing up participants for our 30-Day Plant-Based Pledge.
URL:https://vegmichigan.org/event/14461/
CATEGORIES:A2Zero webpage
ATTACH;FMTTYPE=image/jpeg:https://vegmichigan.org/wp-content/uploads/2024/08/UU-Presentation-scaled.jpg
END:VEVENT
BEGIN:VEVENT
DTSTART;TZID=America/New_York:20241024T163000
DTEND;TZID=America/New_York:20241024T173000
DTSTAMP:20260424T113640
CREATED:20240722T152909Z
LAST-MODIFIED:20240722T152909Z
UID:14270-1729787400-1729791000@vegmichigan.org
SUMMARY:PLANT-BASED 101 PRESENTATION IN OSCODA
DESCRIPTION:PLANT-BASED 101 PRESENTATION IN OSCODA\n\nVegMichigan will provide a Plant-Based 101 presentation and provide a plant-based tasting. Additionally\, attendees will have the opportunity to take action on MI S.B. 275\, to prevent the incentivizing of factory farming expansion in Michigan. \n\nJoin us! – Robert J. Parks Library\, 6010 N Skeel Ave\, Oscoda\, MI 48750
URL:https://vegmichigan.org/event/plant-based-101-presentation-in-oscoda/
LOCATION:Robert J. Parks Library\, 6010 N Skeel Ave\, Oscoda\, MI 48750
ATTACH;FMTTYPE=image/jpeg:https://vegmichigan.org/wp-content/uploads/2024/07/Pic-for-Robert-J.-Parks-Library-2-scaled.jpg
END:VEVENT
BEGIN:VEVENT
DTSTART;VALUE=DATE:20241026
DTEND;VALUE=DATE:20241027
DTSTAMP:20260424T113640
CREATED:20240815T152437Z
LAST-MODIFIED:20240827T193044Z
UID:14375-1729900800-1729987199@vegmichigan.org
SUMMARY:U-M TAILGATE PARTY
DESCRIPTION:U-M TAILGATE PARTY\n\nWe will serve plant-based samples and give out information about the environmental benefits of plant-based eating near the stadium to the large crowds of people who will be out for the U-M football game.
URL:https://vegmichigan.org/event/michigan-state-tailgate-party/
CATEGORIES:A2Zero webpage
ATTACH;FMTTYPE=image/jpeg:https://vegmichigan.org/wp-content/uploads/2024/08/U-M-Tailgate-1-scaled.jpg
END:VEVENT
END:VCALENDAR