BEGIN:VCALENDAR
VERSION:2.0
PRODID:-//VegMichigan - ECPv5.16.1.1//NONSGML v1.0//EN
CALSCALE:GREGORIAN
METHOD:PUBLISH
X-ORIGINAL-URL:https://vegmichigan.org
X-WR-CALDESC:Events for VegMichigan
REFRESH-INTERVAL;VALUE=DURATION:PT1H
X-Robots-Tag:noindex
X-PUBLISHED-TTL:PT1H
BEGIN:VTIMEZONE
TZID:America/New_York
BEGIN:DAYLIGHT
TZOFFSETFROM:-0500
TZOFFSETTO:-0400
TZNAME:EDT
DTSTART:20250309T070000
END:DAYLIGHT
BEGIN:STANDARD
TZOFFSETFROM:-0400
TZOFFSETTO:-0500
TZNAME:EST
DTSTART:20251102T060000
END:STANDARD
END:VTIMEZONE
BEGIN:VEVENT
DTSTART;TZID=America/New_York:20250108T173000
DTEND;TZID=America/New_York:20250108T190000
DTSTAMP:20260424T164654
CREATED:20241219T173243Z
LAST-MODIFIED:20241220T220828Z
UID:15036-1736357400-1736362800@vegmichigan.org
SUMMARY:ANN ARBOR DINNER MEETUP AT ZINGERMAN'S (PRE-REGISTRATION REQUIRED)
DESCRIPTION:ANN ARBOR DINNER MEETUP AT ZINGERMAN’S (PRE-REGISTRATION REQUIRED)\n\n\nWe are beyond thrilled to host a dinner at the iconic Zingerman’s Delicatessen as we collaborate with them to offer THREE plant-based sandwich specials for Veganuary!\n\n\nPRE-REGISTRATION IS REQUIRED FOR THIS EVENT! Please click here to reserve your spot and select your sandwich.
URL:https://vegmichigan.org/event/15036/
LOCATION:Zingerman’s Delicatessen\, 422 Detroit Street Ann Arbor\, MI 48104
CATEGORIES:A2Zero webpage
ATTACH;FMTTYPE=image/jpeg:https://vegmichigan.org/wp-content/uploads/2024/12/Sandwich_SOM_CauliBahnVe_January_2024_16x9_WEB-scaled.jpg
END:VEVENT
BEGIN:VEVENT
DTSTART;TZID=America/New_York:20250114T180000
DTEND;TZID=America/New_York:20250114T193000
DTSTAMP:20260424T164654
CREATED:20241217T205642Z
LAST-MODIFIED:20241217T205642Z
UID:15000-1736877600-1736883000@vegmichigan.org
SUMMARY:ALLEN PARK PUBLIC LIBRARY PRESENTATION & FOOD SAMPLING
DESCRIPTION:ALLEN PARK PUBLIC LIBRARY PRESENTATION & FOOD SAMPLING\n\nAllen Park Public Library\, 8100 Allen Rd\, Allen Park\, MI 48101\n\nVegMichigan will be giving a presentation on the benefits of plant-based eating\, and offering plant-based food samples to attendees.
URL:https://vegmichigan.org/event/15000/
LOCATION:Allen Park Public Library\, 8100 Allen Rd\, Allen Park\, MI 48101
ATTACH;FMTTYPE=image/jpeg:https://vegmichigan.org/wp-content/uploads/2024/12/Allen-Park-scaled.jpg
END:VEVENT
BEGIN:VEVENT
DTSTART;VALUE=DATE:20250115
DTEND;VALUE=DATE:20250116
DTSTAMP:20260424T164654
CREATED:20241204T144929Z
LAST-MODIFIED:20241204T144929Z
UID:14980-1736899200-1736985599@vegmichigan.org
SUMMARY:Presentation for MSU Food Science Club
DESCRIPTION:
URL:https://vegmichigan.org/event/presentation-for-msu-food-science-club/
ATTACH;FMTTYPE=image/png:https://vegmichigan.org/wp-content/uploads/2024/12/Food-Science-Club-Thumbnail.png
END:VEVENT
BEGIN:VEVENT
DTSTART;TZID=America/New_York:20250116T183000
DTEND;TZID=America/New_York:20250116T200000
DTSTAMP:20260424T164654
CREATED:20241217T210347Z
LAST-MODIFIED:20241217T210347Z
UID:15005-1737052200-1737057600@vegmichigan.org
SUMMARY:STERLING HEIGHTS DINNER MEETUP AT IKE'S RESTAURANT
DESCRIPTION:STERLING HEIGHTS DINNER MEETUP AT IKE’S RESTAURANT\n\nHave dinner with us at Ike’s\, a modern Lebanese restaurant offering a dedicated Vegetarian/Vegan menu along with a variety of menu items which can be made vegan upon request.\n\n\nRSVP in our Meetup group below\n\nhttps://www.meetup.com/vegmichigan-meetup/events/305134013/?slug=vegmichigan-meetup&isFirstPublish=true
URL:https://vegmichigan.org/event/sterling-heights-dinner-meetup-at-ikes-restaurant/
LOCATION:Ike’s Restaurant\,  38550 Van Dyke Ave Sterling Heights\, MI 48312
ATTACH;FMTTYPE=image/png:https://vegmichigan.org/wp-content/uploads/2024/12/Ikes.png
END:VEVENT
BEGIN:VEVENT
DTSTART;TZID=America/New_York:20250121T170000
DTEND;TZID=America/New_York:20250121T190000
DTSTAMP:20260424T164654
CREATED:20241217T150614Z
LAST-MODIFIED:20250120T212809Z
UID:14993-1737478800-1737486000@vegmichigan.org
SUMMARY:TRAVERSE CITY - VEGAN KITCHEN TAKEOVER AT THE LITTLE FLEET! CANCELLED!
DESCRIPTION:TRAVERSE CITY – VEGAN KITCHEN TAKEOVER AT THE LITTLE FLEET! \nJoin us for some great food and a good time! The Little Fleet in Traverse City is hosting Street Beet Vegan (SBV) for a kitchen takeover. SBV is a Detroit based vegan restaurant that is famous for their plant-based twists on classic comfort foods. \nLet’s show our support for Little Fleet and SBV by providing them with a full house for the event! \nWe will be there on Tuesday\, January 21st beginning at 5pm. Hope to see you there! \nPlease RSVP on our Meetup Group – https://www.meetup.com/vegmichigan-meetup/events/305055629/?eventOrigin=group_upcoming_events
URL:https://vegmichigan.org/event/traverse-city-vegan-kitchen-takeover-at-the-little-fleet/
LOCATION:The Little Fleet 440 E Front St · Traverse City\, MI
ATTACH;FMTTYPE=image/png:https://vegmichigan.org/wp-content/uploads/2024/12/Screenshot-2024-12-17-at-10.02.16 AM.png
END:VEVENT
BEGIN:VEVENT
DTSTART;TZID=America/New_York:20250125T143000
DTEND;TZID=America/New_York:20250125T153000
DTSTAMP:20260424T164654
CREATED:20241203T180411Z
LAST-MODIFIED:20241203T202127Z
UID:14965-1737815400-1737819000@vegmichigan.org
SUMMARY:VegMichigan: Eating for Health\, Compassion\, and Sustainability at Edison Detroit Public Library
DESCRIPTION:What if one simple change could boost your health\, help the planet\, and protect animals? VegMichigan is here to show you how eating more plant-based meals does all that—and more! We’ll share easy tips for making the switch and inspire you with tasty\, practical ideas to get started. Free appetizers will be served.\n\nRegister on Eventbrite.
URL:https://vegmichigan.org/event/vegmichigan-eating-for-health-compassion-and-sustainability/
LOCATION:Edison Detroit Public Library\, 18400 Joy Road\, Detroit\, MI\, 48228\, 18400 Joy Rd.\, Detroit\, MI\, 48228\, United States
ATTACH;FMTTYPE=image/png:https://vegmichigan.org/wp-content/uploads/2024/12/Detroit-Library-Program-Pic.png
END:VEVENT
BEGIN:VEVENT
DTSTART;TZID=America/New_York:20250128T170000
DTEND;TZID=America/New_York:20250128T190000
DTSTAMP:20260424T164654
CREATED:20241219T152713Z
LAST-MODIFIED:20241219T152713Z
UID:15030-1738083600-1738090800@vegmichigan.org
SUMMARY:TRAVERSE CITY - "BEAN-THEMED" POP-UP AT THE LITTLE FLEET
DESCRIPTION:TRAVERSE CITY – “BEAN-THEMED” POP-UP AT THE LITTLE FLEET \nJoin us for a special “bean-themed” pop-up at the Little Fleet. The menu will feature delicious\, heart healthy options like Sopes with Mayocoba refried beans and guacamole salad\, Tuscan gigante beans with cashew cream and crusty bread\, Beanies and (tofu) weenies for the kids and fermented black bean brownies for dessert. \nLet’s show our support for Little Fleet’s Veganuary menus by providing them with a full house for the event! \nWe will be there on Tuesday\, January 28th beginning at 5pm. Hope to see you there! \nPlease RSVP in our Meetup group by clicking this link – https://www.meetup.com/vegmichigan-meetup/events/305087296/?eventOrigin=group_events_list \n 
URL:https://vegmichigan.org/event/traverse-city-bean-themed-pop-up-at-the-little-fleet/
LOCATION:The Little Fleet 448 E. Front Street · Traverse City\, MI
ATTACH;FMTTYPE=image/png:https://vegmichigan.org/wp-content/uploads/2024/12/Screenshot-2024-12-19-at-10.25.52 AM.png
END:VEVENT
BEGIN:VEVENT
DTSTART;TZID=America/New_York:20250130T180000
DTEND;TZID=America/New_York:20250130T193000
DTSTAMP:20260424T164654
CREATED:20241218T170822Z
LAST-MODIFIED:20241218T170822Z
UID:15026-1738260000-1738265400@vegmichigan.org
SUMMARY:DETROIT DINNER MEETUP AT IMA IZAKAYA
DESCRIPTION:DETROIT DINNER MEETUP AT IMA IZAKAYA \nBeat the cold with a comforting bowl of amazing noodles! And don’t forget to try the dumplings and dessert. Ima Izakaya is a 2023 James Beard nominee for Best Restaurant in the Great Lakes region\, and they have several delicious plant-based options to choose from. \nPlease RSVP here.
URL:https://vegmichigan.org/event/detroit-dinner-meetup-at-ima-izakaya/
LOCATION:Ima Izakaya\, 2100 Michigan Ave\, Detroit\, MI 48216\, 2100 Michigan Ave\, Detroit\, MI\, 48216\, United States
ATTACH;FMTTYPE=image/jpeg:https://vegmichigan.org/wp-content/uploads/2024/12/ima.jpg
END:VEVENT
BEGIN:VEVENT
DTSTART;TZID=America/New_York:20250131T120000
DTEND;TZID=America/New_York:20250131T133000
DTSTAMP:20260424T164654
CREATED:20241219T173520Z
LAST-MODIFIED:20241220T220733Z
UID:15041-1738324800-1738330200@vegmichigan.org
SUMMARY:ANN ARBOR LUNCH MEETUP AT ZINGERMAN'S (PRE-REGISTRATION REQUIRED)
DESCRIPTION:ANN ARBOR LUNCH MEETUP AT ZINGERMAN’S (PRE-REGISTRATION REQUIRED)\n\n\nWe are beyond thrilled to host a lunch at the iconic Zingerman’s Delicatessen as we collaborate with them to offer THREE plant-based sandwich specials for Veganuary!\n\n\nPRE-REGISTRATION IS REQUIRED FOR THIS EVENT! Please click here to reserve your spot and select your sandwich.
URL:https://vegmichigan.org/event/ann-arbor-lunch-meetup-at-zingermans-pre-registration-required/
LOCATION:Zingerman’s Delicatessen\, 422 Detroit Street Ann Arbor\, MI 48104
CATEGORIES:A2Zero webpage
ATTACH;FMTTYPE=image/jpeg:https://vegmichigan.org/wp-content/uploads/2024/12/Sandwich_SOM_AmazingGraceRodgerVersion_January_2024_16x9_WEB-scaled.jpg
END:VEVENT
END:VCALENDAR