BEGIN:VCALENDAR
VERSION:2.0
PRODID:-//VegMichigan - ECPv5.16.1.1//NONSGML v1.0//EN
CALSCALE:GREGORIAN
METHOD:PUBLISH
X-WR-CALNAME:VegMichigan
X-ORIGINAL-URL:https://vegmichigan.org
X-WR-CALDESC:Events for VegMichigan
REFRESH-INTERVAL;VALUE=DURATION:PT1H
X-Robots-Tag:noindex
X-PUBLISHED-TTL:PT1H
BEGIN:VTIMEZONE
TZID:America/New_York
BEGIN:DAYLIGHT
TZOFFSETFROM:-0500
TZOFFSETTO:-0400
TZNAME:EDT
DTSTART:20250309T070000
END:DAYLIGHT
BEGIN:STANDARD
TZOFFSETFROM:-0400
TZOFFSETTO:-0500
TZNAME:EST
DTSTART:20251102T060000
END:STANDARD
END:VTIMEZONE
BEGIN:VEVENT
DTSTART;VALUE=DATE:20250204
DTEND;VALUE=DATE:20250205
DTSTAMP:20260424T182922
CREATED:20241217T210959Z
LAST-MODIFIED:20250121T193257Z
UID:15009-1738627200-1738713599@vegmichigan.org
SUMMARY:WASHTENAW COMMUNITY COLLEGE WELCOME DAY
DESCRIPTION:WASHTENAW COMMUNITY COLLEGE WELCOME DAY \nVegMichigan will be tabling at WCC’s Welcome Day event\, sharing information about the connection between food and climate\, and signing up participants for our 30-Day Plant-Based Pledge.
URL:https://vegmichigan.org/event/washtenaw-community-college-welcome-day/
CATEGORIES:A2Zero webpage
ATTACH;FMTTYPE=image/jpeg:https://vegmichigan.org/wp-content/uploads/2024/12/WCC-Welcome-Day-scaled.jpeg
END:VEVENT
BEGIN:VEVENT
DTSTART;VALUE=DATE:20250205
DTEND;VALUE=DATE:20250206
DTSTAMP:20260424T182922
CREATED:20250108T183138Z
LAST-MODIFIED:20250108T183204Z
UID:15052-1738713600-1738799999@vegmichigan.org
SUMMARY:Madonna University Animal Ethics Class Guest Lecture
DESCRIPTION:
URL:https://vegmichigan.org/event/madonna-university-animal-ethics-class-guest-lecture/
ATTACH;FMTTYPE=image/png:https://vegmichigan.org/wp-content/uploads/2025/01/Madonna-University.png
END:VEVENT
BEGIN:VEVENT
DTSTART;TZID=America/New_York:20250213T180000
DTEND;TZID=America/New_York:20250213T193000
DTSTAMP:20260424T182922
CREATED:20241217T212752Z
LAST-MODIFIED:20241217T212940Z
UID:15019-1739469600-1739475000@vegmichigan.org
SUMMARY:YPSILANTI DINNER MEETUP AT PLANT BASED CONEYS
DESCRIPTION:YPSILANTI DINNER MEETUP AT PLANT BASED CONEYS \n  \nWho’s ready for some plant-based coney dogs? Come out and enjoy Plant Based Coneys 100% vegan menu with hot dogs\, Mac and cheese\, chili and more! \n  \nRSVP on our Meetup page required. RSVP below. \nhttps://www.meetup.com/vegmichigan-meetup/events/305135248/?eventOrigin=group_events_list
URL:https://vegmichigan.org/event/ypsilanti-dinner-meetup-at-plant-based-coneys/
LOCATION:Plant Based Coneys\, 42 E Cross St\, Ypsilanti\, MI 48198
CATEGORIES:A2Zero webpage
ATTACH;FMTTYPE=image/png:https://vegmichigan.org/wp-content/uploads/2024/12/Screenshot-2024-12-17-at-3.49.53-PM.png
END:VEVENT
BEGIN:VEVENT
DTSTART;TZID=America/New_York:20250215T130000
DTEND;TZID=America/New_York:20250215T150000
DTSTAMP:20260424T182922
CREATED:20250114T165029Z
LAST-MODIFIED:20250114T165029Z
UID:15056-1739624400-1739631600@vegmichigan.org
SUMMARY:TRAVERSE CITY PLANT-BASED PIZZA PARTY!
DESCRIPTION:TRAVERSE CITY PLANT-BASED PIZZA PARTY! \nJoin us for a plant-based pizza party! Firebird Pizza features fully vegan pizza options from their crust to their cheese and we’ll be hosting a sampling of the endless\, delicious options. \nEveryone is welcome no matter your regular food preferences but it is a requirement that everyone eats a vegan meal at this event. \nWe’ll be there from 1:00 pm – 3pm. \nCheck out their menu: Traverse City’s Favorite Family-Operated Pizza Spot | Firebird Pizza \nRSVP on Meetup – RSVP HERE
URL:https://vegmichigan.org/event/traverse-city-pizza-party/
ATTACH;FMTTYPE=image/png:https://vegmichigan.org/wp-content/uploads/2025/01/Screenshot-2025-01-14-at-11.49.40 AM.png
END:VEVENT
BEGIN:VEVENT
DTSTART;TZID=America/New_York:20250219T173000
DTEND;TZID=America/New_York:20250219T190000
DTSTAMP:20260424T182922
CREATED:20250121T150716Z
LAST-MODIFIED:20250121T150716Z
UID:15100-1739986200-1739991600@vegmichigan.org
SUMMARY:DETROIT - DINNER MEETUP AT GRANDMA BOB'S HANDMADE PIZZA
DESCRIPTION:DETROIT – DINNER MEETUP AT GRANDMA BOB’S HANDMADE PIZZA\n\nCraving pizza? We’ve got you covered! Come out to Grandma Bob’s for delicious plant-based pizza\, cheese bread\, caesar salad\, and milkshakes! All vegan\, all amazing!\n\nRSVP Required! RSVP in our Meetup group by clicking the link below.\nhttps://www.meetup.com/vegmichigan-meetup/events/305725653/?slug=vegmichigan-meetup&isFirstPublish=true
URL:https://vegmichigan.org/event/detroit-dinner-meetup-at-grandma-bobs-handmade-pizza/
LOCATION:Grandma Bob’s Handmade Pizza\, 2135 Michigan Ave\, Detroit\, MI 48216
ATTACH;FMTTYPE=image/jpeg:https://vegmichigan.org/wp-content/uploads/2025/01/grandma-bobs.jpg
END:VEVENT
BEGIN:VEVENT
DTSTART;TZID=America/New_York:20250220T183000
DTEND;TZID=America/New_York:20250220T193000
DTSTAMP:20260424T182922
CREATED:20250131T181406Z
LAST-MODIFIED:20250131T181502Z
UID:15150-1740076200-1740079800@vegmichigan.org
SUMMARY:PLANT-BASED COOKING AT HOME (VIRTUAL COOKING DEMO)
DESCRIPTION:PLANT-BASED COOKING AT HOME (VIRTUAL COOKING DEMO) \nJoin us for a virtual cooking demo by Certified Personal Chef and Plant-Based Culinary Instructor Vicki Brett-Gach in partnership with the Novi Public Library! \nGet the ingredients ahead of time and cook along with Vicki if you want! Or just sit back\, enjoy watching the demo in the comfort of your home and make the recipes later on your own time. Check out the recipes HERE. \nRegister with the Novi Public Library to receive the Zoom link – https://novipl.librarycalendar.com/event/cooking-home-virtual-program-9997 \n  \nAbout the Presenter \nVicki Brett-Gach is a Certified Personal Chef\, Master-Certified Vegan Lifestyle Coach\, Plant-Based Culinary Instructor\, and the author of “The Plant-Based for Life Cookbook: Deliciously Simple Recipes to Nourish\, Comfort\, Energize and Renew.” \nVicki is Forks Over Knives Plant-Based Certified\, and earned a Certificate in Plant-Based Nutrition through the T. Colin Campbell Center for Nutrition Studies. She is trained in Dietary Therapy for Reversing Common Diseases\, and holds certificates in Wellness Counseling (through Cornell University)\, and in Culinary Coaching (through Harvard Medical School and The Institute of Lifestyle Medicine). \nAs a coach\, Vicki works remotely with individual clients across the country\, helping them prevent and reverse health challenges and chronic conditions\, and teaches whole food plant-based cooking classes to groups of all sizes\, with a focus on helping people learn how to make eating healthy EASY. \nVicki is the creator of the Ann Arbor Vegan Kitchen blog\, and her recipes have been featured in multiple magazines and cookbooks\, including Forks Over Knives Magazine\, Health Science\, VegWorld Magazine\, and Global Vegan. Stay connected with Vicki at AnnArborVeganKitchen.com\, for new recipes as soon as they are published\, for information about her vegan coaching practice\, and for details about “The Plant-Based for Life Cookbook” – published through Brooklyn Writer’s Press.
URL:https://vegmichigan.org/event/plant-based-cooking-at-home-virtual-cooking-demo/
ATTACH;FMTTYPE=image/jpeg:https://vegmichigan.org/wp-content/uploads/2025/01/DSC07894.jpeg
END:VEVENT
BEGIN:VEVENT
DTSTART;VALUE=DATE:20250225
DTEND;VALUE=DATE:20250226
DTSTAMP:20260424T182922
CREATED:20250120T154256Z
LAST-MODIFIED:20250129T194702Z
UID:15093-1740441600-1740527999@vegmichigan.org
SUMMARY:PitE Club at U-M Presentation and Pledge
DESCRIPTION:
URL:https://vegmichigan.org/event/pite-club-at-u-m-presentation-and-pledge/
CATEGORIES:A2Zero webpage
ATTACH;FMTTYPE=image/jpeg:https://vegmichigan.org/wp-content/uploads/2025/01/Pledge-Bags.jpeg
END:VEVENT
BEGIN:VEVENT
DTSTART;VALUE=DATE:20250228
DTEND;VALUE=DATE:20250301
DTSTAMP:20260424T182922
CREATED:20250130T160519Z
LAST-MODIFIED:20250130T160835Z
UID:15145-1740700800-1740787199@vegmichigan.org
SUMMARY:Tabling at MSU Lifestyle Medicine Conference
DESCRIPTION:We will provide literature and information about the health benefits of plant-based eating at the MSU Lifestyle Medicine Conference. We will also give out free healthy\, plant-based samples.
URL:https://vegmichigan.org/event/tabling-at-msu-lifestyle-medicine-conference/
ATTACH;FMTTYPE=image/jpeg:https://vegmichigan.org/wp-content/uploads/2025/01/IMG_3837-scaled.jpeg
END:VEVENT
END:VCALENDAR