BEGIN:VCALENDAR
VERSION:2.0
PRODID:-//VegMichigan - ECPv5.16.1.1//NONSGML v1.0//EN
CALSCALE:GREGORIAN
METHOD:PUBLISH
X-WR-CALNAME:VegMichigan
X-ORIGINAL-URL:https://vegmichigan.org
X-WR-CALDESC:Events for VegMichigan
REFRESH-INTERVAL;VALUE=DURATION:PT1H
X-Robots-Tag:noindex
X-PUBLISHED-TTL:PT1H
BEGIN:VTIMEZONE
TZID:America/New_York
BEGIN:DAYLIGHT
TZOFFSETFROM:-0500
TZOFFSETTO:-0400
TZNAME:EDT
DTSTART:20250309T070000
END:DAYLIGHT
BEGIN:STANDARD
TZOFFSETFROM:-0400
TZOFFSETTO:-0500
TZNAME:EST
DTSTART:20251102T060000
END:STANDARD
END:VTIMEZONE
BEGIN:VEVENT
DTSTART;TZID=America/New_York:20250308T163000
DTEND;TZID=America/New_York:20250308T183000
DTSTAMP:20260424T201400
CREATED:20250213T212607Z
LAST-MODIFIED:20250214T124357Z
UID:15268-1741451400-1741458600@vegmichigan.org
SUMMARY:Alpena -  DINNER MEETUP AT FRIENDLY FOODEES
DESCRIPTION:NORTHEAST MICHIGAN MEETUP AT FRIENDLY FOODEES \nJoin our new Northeast VegMichigan Chapter for their first meetup — a casual\, dining experience at Friendly Foodees! All are welcome to enjoy delicious plant-based food\, connect with others\, and learn more about our community and resources. \nRSVP here to reserve your spot – https://www.meetup.com/vegmichigan-meetup/events/306159607/?eventOrigin=group_upcoming_events
URL:https://vegmichigan.org/event/northeast-michigan-meetup-at-friendly-foodees/
LOCATION:108 N. 3rd Ave.\, Alpena\, MI
ATTACH;FMTTYPE=image/jpeg:https://vegmichigan.org/wp-content/uploads/2025/02/Sushi-Friendly-Foodees.jpg
END:VEVENT
BEGIN:VEVENT
DTSTART;TZID=America/New_York:20250309T130000
DTEND;TZID=America/New_York:20250309T150000
DTSTAMP:20260424T201400
CREATED:20250130T152331Z
LAST-MODIFIED:20250228T123406Z
UID:15135-1741525200-1741532400@vegmichigan.org
SUMMARY:Ann Arbor - Lunch Meetup at Red Lotus
DESCRIPTION:Looking for an elegant\, yet casual full-service dining experience? Join us at Red Lotus\, a recently opened companion restaurant to Taste Kitchen\, in downtown Ann Arbor with a plant-based seasonal menu offering a fusion of international influences. They have delicious dishes to choose from including the Vegan Beetroot Carpaccio and Vegan Laska Noodle. To learn more about Red Lotus see this article from the Ann Arbor Observer. \nPlease RSVP here. \nThis A2ZERO program is hosted by VegMichigan in collaboration with the City of Ann Arbor Office of Sustainability and Innovations. A2ZERO is the City of Ann Arbor’s plan to achieve a just and equitable transition to community-wide carbon neutrality by 2030. By participating\, you are joining a community of climate-friendly food champions! Learn about the connections between food choices and climate\, and more ways you can get involved\, by visiting our website. \nClick here to learn more about A2ZERO\, and many other opportunities to get involved with sustainability in Ann Arbor! \n 
URL:https://vegmichigan.org/event/ann-arbor-lunch-meetup-at-red-lotus/
LOCATION:Red Lotus\, 529 E Liberty St #206\, Ann Arbor\, MI 48104\, 529 E Liberty St #206\, Ann Arbor\, MI\, 48104\, United States
CATEGORIES:A2Zero webpage
ATTACH;FMTTYPE=image/png:https://vegmichigan.org/wp-content/uploads/2025/01/Red-Lotus-Dish-2.png
END:VEVENT
BEGIN:VEVENT
DTSTART;VALUE=DATE:20250312
DTEND;VALUE=DATE:20250313
DTSTAMP:20260424T201400
CREATED:20250201T142706Z
LAST-MODIFIED:20250201T142706Z
UID:15160-1741737600-1741823999@vegmichigan.org
SUMMARY:Madonna University 30-Day Plant-Based Pledge
DESCRIPTION:
URL:https://vegmichigan.org/event/madonna-university-30-day-plant-based-pledge/
ATTACH;FMTTYPE=image/jpeg:https://vegmichigan.org/wp-content/uploads/2025/02/IMG_0396-scaled.jpg
END:VEVENT
BEGIN:VEVENT
DTSTART;TZID=America/New_York:20250313T180000
DTEND;TZID=America/New_York:20250313T193000
DTSTAMP:20260424T201400
CREATED:20241217T211405Z
LAST-MODIFIED:20241217T211405Z
UID:15012-1741888800-1741894200@vegmichigan.org
SUMMARY:ROMULUS PUBLIC LIBRARY CHILDREN'S PROGRAM & FOOD SAMPLING
DESCRIPTION:ROMULUS PUBLIC LIBRARY CHILDREN’S PROGRAM & FOOD SAMPLING\n\nVegMichigan will be hosting a children’s book read aloud\, along with a fun activity and plant-based food samples for children and their families.
URL:https://vegmichigan.org/event/romulus-public-library-childrens-program-food-sampling/
LOCATION:Romulus Public Library\, 11121 Wayne Rd\, Romulus\, MI 48174
ATTACH;FMTTYPE=image/png:https://vegmichigan.org/wp-content/uploads/2024/12/Romulus-Library.png
END:VEVENT
BEGIN:VEVENT
DTSTART;TZID=America/New_York:20250319T180000
DTEND;TZID=America/New_York:20250319T193000
DTSTAMP:20260424T201400
CREATED:20250227T213612Z
LAST-MODIFIED:20250227T213612Z
UID:15351-1742407200-1742412600@vegmichigan.org
SUMMARY:DINNER MEETUP AT LA PITA IN DEARBORN
DESCRIPTION:Join VegMichigan for a delicious\, healthy dinner at La Pita\, a Dearborn staple for 30 years! Treat your taste buds to a variety of Lebanese dishes prepared with a Mediterranean flavor. La Pita has many wonderful plant-based options\, including two vegan combo plates\, and Impossible Kafta! \nRSVP on Meetup required. RSVP here – https://www.meetup.com/vegmichigan-meetup/events/306398831/?eventOrigin=group_upcoming_events
URL:https://vegmichigan.org/event/dinner-meetup-at-la-pita-in-dearborn/
LOCATION:La Pita\, 22681 Newman St\, Dearborn\, MI 48124
ATTACH;FMTTYPE=image/png:https://vegmichigan.org/wp-content/uploads/2025/02/LaPita.png
END:VEVENT
BEGIN:VEVENT
DTSTART;TZID=America/New_York:20250320T183000
DTEND;TZID=America/New_York:20250320T193000
DTSTAMP:20260424T201400
CREATED:20250131T183137Z
LAST-MODIFIED:20250318T142110Z
UID:15154-1742495400-1742499000@vegmichigan.org
SUMMARY:VIRTUAL COOKING DEMO WITH KISA THE VEGANIZER
DESCRIPTION:VIRTUAL COOKING DEMO WITH KISA THE VEGANIZER \nJoin us for a virtual cooking demo with Kisa the Veganizer! \nKisa will focus on three things for her demo. She will veganize a traditional chicken potpie\, she will discuss how to source good options for store-bought vegan food\, and she will share what she has in her pantry and then demonstrate how to make a plant-based butter and plant-based cashew milk. \nCheck out the recipes here! – https://docs.google.com/document/d/10s7gdDjyTOUYz_ghXehIoLa-QupSwQBykf_MYsjf7Ws/edit?usp=sharing \nNo registration required! Join us on Zoom here –  https://us06web.zoom.us/j/82318505955 \nCheck out Kisa on Instagram – https://www.instagram.com/kisatheveganizer/
URL:https://vegmichigan.org/event/virtual-cooking-demo-with-kisa-the-veganizer/
ATTACH;FMTTYPE=image/png:https://vegmichigan.org/wp-content/uploads/2025/01/Untitled-940-x-600-px.png
END:VEVENT
BEGIN:VEVENT
DTSTART;TZID=America/New_York:20250327T183000
DTEND;TZID=America/New_York:20250327T203000
DTSTAMP:20260424T201400
CREATED:20250228T124534Z
LAST-MODIFIED:20250228T125045Z
UID:15316-1743100200-1743107400@vegmichigan.org
SUMMARY:NEW ROOTS INSTITUTE PRESENTATION HOSTED BY CITIZENS CLIMATE LOBBY U-M
DESCRIPTION:New Roots Institute will present on the environmental impact of animal agriculture hosted by Citizens Climate Lobby U-M. VegMichigan will provide plant-based samples from Vegano Italiano and offer students an opportunity to participate in our 30-Day Plant-Based Pledge. \nVegMichigan is participating in this event as an A2ZERO program in collaboration with the City of Ann Arbor Office of Sustainability and Innovations. A2ZERO is the City of Ann Arbor’s plan to achieve a just and equitable transition to community-wide carbon neutrality by 2030. By participating\, you are joining a community of climate-friendly food champions! Learn about the connections between food choices and climate\, and more ways you can get involved\, by visiting our website. \nClick here to learn more about A2ZERO\, and many other opportunities to get involved with sustainability in Ann Arbor!
URL:https://vegmichigan.org/event/citizens-climate-lobby-u-m-and-new-roots-institute-presentation/
LOCATION:Central Campus Classroom Building\, 1225 Geddes Ave\, Ann Arbor\, MI 48109\, 1225 Geddes Ave.\, Ann Arbor\, MI\, 48109\, United States
CATEGORIES:A2Zero webpage
ATTACH;FMTTYPE=image/jpeg:https://vegmichigan.org/wp-content/uploads/2025/01/Pledge-Bags.jpeg
END:VEVENT
BEGIN:VEVENT
DTSTART;VALUE=DATE:20250331
DTEND;VALUE=DATE:20250401
DTSTAMP:20260424T201400
CREATED:20250322T161648Z
LAST-MODIFIED:20250322T161838Z
UID:15476-1743379200-1743465599@vegmichigan.org
SUMMARY:PLANT FUTURES INITIATIVE U-M VIRTUAL PANEL
DESCRIPTION:VegMichigan will speak on the Plant Futures Initiatives U-M Virtual Panel to discuss our organization and our programs\, and what it is like to work on food sustainability and plant-based living.
URL:https://vegmichigan.org/event/plant-futures-initiative-u-m-virtual-panel/
ATTACH;FMTTYPE=image/jpeg:https://vegmichigan.org/wp-content/uploads/2025/03/IMG_3337-scaled.jpeg
END:VEVENT
END:VCALENDAR